PDS_VERSION_ID = PDS3
/* FILE DATA ELEMENTS */
RECORD_TYPE = UNDEFINED
/* POINTERS TO DATA OBJECTS */
^IMAGE = ("H7234_0000_GR4.TIF")
/* IDENTIFICATION DATA ELEMENTS */
DATA_SET_ID = "MEX-M-HRSC-4-REFDR-MAPPROJECT-EXT3-V4.0"
DATA_SET_NAME = "MARS EXPRESS HRSC MAP PROJECTED REFDR EXTENSION3 V4.0"
DETECTOR_ID = MEX_HRSC_GREEN
EVENT_TYPE = "MARS-REGIONAL-MAPPING-Vo-Eo"
INSTRUMENT_HOST_ID = MEX
INSTRUMENT_HOST_NAME = "MARS EXPRESS"
INSTRUMENT_ID = HRSC
INSTRUMENT_NAME = "HIGH RESOLUTION STEREO CAMERA"
MISSION_NAME = "MARS EXPRESS"
MISSION_PHASE_NAME = ME_Phase_18
PROCESSING_LEVEL_ID = 4
PRODUCT_CREATION_TIME = 2023-02-01T22:33:16.000Z
PRODUCT_ID = "H7234_0000_GR4.TIF"
RELEASE_ID = 0002
REVISION_ID = 0000
/* QUALITY DATA ELEMENTS */
DATA_QUALITY_ID = 1
DATA_QUALITY_DESC = "Data calculated based on original SPICE kernels"
/* TIME DATA ELEMENTS */
SPACECRAFT_CLOCK_START_COUNT = "1/0199083194.09062"
SPACECRAFT_CLOCK_STOP_COUNT = "1/0199083482.56336"
START_TIME = 2009-08-23T04:53:42.074Z
STOP_TIME = 2009-08-23T04:57:14.714Z
/* ORBITAL DATA ELEMENTS */
ASCENDING_NODE_LONGITUDE = 79.49
MAXIMUM_RESOLUTION = 0.1093
FOOTPRINT_POINT_LATITUDE = (4.19423,4.19804,4.20045,4.20273,4.2028 ,4.20201,3.82525,3.57415,3.32306, 3.07201,2.82092,2.57004,2.31926,1.94322 ,1.69268,1.44211,1.19175,0.691525, 0.316729,-0.307498,-0.806132,-1.30429, -1.80198,-2.29895,-2.58362,-2.87972, -3.17556,-3.47117,-3.76662,-4.06186, -4.35696,-4.6517,-4.94616,-5.24035, -5.5343,-5.82801,-6.12137,-6.41449, -6.70739,-6.99984,-7.292,-7.58397, -7.87563,-8.16695,-8.60728,-8.90568, -9.20373,-9.35264,-9.43828,-9.44188, -9.44611,-9.44992,-9.44999,-9.44801, -9.15023,-8.85208,-8.40595,-8.11492, -7.8234,-7.53159,-7.23947,-6.94707, -6.65437,-6.36148,-6.06817,-5.77466, -5.48092,-5.18678,-4.89248,-4.59792, -4.30305,-4.008,-3.71275,-3.41729, -3.12149,-2.82554,-2.52933,-2.25499, -1.7576,-1.25971,-0.761239,-0.262224, 0.112204,0.362123,0.612227,0.862504, 1.23805,1.48843,1.73894,1.98958,2.24025 ,2.49088,2.74195,2.99294,3.24399, 3.49528,3.74661,3.99801,4.12369, 4.19423)
FOOTPRINT_POINT_LONGITUDE = (225.265,224.786,224.452,224.095, 224.084,224.08,224.076,224.074,224.071, 224.068,224.065,224.062,224.058,224.054 ,224.05,224.047,224.043,224.037,224.031 ,224.022,224.015,224.008,224.0,223.992, 223.987,223.982,223.977,223.972,223.967 ,223.961,223.956,223.95,223.944,223.939 ,223.933,223.927,223.921,223.915, 223.908,223.902,223.896,223.89,223.883, 223.877,223.866,223.859,223.852,223.848 ,223.846,224.24,224.745,225.276,225.29, 225.299,225.296,225.294,225.29,225.288, 225.285,225.283,225.281,225.279,225.277 ,225.276,225.274,225.272,225.271,225.27 ,225.268,225.267,225.266,225.265, 225.264,225.264,225.263,225.262,225.262 ,225.261,225.26,225.26,225.259,225.259, 225.259,225.259,225.259,225.258,225.258 ,225.259,225.259,225.259,225.259,225.26 ,225.26,225.26,225.261,225.261,225.261, 225.261,225.262,225.265)
ORBIT_NUMBER = 7234
ORBITAL_ECCENTRICITY = 0.575
ORBITAL_INCLINATION = 86.8
ORBITAL_SEMIMAJOR_AXIS = 8779.11
PERIAPSIS_ALTITUDE = 335.42
PERIAPSIS_ARGUMENT_ANGLE = 169.23
PERIAPSIS_TIME = 2009-08-23T04:52:06.000Z
SPACECRAFT_ORIENTATION = (0.0,-1.0,0.0)
^MEX_ORIENTATION_DESC = "MEX_ORIENTATION_DESC.TXT"
SPACECRAFT_POINTING_MODE = NADIR
^MEX_POINTING_DESC = "MEX_POINTING_DESC.TXT"
RIGHT_ASCENSION = -1e+32
DECLINATION = -1e+32
OFFSET_ANGLE = -1e+32
SPACECRAFT_SOLAR_DISTANCE = 2.2062e+08
TARGET_NAME = MARS
/* CAMERA DATA ELEMENTS */
DETECTOR_TEMPERATURE = 18.3705
FOCAL_PLANE_TEMPERATURE = 8.3794
INST_CMPRS_NAME = "DISCRETE COSINE TRANSFORMATION (DCT)"
INST_CMPRS_RATIO = 12.5063
INST_CMPRS_QUALITY = 0
INST_CMPRS_QUANTZ_TBL_ID = 0
INSTRUMENT_TEMPERATURE = 11.234
LENS_TEMPERATURE = 8.7872
MACROPIXEL_SIZE = 8
MISSING_FRAMES = 0
PIXEL_SUBSAMPLING_FLAG = N
SIGNAL_CHAIN_ID = 2
/* RADIOMETRIC DATA ELEMENTS */
BANDWIDTH = 88.0
CENTER_FILTER_WAVELENGTH = 538.0
RADIANCE_OFFSET = 1.25205
RADIANCE_SCALING_FACTOR = 0.00374326
REFLECTANCE_SCALING_FACTOR = 0.000156866
MEX:REFLECTANCE_OFFSET = 0.0524686
/* IMAGE OBJECT DEFINITIONS */
OBJECT = IMAGE
  INTERCHANGE_FORMAT = BINARY
  LINES = 8092
  LINE_SAMPLES = 868
  SAMPLE_TYPE = UNSIGNED_INTEGER
  SAMPLE_BITS = 8
  BANDS = 1
  BAND_STORAGE_TYPE = BAND_SEQUENTIAL
  MAXIMUM = 255
  MEAN = 122.058
  MINIMUM = 1
  STANDARD_DEVIATION = 17.9883
END_OBJECT = IMAGE
/* MAP OBJECT DEFINITIONS */
OBJECT = IMAGE_MAP_PROJECTION
  ^DATA_SET_MAP_PROJECTION_CATALOG= "DSMAP.CAT"
  A_AXIS_RADIUS = 3396.0
  B_AXIS_RADIUS = 3396.0
  C_AXIS_RADIUS = 3396.0
  CENTER_LATITUDE = 0.0
  CENTER_LONGITUDE = 225.0
  COORDINATE_SYSTEM_NAME = PLANETOGRAPHIC
  COORDINATE_SYSTEM_TYPE = "BODY-FIXED ROTATING"
  EASTERNMOST_LONGITUDE = 225.299
  FIRST_STANDARD_PARALLEL = "N/A"
  LINE_FIRST_PIXEL = 1
  LINE_LAST_PIXEL = 8092
  LINE_PROJECTION_OFFSET = 2493.6875
  MAP_PROJECTION_ROTATION = 0.0
  MAP_PROJECTION_TYPE = SINUSOIDAL
  MAP_RESOLUTION = 592.713803866667
  MAP_SCALE = 0.1
  MAXIMUM_LATITUDE = 4.2028
  MINIMUM_LATITUDE = -9.44999
  POSITIVE_LONGITUDE_DIRECTION = EAST
  REFERENCE_LATITUDE = "N/A"
  REFERENCE_LONGITUDE = "N/A"
  SAMPLE_FIRST_PIXEL = 1
  SAMPLE_LAST_PIXEL = 868
  SAMPLE_PROJECTION_OFFSET = 688.3125
  SECOND_STANDARD_PARALLEL = "N/A"
  WESTERNMOST_LONGITUDE = 223.846
END_OBJECT = IMAGE_MAP_PROJECTION
END
