PDS_VERSION_ID = PDS3
/* FILE DATA ELEMENTS */
RECORD_TYPE = UNDEFINED
/* POINTERS TO DATA OBJECTS */
^IMAGE = ("H7229_0000_GR4.TIF")
/* IDENTIFICATION DATA ELEMENTS */
DATA_SET_ID = "MEX-M-HRSC-4-REFDR-MAPPROJECT-EXT3-V4.0"
DATA_SET_NAME = "MARS EXPRESS HRSC MAP PROJECTED REFDR EXTENSION3 V4.0"
DETECTOR_ID = MEX_HRSC_GREEN
EVENT_TYPE = "MARS-REGIONAL-MAPPING-Im-Fl"
INSTRUMENT_HOST_ID = MEX
INSTRUMENT_HOST_NAME = "MARS EXPRESS"
INSTRUMENT_ID = HRSC
INSTRUMENT_NAME = "HIGH RESOLUTION STEREO CAMERA"
MISSION_NAME = "MARS EXPRESS"
MISSION_PHASE_NAME = ME_Phase_18
PROCESSING_LEVEL_ID = 4
PRODUCT_CREATION_TIME = 2023-02-01T22:33:16.000Z
PRODUCT_ID = "H7229_0000_GR4.TIF"
RELEASE_ID = 0002
REVISION_ID = 0000
/* QUALITY DATA ELEMENTS */
DATA_QUALITY_ID = 1
DATA_QUALITY_DESC = "Data calculated based on original SPICE kernels"
/* TIME DATA ELEMENTS */
SPACECRAFT_CLOCK_START_COUNT = "1/0198959257.07300"
SPACECRAFT_CLOCK_STOP_COUNT = "1/0198959585.15682"
START_TIME = 2009-08-21T18:28:08.685Z
STOP_TIME = 2009-08-21T18:31:55.749Z
/* ORBITAL DATA ELEMENTS */
ASCENDING_NODE_LONGITUDE = 79.59
MAXIMUM_RESOLUTION = 0.0634
FOOTPRINT_POINT_LATITUDE = (-7.36791,-7.36532,-7.36329,-7.3596, -7.35673,-7.35662,-7.35824,-7.73423, -8.23471,-8.73434,-9.23293,-9.74166, -9.99679,-10.2516,-10.506,-10.7664, -11.0275,-11.288,-11.5483,-11.812, -12.0784,-12.3443,-12.6099,-12.8791, -13.1509,-13.4222,-13.6932,-14.1075, -14.3842,-14.6605,-14.9419,-15.374, -15.8,-16.0875,-16.3746,-16.8108, -17.1031,-17.5459,-17.8429,-18.1402, -18.4428,-18.8965,-19.3576,-19.6649, -19.9772,-20.4558,-20.7737,-21.091, -21.2511,-21.347,-21.3499,-21.3528, -21.3547,-21.3556,-21.3565,-21.3568, -21.3568,-21.3555,-20.7189,-20.402, -19.9223,-19.6116,-19.3043,-18.8446, -18.5421,-18.0896,-17.6434,-17.346, -17.0541,-16.7617,-16.4699,-16.183, -15.7531,-15.4694,-15.0369,-14.6147, -14.3384,-14.0617,-13.7852,-13.5145, -13.2432,-12.9709,-12.6993,-12.4338, -12.1679,-11.9017,-11.6361,-11.3758, -11.1152,-10.8545,-10.4648,-10.21, -9.95493,-9.57233,-9.31713,-8.81862, -8.31909,-7.56831,-7.44298,-7.36791)
FOOTPRINT_POINT_LONGITUDE = (9.42843,9.08013,8.82203,8.38386, 8.06106,8.04814,8.04359,8.03531,8.02425 ,8.01285,8.00152,7.98942,7.98346, 7.97756,7.97191,7.96541,7.95855,7.952, 7.94529,7.93828,7.93126,7.92442,7.91746 ,7.91023,7.90268,7.89542,7.88787, 7.87634,7.86842,7.86052,7.85252,7.83975 ,7.82707,7.81812,7.80924,7.79597, 7.78682,7.77098,7.76254,7.75265,7.7423, 7.72698,7.71122,7.70072,7.6897,7.67285, 7.66162,7.65038,7.64462,7.64046,8.03453 ,8.31485,8.68967,9.00823,9.28928,9.6268 ,9.64558,9.6518,9.6369,9.62839,9.61417, 9.60688,9.59967,9.58933,9.58231,9.57241 ,9.56273,9.55702,9.55148,9.54584, 9.54031,9.53488,9.5295,9.52516,9.51662, 9.5082,9.50411,9.4999,9.49715,9.49485, 9.49109,9.48591,9.4812,9.47813,9.47483, 9.47175,9.46839,9.46527,9.46215,9.45928 ,9.45508,9.45242,9.44991,9.44717, 9.44476,9.44063,9.43659,9.43139,9.43057 ,9.42843)
ORBIT_NUMBER = 7229
ORBITAL_ECCENTRICITY = 0.575
ORBITAL_INCLINATION = 86.79
ORBITAL_SEMIMAJOR_AXIS = 8772.25
PERIAPSIS_ALTITUDE = 335.47
PERIAPSIS_ARGUMENT_ANGLE = 170.1
PERIAPSIS_TIME = 2009-08-21T18:23:47.000Z
SPACECRAFT_ORIENTATION = (0.0,-1.0,0.0)
^MEX_ORIENTATION_DESC = "MEX_ORIENTATION_DESC.TXT"
SPACECRAFT_POINTING_MODE = NADIR
^MEX_POINTING_DESC = "MEX_POINTING_DESC.TXT"
RIGHT_ASCENSION = -1e+32
DECLINATION = -1e+32
OFFSET_ANGLE = -1e+32
SPACECRAFT_SOLAR_DISTANCE = 2.20349e+08
TARGET_NAME = MARS
/* CAMERA DATA ELEMENTS */
DETECTOR_TEMPERATURE = 18.1666
FOCAL_PLANE_TEMPERATURE = 9.195
INST_CMPRS_NAME = "DISCRETE COSINE TRANSFORMATION (DCT)"
INST_CMPRS_RATIO = 10.6972
INST_CMPRS_QUALITY = 0
INST_CMPRS_QUANTZ_TBL_ID = 0
INSTRUMENT_TEMPERATURE = 11.234
LENS_TEMPERATURE = 9.195
MACROPIXEL_SIZE = 4
PIXEL_SUBSAMPLING_FLAG = N
SIGNAL_CHAIN_ID = 2
/* RADIOMETRIC DATA ELEMENTS */
BANDWIDTH = 88.0
CENTER_FILTER_WAVELENGTH = 538.0
RADIANCE_OFFSET = 0.884493
RADIANCE_SCALING_FACTOR = 0.00383159
REFLECTANCE_SCALING_FACTOR = 0.000160175
MEX:REFLECTANCE_OFFSET = 0.0369752
/* IMAGE OBJECT DEFINITIONS */
OBJECT = IMAGE
  INTERCHANGE_FORMAT = BINARY
  LINES = 16597
  LINE_SAMPLES = 2265
  SAMPLE_TYPE = UNSIGNED_INTEGER
  SAMPLE_BITS = 8
  BANDS = 1
  BAND_STORAGE_TYPE = BAND_SEQUENTIAL
  MAXIMUM = 255
  MEAN = 121.689
  MINIMUM = 1
  STANDARD_DEVIATION = 22.665
END_OBJECT = IMAGE
/* MAP OBJECT DEFINITIONS */
OBJECT = IMAGE_MAP_PROJECTION
  ^DATA_SET_MAP_PROJECTION_CATALOG= "DSMAP.CAT"
  A_AXIS_RADIUS = 3396.0
  B_AXIS_RADIUS = 3396.0
  C_AXIS_RADIUS = 3396.0
  CENTER_LATITUDE = 0.0
  CENTER_LONGITUDE = 9.0
  COORDINATE_SYSTEM_NAME = PLANETOGRAPHIC
  COORDINATE_SYSTEM_TYPE = "BODY-FIXED ROTATING"
  EASTERNMOST_LONGITUDE = 9.6518
  FIRST_STANDARD_PARALLEL = "N/A"
  LINE_FIRST_PIXEL = 1
  LINE_LAST_PIXEL = 16597
  LINE_PROJECTION_OFFSET = -8716.375
  MAP_PROJECTION_ROTATION = 0.0
  MAP_PROJECTION_TYPE = SINUSOIDAL
  MAP_RESOLUTION = 1185.42760773333
  MAP_SCALE = 0.05
  MAXIMUM_LATITUDE = -7.35662
  MINIMUM_LATITUDE = -21.3568
  POSITIVE_LONGITUDE_DIRECTION = EAST
  REFERENCE_LATITUDE = "N/A"
  REFERENCE_LONGITUDE = "N/A"
  SAMPLE_FIRST_PIXEL = 1
  SAMPLE_LAST_PIXEL = 2265
  SAMPLE_PROJECTION_OFFSET = 1529.125
  SECOND_STANDARD_PARALLEL = "N/A"
  WESTERNMOST_LONGITUDE = 7.64046
END_OBJECT = IMAGE_MAP_PROJECTION
END
