PDS_VERSION_ID = PDS3
/* FILE DATA ELEMENTS */
RECORD_TYPE = UNDEFINED
/* POINTERS TO DATA OBJECTS */
^IMAGE = ("H7225_0010_S24.TIF")
/* IDENTIFICATION DATA ELEMENTS */
DATA_SET_ID = "MEX-M-HRSC-4-REFDR-MAPPROJECT-EXT3-V4.0"
DATA_SET_NAME = "MARS EXPRESS HRSC MAP PROJECTED REFDR EXTENSION3 V4.0"
DETECTOR_ID = MEX_HRSC_S2
EVENT_TYPE = "MARS-REGIONAL-MAPPING-Im-Fl-Gl"
INSTRUMENT_HOST_ID = MEX
INSTRUMENT_HOST_NAME = "MARS EXPRESS"
INSTRUMENT_ID = HRSC
INSTRUMENT_NAME = "HIGH RESOLUTION STEREO CAMERA"
MISSION_NAME = "MARS EXPRESS"
MISSION_PHASE_NAME = ME_Phase_18
PROCESSING_LEVEL_ID = 4
PRODUCT_CREATION_TIME = 2023-02-01T22:33:16.000Z
PRODUCT_ID = "H7225_0010_S24.TIF"
RELEASE_ID = 0002
REVISION_ID = 0000
/* QUALITY DATA ELEMENTS */
DATA_QUALITY_ID = 1
DATA_QUALITY_DESC = "Data calculated based on original SPICE kernels"
/* TIME DATA ELEMENTS */
SPACECRAFT_CLOCK_START_COUNT = "1/0198859966.09053"
SPACECRAFT_CLOCK_STOP_COUNT = "1/0198860268.12389"
START_TIME = 2009-08-20T14:54:01.979Z
STOP_TIME = 2009-08-20T14:57:48.702Z
/* ORBITAL DATA ELEMENTS */
ASCENDING_NODE_LONGITUDE = 79.66
MAXIMUM_RESOLUTION = 0.035
FOOTPRINT_POINT_LATITUDE = (-7.64466,-7.64539,-7.64389,-7.64036, -7.64023,-7.65656,-7.88587,-8.34258, -8.68988,-8.92356,-9.27267,-9.50572, -9.74156,-9.98085,-10.3333,-10.5691, -10.8108,-11.052,-11.4134,-11.6615, -11.9064,-12.2741,-12.6462,-12.8955, -13.1374,-13.3876,-13.6412,-13.9003, -14.1539,-14.4112,-14.6684,-14.9264, -15.3092,-15.5681,-15.8328,-16.0956, -16.3606,-16.7603,-17.0263,-17.2974, -17.7042,-18.1127,-18.5238,-18.9469, -19.2293,-19.5104,-19.9313,-20.2171, -20.3615,-20.3797,-20.3863,-20.3889, -20.3866,-20.3815,-20.3812,-20.3805, -20.0931,-19.809,-19.5234,-19.2433, -18.8251,-18.5487,-18.2707,-17.86, -17.5852,-17.3141,-16.909,-16.5098, -16.2439,-15.8501,-15.5859,-15.3284, -15.0666,-14.8051,-14.4215,-14.1654, -13.9121,-13.6606,-13.4083,-13.1566, -12.908,-12.5364,-12.2891,-12.0446, -11.7985,-11.5521,-11.311,-11.0712, -10.7152,-10.4763,-10.239,-10.0007, -9.76234,-9.40664,-9.05875,-8.82535, -8.2471,-7.78954,-7.67549,-7.64466)
FOOTPRINT_POINT_LONGITUDE = (52.8683,52.3431,51.8899,51.4227, 51.4086,51.4082,51.4025,51.3908,51.3821 ,51.376,51.3667,51.3607,51.3543,51.3483 ,51.3377,51.3309,51.324,51.3171,51.3067 ,51.3008,51.2934,51.2825,51.2713, 51.2636,51.2541,51.2459,51.238,51.2316, 51.2233,51.2149,51.2066,51.1981,51.1825 ,51.1733,51.1641,51.1545,51.1451,51.13, 51.1196,51.1093,51.0938,51.0768,51.0594 ,51.0445,51.0332,51.0216,51.0019, 50.9897,50.9835,50.9827,51.3759,51.9544 ,52.6995,53.0937,53.1144,53.1219, 53.1122,53.1031,53.0944,53.0856,53.0723 ,53.0639,53.0561,53.0446,53.0377, 53.0308,53.0203,53.01,53.0033,52.9937, 52.9877,52.9813,52.9763,52.9713,52.9634 ,52.9581,52.953,52.9479,52.943,52.9387, 52.9344,52.9273,52.9233,52.9194,52.9159 ,52.9123,52.9087,52.9048,52.8977, 52.8942,52.8913,52.8886,52.8859,52.8826 ,52.878,52.8754,52.8692,52.8644,52.863, 52.8683)
ORBIT_NUMBER = 7225
ORBITAL_ECCENTRICITY = 0.575
ORBITAL_INCLINATION = 86.8
ORBITAL_SEMIMAJOR_AXIS = 8776.96
PERIAPSIS_ALTITUDE = 334.45
PERIAPSIS_ARGUMENT_ANGLE = 170.84
PERIAPSIS_TIME = 2009-08-20T14:49:03.000Z
SPACECRAFT_ORIENTATION = (0.0,-1.0,0.0)
^MEX_ORIENTATION_DESC = "MEX_ORIENTATION_DESC.TXT"
SPACECRAFT_POINTING_MODE = ACROSSTRACK
^MEX_POINTING_DESC = "MEX_POINTING_DESC.TXT"
RIGHT_ASCENSION = -1e+32
DECLINATION = -1e+32
OFFSET_ANGLE = 0.07
SPACECRAFT_SOLAR_DISTANCE = 2.20133e+08
TARGET_NAME = MARS
/* CAMERA DATA ELEMENTS */
DETECTOR_TEMPERATURE = 20.0017
FOCAL_PLANE_TEMPERATURE = 8.9911
INST_CMPRS_NAME = "DISCRETE COSINE TRANSFORMATION (DCT)"
INST_CMPRS_RATIO = 9.80263
INST_CMPRS_QUALITY = 0
INST_CMPRS_QUANTZ_TBL_ID = 0
INSTRUMENT_TEMPERATURE = 12.8652
LENS_TEMPERATURE = 9.3989
MACROPIXEL_SIZE = 2
MISSING_FRAMES = 0
PIXEL_SUBSAMPLING_FLAG = N
SIGNAL_CHAIN_ID = 1
/* RADIOMETRIC DATA ELEMENTS */
BANDWIDTH = 178.0
CENTER_FILTER_WAVELENGTH = 679.0
RADIANCE_OFFSET = 1.98418
RADIANCE_SCALING_FACTOR = 0.0160988
REFLECTANCE_SCALING_FACTOR = 0.00041314
MEX:REFLECTANCE_OFFSET = 0.0509195
/* IMAGE OBJECT DEFINITIONS */
OBJECT = IMAGE
  INTERCHANGE_FORMAT = BINARY
  LINES = 30220
  LINE_SAMPLES = 4319
  SAMPLE_TYPE = UNSIGNED_INTEGER
  SAMPLE_BITS = 8
  BANDS = 1
  BAND_STORAGE_TYPE = BAND_SEQUENTIAL
  MAXIMUM = 255
  MEAN = 98.3737
  MINIMUM = 1
  STANDARD_DEVIATION = 26.4731
END_OBJECT = IMAGE
/* MAP OBJECT DEFINITIONS */
OBJECT = IMAGE_MAP_PROJECTION
  ^DATA_SET_MAP_PROJECTION_CATALOG= "DSMAP.CAT"
  A_AXIS_RADIUS = 3396.0
  B_AXIS_RADIUS = 3396.0
  C_AXIS_RADIUS = 3396.0
  CENTER_LATITUDE = 0.0
  CENTER_LONGITUDE = 52.0
  COORDINATE_SYSTEM_NAME = PLANETOGRAPHIC
  COORDINATE_SYSTEM_TYPE = "BODY-FIXED ROTATING"
  EASTERNMOST_LONGITUDE = 53.1219
  FIRST_STANDARD_PARALLEL = "N/A"
  LINE_FIRST_PIXEL = 1
  LINE_LAST_PIXEL = 30220
  LINE_PROJECTION_OFFSET = -18076.25
  MAP_PROJECTION_ROTATION = 0.0
  MAP_PROJECTION_TYPE = SINUSOIDAL
  MAP_RESOLUTION = 2370.85521546667
  MAP_SCALE = 0.025
  MAXIMUM_LATITUDE = -7.64023
  MINIMUM_LATITUDE = -20.3889
  POSITIVE_LONGITUDE_DIRECTION = EAST
  REFERENCE_LATITUDE = "N/A"
  REFERENCE_LONGITUDE = "N/A"
  SAMPLE_FIRST_PIXEL = 1
  SAMPLE_LAST_PIXEL = 4319
  SAMPLE_PROJECTION_OFFSET = 2031.25
  SECOND_STANDARD_PARALLEL = "N/A"
  WESTERNMOST_LONGITUDE = 50.9827
END_OBJECT = IMAGE_MAP_PROJECTION
END
