PDS_VERSION_ID = PDS3
/* FILE DATA ELEMENTS */
RECORD_TYPE = UNDEFINED
/* POINTERS TO DATA OBJECTS */
^IMAGE = ("H7225_0010_S14.TIF")
/* IDENTIFICATION DATA ELEMENTS */
DATA_SET_ID = "MEX-M-HRSC-4-REFDR-MAPPROJECT-EXT3-V4.0"
DATA_SET_NAME = "MARS EXPRESS HRSC MAP PROJECTED REFDR EXTENSION3 V4.0"
DETECTOR_ID = MEX_HRSC_S1
EVENT_TYPE = "MARS-REGIONAL-MAPPING-Im-Fl-Gl"
INSTRUMENT_HOST_ID = MEX
INSTRUMENT_HOST_NAME = "MARS EXPRESS"
INSTRUMENT_ID = HRSC
INSTRUMENT_NAME = "HIGH RESOLUTION STEREO CAMERA"
MISSION_NAME = "MARS EXPRESS"
MISSION_PHASE_NAME = ME_Phase_18
PROCESSING_LEVEL_ID = 4
PRODUCT_CREATION_TIME = 2023-02-01T22:33:16.000Z
PRODUCT_ID = "H7225_0010_S14.TIF"
RELEASE_ID = 0002
REVISION_ID = 0000
/* QUALITY DATA ELEMENTS */
DATA_QUALITY_ID = 1
DATA_QUALITY_DESC = "Data calculated based on original SPICE kernels"
/* TIME DATA ELEMENTS */
SPACECRAFT_CLOCK_START_COUNT = "1/0198859966.09053"
SPACECRAFT_CLOCK_STOP_COUNT = "1/0198860268.12389"
START_TIME = 2009-08-20T14:52:48.603Z
STOP_TIME = 2009-08-20T14:56:03.699Z
/* ORBITAL DATA ELEMENTS */
ASCENDING_NODE_LONGITUDE = 79.66
MAXIMUM_RESOLUTION = 0.032
FOOTPRINT_POINT_LATITUDE = (-7.63209,-7.62473,-7.61995,-7.6164, -7.61627,-7.60159,-7.96254,-8.32383, -8.56374,-8.80387,-9.16413,-9.40401, -9.76363,-10.1244,-10.3652,-10.6054, -10.8455,-11.204,-11.7981,-12.2802, -12.6479,-12.8931,-13.1428,-13.3948, -13.7705,-14.0147,-14.268,-14.5171, -14.7714,-15.029,-15.2909,-15.5483, -15.8124,-16.2078,-16.4694,-16.8694, -17.1394,-17.4091,-17.677,-17.9507, -18.3617,-18.6361,-19.055,-19.3353, -19.6155,-19.9047,-20.1922,-20.3351, -20.3511,-20.3514,-20.3542,-20.3582, -20.3614,-20.3643,-20.3644,-20.3638, -19.9354,-19.6494,-19.3695,-19.0888, -18.8073,-18.53,-18.2563,-17.9813, -17.7085,-17.4407,-17.1708,-16.9018, -16.6346,-16.3714,-16.1082,-15.8449, -15.5839,-15.3257,-15.0688,-14.8134, -14.557,-14.3054,-14.053,-13.8019, -13.5494,-13.1724,-12.9289,-12.6811, -12.4368,-12.0704,-11.5936,-11.1139, -10.8728,-10.6272,-10.1499,-9.67147, -9.31209,-8.95275,-8.71286,-8.47281, -8.23192,-7.75118,-7.63044,-7.63209)
FOOTPRINT_POINT_LONGITUDE = (52.8086,52.2499,51.8353,51.4856, 51.4726,51.4728,51.4656,51.4582,51.4534 ,51.4486,51.4411,51.4361,51.4285, 51.4205,51.415,51.4095,51.404,51.3962, 51.3836,51.3724,51.3638,51.3579,51.3506 ,51.3437,51.3348,51.3305,51.3235, 51.3176,51.3115,51.3047,51.2964,51.2894 ,51.2813,51.2703,51.2634,51.2514, 51.2435,51.2355,51.2279,51.2199,51.2079 ,51.1997,51.1871,51.1785,51.1697, 51.1597,51.1502,51.1457,51.1452,51.4977 ,51.7794,52.2375,52.6257,52.9438, 52.9615,52.9679,52.9585,52.9524,52.9465 ,52.9406,52.9346,52.9289,52.9239, 52.9187,52.9141,52.9096,52.9046,52.9001 ,52.8954,52.8911,52.887,52.8829,52.879, 52.8749,52.8714,52.8685,52.8653,52.8619 ,52.8583,52.8553,52.852,52.8473,52.8452 ,52.8418,52.8396,52.836,52.8321,52.8276 ,52.825,52.8211,52.8181,52.8151,52.8129 ,52.8109,52.8096,52.8083,52.8067, 52.8043,52.8035,52.8086)
ORBIT_NUMBER = 7225
ORBITAL_ECCENTRICITY = 0.575
ORBITAL_INCLINATION = 86.8
ORBITAL_SEMIMAJOR_AXIS = 8776.96
PERIAPSIS_ALTITUDE = 334.45
PERIAPSIS_ARGUMENT_ANGLE = 170.84
PERIAPSIS_TIME = 2009-08-20T14:49:03.000Z
SPACECRAFT_ORIENTATION = (0.0,-1.0,0.0)
^MEX_ORIENTATION_DESC = "MEX_ORIENTATION_DESC.TXT"
SPACECRAFT_POINTING_MODE = ACROSSTRACK
^MEX_POINTING_DESC = "MEX_POINTING_DESC.TXT"
RIGHT_ASCENSION = -1e+32
DECLINATION = -1e+32
OFFSET_ANGLE = 0.07
SPACECRAFT_SOLAR_DISTANCE = 2.20133e+08
TARGET_NAME = MARS
/* CAMERA DATA ELEMENTS */
DETECTOR_TEMPERATURE = 18.7783
FOCAL_PLANE_TEMPERATURE = 8.9911
INST_CMPRS_NAME = "DISCRETE COSINE TRANSFORMATION (DCT)"
INST_CMPRS_RATIO = 7.85772
INST_CMPRS_QUALITY = 0
INST_CMPRS_QUANTZ_TBL_ID = 0
INSTRUMENT_TEMPERATURE = 12.8652
LENS_TEMPERATURE = 9.3989
MACROPIXEL_SIZE = 2
MISSING_FRAMES = 1
PIXEL_SUBSAMPLING_FLAG = N
SIGNAL_CHAIN_ID = 1
/* RADIOMETRIC DATA ELEMENTS */
BANDWIDTH = 180.0
CENTER_FILTER_WAVELENGTH = 677.0
RADIANCE_OFFSET = 2.15813
RADIANCE_SCALING_FACTOR = 0.0164057
REFLECTANCE_SCALING_FACTOR = 0.000414773
MEX:REFLECTANCE_OFFSET = 0.0545624
/* IMAGE OBJECT DEFINITIONS */
OBJECT = IMAGE
  INTERCHANGE_FORMAT = BINARY
  LINES = 30220
  LINE_SAMPLES = 4319
  SAMPLE_TYPE = UNSIGNED_INTEGER
  SAMPLE_BITS = 8
  BANDS = 1
  BAND_STORAGE_TYPE = BAND_SEQUENTIAL
  MAXIMUM = 255
  MEAN = 97.1011
  MINIMUM = 1
  STANDARD_DEVIATION = 25.513
END_OBJECT = IMAGE
/* MAP OBJECT DEFINITIONS */
OBJECT = IMAGE_MAP_PROJECTION
  ^DATA_SET_MAP_PROJECTION_CATALOG= "DSMAP.CAT"
  A_AXIS_RADIUS = 3396.0
  B_AXIS_RADIUS = 3396.0
  C_AXIS_RADIUS = 3396.0
  CENTER_LATITUDE = 0.0
  CENTER_LONGITUDE = 52.0
  COORDINATE_SYSTEM_NAME = PLANETOGRAPHIC
  COORDINATE_SYSTEM_TYPE = "BODY-FIXED ROTATING"
  EASTERNMOST_LONGITUDE = 52.9679
  FIRST_STANDARD_PARALLEL = "N/A"
  LINE_FIRST_PIXEL = 1
  LINE_LAST_PIXEL = 30220
  LINE_PROJECTION_OFFSET = -18076.25
  MAP_PROJECTION_ROTATION = 0.0
  MAP_PROJECTION_TYPE = SINUSOIDAL
  MAP_RESOLUTION = 2370.85521546667
  MAP_SCALE = 0.025
  MAXIMUM_LATITUDE = -7.60159
  MINIMUM_LATITUDE = -20.3644
  POSITIVE_LONGITUDE_DIRECTION = EAST
  REFERENCE_LATITUDE = "N/A"
  REFERENCE_LONGITUDE = "N/A"
  SAMPLE_FIRST_PIXEL = 1
  SAMPLE_LAST_PIXEL = 4319
  SAMPLE_PROJECTION_OFFSET = 2031.25
  SECOND_STANDARD_PARALLEL = "N/A"
  WESTERNMOST_LONGITUDE = 51.1452
END_OBJECT = IMAGE_MAP_PROJECTION
END
