PDS_VERSION_ID = PDS3
/* FILE DATA ELEMENTS */
RECORD_TYPE = UNDEFINED
/* POINTERS TO DATA OBJECTS */
^IMAGE = ("H7219_0000_P14.TIF")
/* IDENTIFICATION DATA ELEMENTS */
DATA_SET_ID = "MEX-M-HRSC-4-REFDR-MAPPROJECT-EXT3-V4.0"
DATA_SET_NAME = "MARS EXPRESS HRSC MAP PROJECTED REFDR EXTENSION3 V4.0"
DETECTOR_ID = MEX_HRSC_P1
EVENT_TYPE = "MARS-REGIONAL-MAPPING-Vo-Te-Im"
INSTRUMENT_HOST_ID = MEX
INSTRUMENT_HOST_NAME = "MARS EXPRESS"
INSTRUMENT_ID = HRSC
INSTRUMENT_NAME = "HIGH RESOLUTION STEREO CAMERA"
MISSION_NAME = "MARS EXPRESS"
MISSION_PHASE_NAME = ME_Phase_18
PROCESSING_LEVEL_ID = 4
PRODUCT_CREATION_TIME = 2023-02-01T22:33:16.000Z
PRODUCT_ID = "H7219_0000_P14.TIF"
RELEASE_ID = 0002
REVISION_ID = 0000
/* QUALITY DATA ELEMENTS */
DATA_QUALITY_ID = 1
DATA_QUALITY_DESC = "Data calculated based on original SPICE kernels"
/* TIME DATA ELEMENTS */
SPACECRAFT_CLOCK_START_COUNT = "1/0198710701.07282"
SPACECRAFT_CLOCK_STOP_COUNT = "1/0198710943.56608"
START_TIME = 2009-08-18T21:25:14.210Z
STOP_TIME = 2009-08-18T21:28:12.588Z
/* ORBITAL DATA ELEMENTS */
ASCENDING_NODE_LONGITUDE = 79.78
MAXIMUM_RESOLUTION = 0.055
FOOTPRINT_POINT_LATITUDE = (13.389,13.3862,13.3829,13.3787,13.3785 ,13.3715,13.1392,12.7898,12.5566, 12.3236,11.9737,11.7402,11.5064,11.2724 ,11.0384,10.8042,10.454,10.2269,9.77265 ,9.54526,9.20409,8.86276,8.63519, 8.40738,8.06561,7.83745,7.60948,7.26697 ,7.03857,6.69545,6.46726,6.23841, 6.00973,5.78085,5.55224,5.32346,5.09453 ,4.86548,4.63664,4.40776,4.17858, 3.94916,3.71992,3.4907,3.26128,3.03202, 2.80256,2.4536,2.2165,1.97918,1.8604, 1.78237,1.78499,1.78588,1.78704,1.78706 ,1.78793,2.14389,2.38133,2.61798, 3.07327,3.30601,3.65097,3.99492,4.33881 ,4.56801,4.79701,5.02625,5.25516, 5.48414,5.71295,5.94124,6.28458,6.5135, 6.74095,6.97086,7.31341,7.54187,7.77023 ,7.99843,8.22676,8.4547,8.79649,9.02432 ,9.25203,9.59321,9.82061,10.3885, 10.7364,10.971,11.2049,11.4391,11.6729, 11.9068,12.1404,12.4907,12.8404,13.1898 ,13.3062,13.389)
FOOTPRINT_POINT_LONGITUDE = (297.566,297.076,296.708,296.35,296.338 ,296.331,296.333,296.335,296.335, 296.337,296.338,296.339,296.339,296.34, 296.341,296.341,296.342,296.342,296.342 ,296.342,296.342,296.342,296.342, 296.341,296.341,296.34,296.34,296.339, 296.338,296.337,296.336,296.335,296.334 ,296.333,296.332,296.331,296.33,296.329 ,296.328,296.327,296.325,296.323, 296.322,296.32,296.319,296.317,296.315, 296.312,296.31,296.308,296.307,296.306, 296.738,297.024,297.473,297.484,297.488 ,297.489,297.49,297.491,297.494,297.494 ,297.495,297.497,297.499,297.5,297.501, 297.502,297.504,297.505,297.506,297.508 ,297.51,297.511,297.513,297.514,297.517 ,297.518,297.52,297.521,297.523,297.525 ,297.527,297.529,297.531,297.534, 297.535,297.54,297.543,297.545,297.547, 297.549,297.552,297.554,297.556,297.559 ,297.563,297.566,297.567,297.566)
ORBIT_NUMBER = 7219
ORBITAL_ECCENTRICITY = 0.575
ORBITAL_INCLINATION = 86.8
ORBITAL_SEMIMAJOR_AXIS = 8773.76
PERIAPSIS_ALTITUDE = 334.1
PERIAPSIS_ARGUMENT_ANGLE = 171.88
PERIAPSIS_TIME = 2009-08-18T21:26:55.000Z
SPACECRAFT_ORIENTATION = (0.0,-1.0,0.0)
^MEX_ORIENTATION_DESC = "MEX_ORIENTATION_DESC.TXT"
SPACECRAFT_POINTING_MODE = ACROSSTRACK
^MEX_POINTING_DESC = "MEX_POINTING_DESC.TXT"
RIGHT_ASCENSION = -1e+32
DECLINATION = -1e+32
OFFSET_ANGLE = -0.25
SPACECRAFT_SOLAR_DISTANCE = 2.19811e+08
TARGET_NAME = MARS
/* CAMERA DATA ELEMENTS */
DETECTOR_TEMPERATURE = 16.9432
FOCAL_PLANE_TEMPERATURE = 7.9716
INST_CMPRS_NAME = "DISCRETE COSINE TRANSFORMATION (DCT)"
INST_CMPRS_RATIO = 14.2211
INST_CMPRS_QUALITY = 0
INST_CMPRS_QUANTZ_TBL_ID = 0
INSTRUMENT_TEMPERATURE = 11.234
LENS_TEMPERATURE = 8.7872
MACROPIXEL_SIZE = 4
MISSING_FRAMES = 0
PIXEL_SUBSAMPLING_FLAG = N
SIGNAL_CHAIN_ID = 3
/* RADIOMETRIC DATA ELEMENTS */
BANDWIDTH = 174.0
CENTER_FILTER_WAVELENGTH = 675.0
RADIANCE_OFFSET = 2.38822
RADIANCE_SCALING_FACTOR = 0.0127565
REFLECTANCE_SCALING_FACTOR = 0.000331524
MEX:REFLECTANCE_OFFSET = 0.0620664
/* IMAGE OBJECT DEFINITIONS */
OBJECT = IMAGE
  INTERCHANGE_FORMAT = BINARY
  LINES = 13749
  LINE_SAMPLES = 1481
  SAMPLE_TYPE = UNSIGNED_INTEGER
  SAMPLE_BITS = 8
  BANDS = 1
  BAND_STORAGE_TYPE = BAND_SEQUENTIAL
  MAXIMUM = 255
  MEAN = 105.188
  MINIMUM = 1
  STANDARD_DEVIATION = 16.8849
END_OBJECT = IMAGE
/* MAP OBJECT DEFINITIONS */
OBJECT = IMAGE_MAP_PROJECTION
  ^DATA_SET_MAP_PROJECTION_CATALOG= "DSMAP.CAT"
  A_AXIS_RADIUS = 3396.0
  B_AXIS_RADIUS = 3396.0
  C_AXIS_RADIUS = 3396.0
  CENTER_LATITUDE = 0.0
  CENTER_LONGITUDE = 297.0
  COORDINATE_SYSTEM_NAME = PLANETOGRAPHIC
  COORDINATE_SYSTEM_TYPE = "BODY-FIXED ROTATING"
  EASTERNMOST_LONGITUDE = 297.567
  FIRST_STANDARD_PARALLEL = "N/A"
  LINE_FIRST_PIXEL = 1
  LINE_LAST_PIXEL = 13749
  LINE_PROJECTION_OFFSET = 15848.375
  MAP_PROJECTION_ROTATION = 0.0
  MAP_PROJECTION_TYPE = SINUSOIDAL
  MAP_RESOLUTION = 1185.42760773333
  MAP_SCALE = 0.05
  MAXIMUM_LATITUDE = 13.389
  MINIMUM_LATITUDE = 1.78237
  POSITIVE_LONGITUDE_DIRECTION = EAST
  REFERENCE_LATITUDE = "N/A"
  REFERENCE_LONGITUDE = "N/A"
  SAMPLE_FIRST_PIXEL = 1
  SAMPLE_LAST_PIXEL = 1481
  SAMPLE_PROJECTION_OFFSET = 834.625
  SECOND_STANDARD_PARALLEL = "N/A"
  WESTERNMOST_LONGITUDE = 296.306
END_OBJECT = IMAGE_MAP_PROJECTION
END
