PDS_VERSION_ID = PDS3
/* FILE DATA ELEMENTS */
RECORD_TYPE = UNDEFINED
/* POINTERS TO DATA OBJECTS */
^IMAGE = ("H7218_0000_RE4.TIF")
/* IDENTIFICATION DATA ELEMENTS */
DATA_SET_ID = "MEX-M-HRSC-4-REFDR-MAPPROJECT-EXT3-V4.0"
DATA_SET_NAME = "MARS EXPRESS HRSC MAP PROJECTED REFDR EXTENSION3 V4.0"
DETECTOR_ID = MEX_HRSC_RED
EVENT_TYPE = "MARS-REGIONAL-MAPPING-Te-Im-Fl"
INSTRUMENT_HOST_ID = MEX
INSTRUMENT_HOST_NAME = "MARS EXPRESS"
INSTRUMENT_ID = HRSC
INSTRUMENT_NAME = "HIGH RESOLUTION STEREO CAMERA"
MISSION_NAME = "MARS EXPRESS"
MISSION_PHASE_NAME = ME_Phase_18
PROCESSING_LEVEL_ID = 4
PRODUCT_CREATION_TIME = 2023-02-01T22:33:16.000Z
PRODUCT_ID = "H7218_0000_RE4.TIF"
RELEASE_ID = 0002
REVISION_ID = 0000
/* QUALITY DATA ELEMENTS */
DATA_QUALITY_ID = 1
DATA_QUALITY_DESC = "Data calculated based on original SPICE kernels"
/* TIME DATA ELEMENTS */
SPACECRAFT_CLOCK_START_COUNT = "1/0198686245.07308"
SPACECRAFT_CLOCK_STOP_COUNT = "1/0198686573.30759"
START_TIME = 2009-08-18T14:38:37.199Z
STOP_TIME = 2009-08-18T14:42:41.690Z
/* ORBITAL DATA ELEMENTS */
ASCENDING_NODE_LONGITUDE = 79.8
MAXIMUM_RESOLUTION = 0.0711
FOOTPRINT_POINT_LATITUDE = (-10.9363,-10.9488,-10.9561,-10.9615, -10.9617,-10.9754,-11.7022,-12.1888, -12.437,-12.8091,-13.3075,-13.5598, -13.8117,-14.191,-14.4468,-14.7013, -14.9586,-15.219,-15.4787,-15.738, -16.1352,-16.3983,-16.6646,-16.9333, -17.2004,-17.4713,-17.7437,-18.1537, -18.4288,-18.846,-19.1256,-19.4042, -19.6889,-19.9722,-20.2592,-20.6891, -20.9814,-21.2753,-21.7086,-22.0024, -22.2988,-22.7617,-23.2139,-23.5178, -23.8262,-24.1307,-24.4455,-24.6013, -24.6142,-24.6129,-24.6014,-24.5945, -24.5904,-24.573,-24.5722,-24.5707, -24.2592,-23.7961,-23.4894,-23.1858, -22.8824,-22.4334,-22.134,-21.836, -21.5415,-21.1049,-20.8133,-20.5227, -20.2376,-19.9516,-19.6686,-19.3836, -19.1041,-18.8258,-18.4103,-18.1342, -17.8597,-17.5888,-17.3148,-17.0431, -16.7816,-16.5125,-16.2486,-15.9849, -15.7202,-15.4607,-15.2013,-14.8119, -14.5565,-14.3007,-14.0444,-13.7929, -13.5417,-13.2897,-13.0394,-12.297, -11.6863,-11.0794,-10.9599,-10.9363)
FOOTPRINT_POINT_LONGITUDE = (39.1573,38.5525,38.0972,37.6454, 37.6314,37.6295,37.6113,37.599,37.5926, 37.5829,37.5697,37.5628,37.556,37.5454, 37.5381,37.5306,37.5235,37.5159,37.5082 ,37.5005,37.4887,37.4806,37.4725, 37.4642,37.4558,37.4472,37.4385,37.4253 ,37.4161,37.4026,37.3931,37.3835, 37.3738,37.364,37.354,37.3386,37.3283, 37.3183,37.3003,37.2887,37.277,37.262, 37.2438,37.2313,37.219,37.2055,37.1931, 37.1865,37.186,37.5978,38.1429,38.4938, 38.9105,39.508,39.5303,39.5377,39.5236, 39.5027,39.4892,39.4759,39.4637,39.4442 ,39.4337,39.4226,39.4121,39.3949, 39.3852,39.3764,39.3658,39.3563,39.3473 ,39.3391,39.3307,39.3216,39.3096, 39.3019,39.2945,39.2868,39.2805,39.2754 ,39.265,39.2586,39.2524,39.2459,39.2399 ,39.234,39.2279,39.2196,39.2142,39.2088 ,39.2035,39.1985,39.1935,39.1886, 39.1839,39.1706,39.161,39.151,39.1494, 39.1573)
ORBIT_NUMBER = 7218
ORBITAL_ECCENTRICITY = 0.575
ORBITAL_INCLINATION = 86.79
ORBITAL_SEMIMAJOR_AXIS = 8777.08
PERIAPSIS_ALTITUDE = 333.92
PERIAPSIS_ARGUMENT_ANGLE = 172.05
PERIAPSIS_TIME = 2009-08-18T14:33:10.000Z
SPACECRAFT_ORIENTATION = (0.0,-1.0,0.0)
^MEX_ORIENTATION_DESC = "MEX_ORIENTATION_DESC.TXT"
SPACECRAFT_POINTING_MODE = ACROSSTRACK
^MEX_POINTING_DESC = "MEX_POINTING_DESC.TXT"
RIGHT_ASCENSION = -1e+32
DECLINATION = -1e+32
OFFSET_ANGLE = 0.458
SPACECRAFT_SOLAR_DISTANCE = 2.19757e+08
TARGET_NAME = MARS
/* CAMERA DATA ELEMENTS */
DETECTOR_TEMPERATURE = 18.3705
FOCAL_PLANE_TEMPERATURE = 8.3794
INST_CMPRS_NAME = "DISCRETE COSINE TRANSFORMATION (DCT)"
INST_CMPRS_RATIO = 14.2893
INST_CMPRS_QUALITY = 0
INST_CMPRS_QUANTZ_TBL_ID = 0
INSTRUMENT_TEMPERATURE = 11.0301
LENS_TEMPERATURE = 8.7872
MACROPIXEL_SIZE = 4
MISSING_FRAMES = 0
PIXEL_SUBSAMPLING_FLAG = N
SIGNAL_CHAIN_ID = 2
/* RADIOMETRIC DATA ELEMENTS */
BANDWIDTH = 48.0
CENTER_FILTER_WAVELENGTH = 748.0
RADIANCE_OFFSET = 0.468584
RADIANCE_SCALING_FACTOR = 0.00348766
REFLECTANCE_SCALING_FACTOR = 0.000384371
MEX:REFLECTANCE_OFFSET = 0.0516421
/* IMAGE OBJECT DEFINITIONS */
OBJECT = IMAGE
  INTERCHANGE_FORMAT = BINARY
  LINES = 16177
  LINE_SAMPLES = 2336
  SAMPLE_TYPE = UNSIGNED_INTEGER
  SAMPLE_BITS = 8
  BANDS = 1
  BAND_STORAGE_TYPE = BAND_SEQUENTIAL
  MAXIMUM = 255
  MEAN = 90.6702
  MINIMUM = 1
  STANDARD_DEVIATION = 17.924
END_OBJECT = IMAGE
/* MAP OBJECT DEFINITIONS */
OBJECT = IMAGE_MAP_PROJECTION
  ^DATA_SET_MAP_PROJECTION_CATALOG= "DSMAP.CAT"
  A_AXIS_RADIUS = 3396.0
  B_AXIS_RADIUS = 3396.0
  C_AXIS_RADIUS = 3396.0
  CENTER_LATITUDE = 0.0
  CENTER_LONGITUDE = 38.0
  COORDINATE_SYSTEM_NAME = PLANETOGRAPHIC
  COORDINATE_SYSTEM_TYPE = "BODY-FIXED ROTATING"
  EASTERNMOST_LONGITUDE = 39.5377
  FIRST_STANDARD_PARALLEL = "N/A"
  LINE_FIRST_PIXEL = 1
  LINE_LAST_PIXEL = 16177
  LINE_PROJECTION_OFFSET = -12969.375
  MAP_PROJECTION_ROTATION = 0.0
  MAP_PROJECTION_TYPE = SINUSOIDAL
  MAP_RESOLUTION = 1185.42760773333
  MAP_SCALE = 0.05
  MAXIMUM_LATITUDE = -10.9363
  MINIMUM_LATITUDE = -24.6142
  POSITIVE_LONGITUDE_DIRECTION = EAST
  REFERENCE_LATITUDE = "N/A"
  REFERENCE_LONGITUDE = "N/A"
  SAMPLE_FIRST_PIXEL = 1
  SAMPLE_LAST_PIXEL = 2336
  SAMPLE_PROJECTION_OFFSET = 778.375
  SECOND_STANDARD_PARALLEL = "N/A"
  WESTERNMOST_LONGITUDE = 37.186
END_OBJECT = IMAGE_MAP_PROJECTION
END
