PDS_VERSION_ID = PDS3
/* FILE DATA ELEMENTS */
RECORD_TYPE = UNDEFINED
/* POINTERS TO DATA OBJECTS */
^IMAGE = ("H7217_0000_IR4.TIF")
/* IDENTIFICATION DATA ELEMENTS */
DATA_SET_ID = "MEX-M-HRSC-4-REFDR-MAPPROJECT-EXT3-V4.0"
DATA_SET_NAME = "MARS EXPRESS HRSC MAP PROJECTED REFDR EXTENSION3 V4.0"
DETECTOR_ID = MEX_HRSC_IR
EVENT_TYPE = "MARS-REGIONAL-MAPPING-Im-Fl"
INSTRUMENT_HOST_ID = MEX
INSTRUMENT_HOST_NAME = "MARS EXPRESS"
INSTRUMENT_ID = HRSC
INSTRUMENT_NAME = "HIGH RESOLUTION STEREO CAMERA"
MISSION_NAME = "MARS EXPRESS"
MISSION_PHASE_NAME = ME_Phase_18
PROCESSING_LEVEL_ID = 4
PRODUCT_CREATION_TIME = 2023-02-01T22:33:16.000Z
PRODUCT_ID = "H7217_0000_IR4.TIF"
RELEASE_ID = 0002
REVISION_ID = 0000
/* QUALITY DATA ELEMENTS */
DATA_QUALITY_ID = 1
DATA_QUALITY_DESC = "Data calculated based on original SPICE kernels"
/* TIME DATA ELEMENTS */
SPACECRAFT_CLOCK_START_COUNT = "1/0198661420.08279"
SPACECRAFT_CLOCK_STOP_COUNT = "1/0198661692.17027"
START_TIME = 2009-08-18T07:43:48.452Z
STOP_TIME = 2009-08-18T07:46:35.832Z
/* ORBITAL DATA ELEMENTS */
ASCENDING_NODE_LONGITUDE = 79.82
MAXIMUM_RESOLUTION = 0.0655
FOOTPRINT_POINT_LATITUDE = (-10.8375,-10.8404,-10.8434,-10.8464, -10.8495,-10.8527,-10.8582,-10.8584, -10.856,-11.1621,-11.7558,-12.1558, -12.455,-12.7546,-13.1564,-13.361, -13.5658,-13.7694,-13.9736,-14.1783, -14.3859,-14.5962,-14.806,-15.1167, -15.3249,-15.5371,-15.7516,-15.9663, -16.2863,-16.5004,-16.7174,-17.044, -17.2624,-17.4853,-17.7066,-17.9308, -18.152,-18.3705,-18.5941,-18.9357, -19.1634,-19.5046,-19.7358,-19.9684, -20.2002,-20.4324,-20.7866,-21.023, -21.259,-21.4968,-21.6173,-21.6496, -21.6499,-21.6438,-21.642,-21.6399, -21.6363,-21.6361,-21.6348,-21.2747, -21.0378,-20.801,-20.446,-20.2133, -19.9808,-19.632,-19.4028,-19.1752, -18.9472,-18.6048,-18.3813,-18.1575, -17.9332,-17.71,-17.4981,-17.1652, -16.944,-16.7264,-16.509,-16.2952, -15.974,-15.7599,-15.4382,-15.1235, -14.9138,-14.7051,-14.4959,-14.1828, -13.9791,-13.673,-13.469,-13.2648, -12.9597,-12.5603,-12.0606,-11.5607, -11.2597,-10.962,-10.8627,-10.8375)
FOOTPRINT_POINT_LONGITUDE = (138.931,138.724,138.517,138.308, 138.098,137.887,137.541,137.527,137.526 ,137.515,137.505,137.495,137.488,137.48 ,137.469,137.464,137.459,137.454, 137.449,137.443,137.436,137.43,137.424, 137.417,137.412,137.405,137.399,137.392 ,137.383,137.377,137.371,137.362, 137.355,137.346,137.338,137.331,137.325 ,137.322,137.314,137.303,137.296, 137.285,137.277,137.269,137.262,137.254 ,137.242,137.234,137.226,137.219, 137.215,137.214,137.664,138.15,138.391, 138.665,139.041,139.058,139.064,139.057 ,139.052,139.048,139.041,139.037, 139.033,139.027,139.023,139.02,139.016, 139.011,139.007,139.004,139.001,138.998 ,138.996,138.991,138.988,138.985, 138.982,138.98,138.976,138.973,138.97, 138.966,138.964,138.962,138.96,138.956, 138.955,138.952,138.95,138.948,138.946, 138.943,138.939,138.935,138.933,138.931 ,138.931,138.931)
ORBIT_NUMBER = 7217
ORBITAL_ECCENTRICITY = 0.575
ORBITAL_INCLINATION = 86.79
ORBITAL_SEMIMAJOR_AXIS = 8773.24
PERIAPSIS_ALTITUDE = 334.16
PERIAPSIS_ARGUMENT_ANGLE = 172.23
PERIAPSIS_TIME = 2009-08-18T07:39:29.000Z
SPACECRAFT_ORIENTATION = (0.0,-1.0,0.0)
^MEX_ORIENTATION_DESC = "MEX_ORIENTATION_DESC.TXT"
SPACECRAFT_POINTING_MODE = ACROSSTRACK
^MEX_POINTING_DESC = "MEX_POINTING_DESC.TXT"
RIGHT_ASCENSION = -1e+32
DECLINATION = -1e+32
OFFSET_ANGLE = -0.5
SPACECRAFT_SOLAR_DISTANCE = 2.19704e+08
TARGET_NAME = MARS
/* CAMERA DATA ELEMENTS */
DETECTOR_TEMPERATURE = 17.5549
FOCAL_PLANE_TEMPERATURE = 8.5833
INST_CMPRS_NAME = "DISCRETE COSINE TRANSFORMATION (DCT)"
INST_CMPRS_RATIO = 10.1347
INST_CMPRS_QUALITY = 0
INST_CMPRS_QUANTZ_TBL_ID = 0
INSTRUMENT_TEMPERATURE = 11.234
LENS_TEMPERATURE = 9.195
MACROPIXEL_SIZE = 4
MISSING_FRAMES = 0
PIXEL_SUBSAMPLING_FLAG = N
SIGNAL_CHAIN_ID = 2
/* RADIOMETRIC DATA ELEMENTS */
BANDWIDTH = 81.0
CENTER_FILTER_WAVELENGTH = 955.5
RADIANCE_OFFSET = 0.377824
RADIANCE_SCALING_FACTOR = 0.00413488
REFLECTANCE_SCALING_FACTOR = 0.000430593
MEX:REFLECTANCE_OFFSET = 0.0393455
/* IMAGE OBJECT DEFINITIONS */
OBJECT = IMAGE
  INTERCHANGE_FORMAT = BINARY
  LINES = 12814
  LINE_SAMPLES = 2158
  SAMPLE_TYPE = UNSIGNED_INTEGER
  SAMPLE_BITS = 8
  BANDS = 1
  BAND_STORAGE_TYPE = BAND_SEQUENTIAL
  MAXIMUM = 255
  MEAN = 67.2882
  MINIMUM = 1
  STANDARD_DEVIATION = 24.0274
END_OBJECT = IMAGE
/* MAP OBJECT DEFINITIONS */
OBJECT = IMAGE_MAP_PROJECTION
  ^DATA_SET_MAP_PROJECTION_CATALOG= "DSMAP.CAT"
  A_AXIS_RADIUS = 3396.0
  B_AXIS_RADIUS = 3396.0
  C_AXIS_RADIUS = 3396.0
  CENTER_LATITUDE = 0.0
  CENTER_LONGITUDE = 138.0
  COORDINATE_SYSTEM_NAME = PLANETOGRAPHIC
  COORDINATE_SYSTEM_TYPE = "BODY-FIXED ROTATING"
  EASTERNMOST_LONGITUDE = 139.064
  FIRST_STANDARD_PARALLEL = "N/A"
  LINE_FIRST_PIXEL = 1
  LINE_LAST_PIXEL = 12814
  LINE_PROJECTION_OFFSET = -12850.375
  MAP_PROJECTION_ROTATION = 0.0
  MAP_PROJECTION_TYPE = SINUSOIDAL
  MAP_RESOLUTION = 1185.42760773333
  MAP_SCALE = 0.05
  MAXIMUM_LATITUDE = -10.8375
  MINIMUM_LATITUDE = -21.6499
  POSITIVE_LONGITUDE_DIRECTION = EAST
  REFERENCE_LATITUDE = "N/A"
  REFERENCE_LONGITUDE = "N/A"
  SAMPLE_FIRST_PIXEL = 1
  SAMPLE_LAST_PIXEL = 2158
  SAMPLE_PROJECTION_OFFSET = 923.875
  SECOND_STANDARD_PARALLEL = "N/A"
  WESTERNMOST_LONGITUDE = 137.214
END_OBJECT = IMAGE_MAP_PROJECTION
END
