PDS_VERSION_ID = PDS3
/* FILE DATA ELEMENTS */
RECORD_TYPE = UNDEFINED
/* POINTERS TO DATA OBJECTS */
^IMAGE = ("H7215_0000_S14.TIF")
/* IDENTIFICATION DATA ELEMENTS */
DATA_SET_ID = "MEX-M-HRSC-4-REFDR-MAPPROJECT-EXT3-V4.0"
DATA_SET_NAME = "MARS EXPRESS HRSC MAP PROJECTED REFDR EXTENSION3 V4.0"
DETECTOR_ID = MEX_HRSC_S1
EVENT_TYPE = "MARS-REGIONAL-MAPPING-Im-Fl"
INSTRUMENT_HOST_ID = MEX
INSTRUMENT_HOST_NAME = "MARS EXPRESS"
INSTRUMENT_ID = HRSC
INSTRUMENT_NAME = "HIGH RESOLUTION STEREO CAMERA"
MISSION_NAME = "MARS EXPRESS"
MISSION_PHASE_NAME = ME_Phase_18
PROCESSING_LEVEL_ID = 4
PRODUCT_CREATION_TIME = 2023-02-01T22:33:16.000Z
PRODUCT_ID = "H7215_0000_S14.TIF"
RELEASE_ID = 0002
REVISION_ID = 0000
/* QUALITY DATA ELEMENTS */
DATA_QUALITY_ID = 1
DATA_QUALITY_DESC = "Data calculated based on original SPICE kernels"
/* TIME DATA ELEMENTS */
SPACECRAFT_CLOCK_START_COUNT = "1/0198611829.07303"
SPACECRAFT_CLOCK_STOP_COUNT = "1/0198612111.52920"
START_TIME = 2009-08-17T17:57:11.574Z
STOP_TIME = 2009-08-17T17:59:55.184Z
/* ORBITAL DATA ELEMENTS */
ASCENDING_NODE_LONGITUDE = 79.86
MAXIMUM_RESOLUTION = 0.0357
FOOTPRINT_POINT_LATITUDE = (-14.8207,-14.8155,-14.8121,-14.8088, -14.8055,-14.7997,-14.7995,-14.8195, -15.201,-15.598,-15.9817,-16.374, -16.6747,-17.1757,-17.4749,-17.6804, -17.8853,-18.0883,-18.2898,-18.4981, -18.7154,-18.9258,-19.235,-19.4398, -19.6485,-19.8629,-20.0768,-20.2899, -20.5063,-20.7261,-20.9437,-21.1629, -21.3794,-21.6015,-21.8219,-22.0441, -22.267,-22.4895,-22.8226,-23.0443, -23.3769,-23.5975,-23.8187,-24.0395, -24.3707,-24.5908,-24.8109,-25.0293, -25.2491,-25.3592,-25.3921,-25.3948, -25.3985,-25.4021,-25.404,-25.4071, -25.409,-25.4091,-25.4086,-25.0778, -24.8567,-24.6367,-24.4179,-24.1981, -23.9768,-23.7551,-23.4235,-23.0919, -22.8708,-22.6489,-22.4272,-22.2049, -21.9836,-21.7628,-21.5413,-21.2124, -20.9932,-20.7755,-20.4502,-20.2369, -20.0233,-19.8093,-19.5956,-19.3878, -19.1785,-18.9689,-18.76,-18.5513, -18.347,-18.1423,-17.9373,-17.6311, -17.328,-16.9281,-16.4271,-16.0342, -15.4462,-14.9632,-14.8674,-14.8207)
FOOTPRINT_POINT_LONGITUDE = (341.33,340.977,340.742,340.507,340.273 ,339.835,339.821,339.811,339.802, 339.791,339.783,339.773,339.765,339.753 ,339.745,339.739,339.734,339.729, 339.724,339.718,339.71,339.704,339.696, 339.692,339.687,339.68,339.674,339.668, 339.661,339.655,339.648,339.642,339.636 ,339.629,339.623,339.616,339.609, 339.602,339.592,339.585,339.575,339.568 ,339.561,339.554,339.543,339.536, 339.529,339.522,339.515,339.511,339.51, 339.887,340.145,340.403,340.722,341.161 ,341.541,341.561,341.568,341.557,341.55 ,341.543,341.537,341.531,341.524, 341.517,341.508,341.499,341.493,341.487 ,341.481,341.476,341.47,341.465,341.46, 341.452,341.447,341.442,341.434,341.43, 341.425,341.421,341.416,341.413,341.408 ,341.404,341.4,341.396,341.393,341.389, 341.385,341.38,341.375,341.368,341.361, 341.354,341.345,341.339,341.337,341.33)
ORBIT_NUMBER = 7215
ORBITAL_ECCENTRICITY = 0.575
ORBITAL_INCLINATION = 86.8
ORBITAL_SEMIMAJOR_AXIS = 8768.83
PERIAPSIS_ALTITUDE = 334.06
PERIAPSIS_ARGUMENT_ANGLE = 172.54
PERIAPSIS_TIME = 2009-08-17T17:52:02.000Z
SPACECRAFT_ORIENTATION = (0.0,-1.0,0.0)
^MEX_ORIENTATION_DESC = "MEX_ORIENTATION_DESC.TXT"
SPACECRAFT_POINTING_MODE = ACROSSTRACK
^MEX_POINTING_DESC = "MEX_POINTING_DESC.TXT"
RIGHT_ASCENSION = -1e+32
DECLINATION = -1e+32
OFFSET_ANGLE = 0.15
SPACECRAFT_SOLAR_DISTANCE = 2.19597e+08
TARGET_NAME = MARS
/* CAMERA DATA ELEMENTS */
DETECTOR_TEMPERATURE = 17.5549
FOCAL_PLANE_TEMPERATURE = 8.5833
INST_CMPRS_NAME = "DISCRETE COSINE TRANSFORMATION (DCT)"
INST_CMPRS_RATIO = 9.43677
INST_CMPRS_QUALITY = 0
INST_CMPRS_QUANTZ_TBL_ID = 0
INSTRUMENT_TEMPERATURE = 11.0301
LENS_TEMPERATURE = 8.9911
MACROPIXEL_SIZE = 2
MISSING_FRAMES = 0
PIXEL_SUBSAMPLING_FLAG = N
SIGNAL_CHAIN_ID = 1
/* RADIOMETRIC DATA ELEMENTS */
BANDWIDTH = 180.0
CENTER_FILTER_WAVELENGTH = 677.0
RADIANCE_OFFSET = 2.48178
RADIANCE_SCALING_FACTOR = 0.0113546
REFLECTANCE_SCALING_FACTOR = 0.000285672
MEX:REFLECTANCE_OFFSET = 0.0624397
/* IMAGE OBJECT DEFINITIONS */
OBJECT = IMAGE
  INTERCHANGE_FORMAT = BINARY
  LINES = 25078
  LINE_SAMPLES = 4732
  SAMPLE_TYPE = UNSIGNED_INTEGER
  SAMPLE_BITS = 8
  BANDS = 1
  BAND_STORAGE_TYPE = BAND_SEQUENTIAL
  MAXIMUM = 255
  MEAN = 91.1067
  MINIMUM = 1
  STANDARD_DEVIATION = 18.5467
END_OBJECT = IMAGE
/* MAP OBJECT DEFINITIONS */
OBJECT = IMAGE_MAP_PROJECTION
  ^DATA_SET_MAP_PROJECTION_CATALOG= "DSMAP.CAT"
  A_AXIS_RADIUS = 3396.0
  B_AXIS_RADIUS = 3396.0
  C_AXIS_RADIUS = 3396.0
  CENTER_LATITUDE = 0.0
  CENTER_LONGITUDE = 341.0
  COORDINATE_SYSTEM_NAME = PLANETOGRAPHIC
  COORDINATE_SYSTEM_TYPE = "BODY-FIXED ROTATING"
  EASTERNMOST_LONGITUDE = 341.568
  FIRST_STANDARD_PARALLEL = "N/A"
  LINE_FIRST_PIXEL = 1
  LINE_LAST_PIXEL = 25078
  LINE_PROJECTION_OFFSET = -35114.75
  MAP_PROJECTION_ROTATION = 0.0
  MAP_PROJECTION_TYPE = SINUSOIDAL
  MAP_RESOLUTION = 2370.85521546667
  MAP_SCALE = 0.025
  MAXIMUM_LATITUDE = -14.7995
  MINIMUM_LATITUDE = -25.4091
  POSITIVE_LONGITUDE_DIRECTION = EAST
  REFERENCE_LATITUDE = "N/A"
  REFERENCE_LONGITUDE = "N/A"
  SAMPLE_FIRST_PIXEL = 1
  SAMPLE_LAST_PIXEL = 4732
  SAMPLE_PROJECTION_OFFSET = 3353.75
  SECOND_STANDARD_PARALLEL = "N/A"
  WESTERNMOST_LONGITUDE = 339.51
END_OBJECT = IMAGE_MAP_PROJECTION
END
