PDS_VERSION_ID = PDS3
/* FILE DATA ELEMENTS */
RECORD_TYPE = UNDEFINED
/* POINTERS TO DATA OBJECTS */
^IMAGE = ("H7215_0000_IR4.TIF")
/* IDENTIFICATION DATA ELEMENTS */
DATA_SET_ID = "MEX-M-HRSC-4-REFDR-MAPPROJECT-EXT3-V4.0"
DATA_SET_NAME = "MARS EXPRESS HRSC MAP PROJECTED REFDR EXTENSION3 V4.0"
DETECTOR_ID = MEX_HRSC_IR
EVENT_TYPE = "MARS-REGIONAL-MAPPING-Im-Fl"
INSTRUMENT_HOST_ID = MEX
INSTRUMENT_HOST_NAME = "MARS EXPRESS"
INSTRUMENT_ID = HRSC
INSTRUMENT_NAME = "HIGH RESOLUTION STEREO CAMERA"
MISSION_NAME = "MARS EXPRESS"
MISSION_PHASE_NAME = ME_Phase_18
PROCESSING_LEVEL_ID = 4
PRODUCT_CREATION_TIME = 2023-02-01T22:33:16.000Z
PRODUCT_ID = "H7215_0000_IR4.TIF"
RELEASE_ID = 0002
REVISION_ID = 0000
/* QUALITY DATA ELEMENTS */
DATA_QUALITY_ID = 1
DATA_QUALITY_DESC = "Data calculated based on original SPICE kernels"
/* TIME DATA ELEMENTS */
SPACECRAFT_CLOCK_START_COUNT = "1/0198611829.07303"
SPACECRAFT_CLOCK_STOP_COUNT = "1/0198612111.52920"
START_TIME = 2009-08-17T17:57:17.929Z
STOP_TIME = 2009-08-17T18:00:03.695Z
/* ORBITAL DATA ELEMENTS */
ASCENDING_NODE_LONGITUDE = 79.86
MAXIMUM_RESOLUTION = 0.0708
FOOTPRINT_POINT_LATITUDE = (-14.8174,-14.8133,-14.8099,-14.8071, -14.8043,-14.8017,-14.7987,-14.7986, -14.8157,-15.3002,-15.8815,-16.2772, -16.4758,-16.9723,-17.2747,-17.4769, -17.6806,-17.883,-18.0844,-18.287, -18.6051,-18.8184,-19.0259,-19.2324, -19.4413,-19.7542,-19.9661,-20.1798, -20.5058,-20.7228,-20.9378,-21.1587, -21.4871,-21.9258,-22.145,-22.365, -22.5842,-22.8027,-23.0221,-23.2408, -23.4591,-23.6768,-23.8947,-24.1124, -24.4388,-24.6559,-24.8728,-25.1962, -25.3047,-25.3987,-25.4007,-25.403, -25.4065,-25.4086,-25.4116,-25.413, -25.4129,-25.4118,-25.0857,-24.8684, -24.6518,-24.436,-24.219,-24.0009, -23.7823,-23.5642,-23.3471,-23.1285, -22.9104,-22.6915,-22.3632,-22.1442, -21.8169,-21.4878,-21.2677,-20.9379, -20.7224,-20.507,-20.2914,-20.0755, -19.8641,-19.6529,-19.4429,-19.2313, -19.0214,-18.8145,-18.6078,-18.4009, -18.0905,-17.8878,-17.6861,-17.4832, -17.1796,-16.8792,-16.5812,-15.9852, -15.4022,-15.0139,-14.9165,-14.8174)
FOOTPRINT_POINT_LONGITUDE = (341.335,341.007,340.738,340.511, 340.285,340.073,339.832,339.818,339.81, 339.798,339.784,339.774,339.769,339.756 ,339.748,339.743,339.737,339.732, 339.727,339.723,339.712,339.704,339.698 ,339.694,339.689,339.681,339.675, 339.669,339.659,339.652,339.646,339.639 ,339.629,339.616,339.61,339.603,339.596 ,339.589,339.582,339.575,339.568, 339.561,339.554,339.547,339.536,339.529 ,339.522,339.512,339.508,339.505, 339.793,340.063,340.314,340.661,341.165 ,341.553,341.572,341.579,341.567,341.56 ,341.553,341.547,341.541,341.534, 341.527,341.521,341.515,341.509,341.503 ,341.497,341.488,341.483,341.475, 341.467,341.461,341.453,341.448,341.443 ,341.438,341.434,341.429,341.424, 341.421,341.416,341.412,341.408,341.404 ,341.4,341.394,341.39,341.387,341.383, 341.379,341.373,341.368,341.359,341.35, 341.344,341.343,341.335)
ORBIT_NUMBER = 7215
ORBITAL_ECCENTRICITY = 0.575
ORBITAL_INCLINATION = 86.8
ORBITAL_SEMIMAJOR_AXIS = 8768.83
PERIAPSIS_ALTITUDE = 334.06
PERIAPSIS_ARGUMENT_ANGLE = 172.54
PERIAPSIS_TIME = 2009-08-17T17:52:02.000Z
SPACECRAFT_ORIENTATION = (0.0,-1.0,0.0)
^MEX_ORIENTATION_DESC = "MEX_ORIENTATION_DESC.TXT"
SPACECRAFT_POINTING_MODE = ACROSSTRACK
^MEX_POINTING_DESC = "MEX_POINTING_DESC.TXT"
RIGHT_ASCENSION = -1e+32
DECLINATION = -1e+32
OFFSET_ANGLE = 0.15
SPACECRAFT_SOLAR_DISTANCE = 2.19597e+08
TARGET_NAME = MARS
/* CAMERA DATA ELEMENTS */
DETECTOR_TEMPERATURE = 17.5549
FOCAL_PLANE_TEMPERATURE = 8.5833
INST_CMPRS_NAME = "DISCRETE COSINE TRANSFORMATION (DCT)"
INST_CMPRS_RATIO = 15.1077
INST_CMPRS_QUALITY = 0
INST_CMPRS_QUANTZ_TBL_ID = 0
INSTRUMENT_TEMPERATURE = 11.0301
LENS_TEMPERATURE = 8.9911
MACROPIXEL_SIZE = 4
MISSING_FRAMES = 0
PIXEL_SUBSAMPLING_FLAG = N
SIGNAL_CHAIN_ID = 2
/* RADIOMETRIC DATA ELEMENTS */
BANDWIDTH = 81.0
CENTER_FILTER_WAVELENGTH = 955.5
RADIANCE_OFFSET = 0.464307
RADIANCE_SCALING_FACTOR = 0.00282705
REFLECTANCE_SCALING_FACTOR = 0.000294114
MEX:REFLECTANCE_OFFSET = 0.0483045
/* IMAGE OBJECT DEFINITIONS */
OBJECT = IMAGE
  INTERCHANGE_FORMAT = BINARY
  LINES = 12539
  LINE_SAMPLES = 2366
  SAMPLE_TYPE = UNSIGNED_INTEGER
  SAMPLE_BITS = 8
  BANDS = 1
  BAND_STORAGE_TYPE = BAND_SEQUENTIAL
  MAXIMUM = 255
  MEAN = 78.5926
  MINIMUM = 1
  STANDARD_DEVIATION = 17.9857
END_OBJECT = IMAGE
/* MAP OBJECT DEFINITIONS */
OBJECT = IMAGE_MAP_PROJECTION
  ^DATA_SET_MAP_PROJECTION_CATALOG= "DSMAP.CAT"
  A_AXIS_RADIUS = 3396.0
  B_AXIS_RADIUS = 3396.0
  C_AXIS_RADIUS = 3396.0
  CENTER_LATITUDE = 0.0
  CENTER_LONGITUDE = 341.0
  COORDINATE_SYSTEM_NAME = PLANETOGRAPHIC
  COORDINATE_SYSTEM_TYPE = "BODY-FIXED ROTATING"
  EASTERNMOST_LONGITUDE = 341.579
  FIRST_STANDARD_PARALLEL = "N/A"
  LINE_FIRST_PIXEL = 1
  LINE_LAST_PIXEL = 12539
  LINE_PROJECTION_OFFSET = -17557.625
  MAP_PROJECTION_ROTATION = 0.0
  MAP_PROJECTION_TYPE = SINUSOIDAL
  MAP_RESOLUTION = 1185.42760773333
  MAP_SCALE = 0.05
  MAXIMUM_LATITUDE = -14.7986
  MINIMUM_LATITUDE = -25.413
  POSITIVE_LONGITUDE_DIRECTION = EAST
  REFERENCE_LATITUDE = "N/A"
  REFERENCE_LONGITUDE = "N/A"
  SAMPLE_FIRST_PIXEL = 1
  SAMPLE_LAST_PIXEL = 2366
  SAMPLE_PROJECTION_OFFSET = 1676.625
  SECOND_STANDARD_PARALLEL = "N/A"
  WESTERNMOST_LONGITUDE = 339.505
END_OBJECT = IMAGE_MAP_PROJECTION
END
