PDS_VERSION_ID = PDS3
/* FILE DATA ELEMENTS */
RECORD_TYPE = UNDEFINED
/* POINTERS TO DATA OBJECTS */
^IMAGE = ("H7213_0000_GR4.TIF")
/* IDENTIFICATION DATA ELEMENTS */
DATA_SET_ID = "MEX-M-HRSC-4-REFDR-MAPPROJECT-EXT3-V4.0"
DATA_SET_NAME = "MARS EXPRESS HRSC MAP PROJECTED REFDR EXTENSION3 V4.0"
DETECTOR_ID = MEX_HRSC_GREEN
EVENT_TYPE = "MARS-REGIONAL-MAPPING-Vo-Te-Eo"
INSTRUMENT_HOST_ID = MEX
INSTRUMENT_HOST_NAME = "MARS EXPRESS"
INSTRUMENT_ID = HRSC
INSTRUMENT_NAME = "HIGH RESOLUTION STEREO CAMERA"
MISSION_NAME = "MARS EXPRESS"
MISSION_PHASE_NAME = ME_Phase_18
PROCESSING_LEVEL_ID = 4
PRODUCT_CREATION_TIME = 2023-02-01T22:33:16.000Z
PRODUCT_ID = "H7213_0000_GR4.TIF"
RELEASE_ID = 0002
REVISION_ID = 0000
/* QUALITY DATA ELEMENTS */
DATA_QUALITY_ID = 1
DATA_QUALITY_DESC = "Data calculated based on original SPICE kernels"
/* TIME DATA ELEMENTS */
SPACECRAFT_CLOCK_START_COUNT = "1/0198561946.09068"
SPACECRAFT_CLOCK_STOP_COUNT = "1/0198562244.49565"
START_TIME = 2009-08-17T04:06:13.871Z
STOP_TIME = 2009-08-17T04:09:56.410Z
/* ORBITAL DATA ELEMENTS */
ASCENDING_NODE_LONGITUDE = 79.9
MAXIMUM_RESOLUTION = 0.1101
FOOTPRINT_POINT_LATITUDE = (1.00306,1.00686,1.00939,1.01193,1.012, 1.00727,0.742127,0.344484,0.0794126, -0.185567,-0.582902,-0.98006,-1.24458, -1.50903,-1.77335,-2.03759,-2.30172, -2.69778,-3.09356,-3.35766,-3.75256, -4.01594,-4.27918,-4.54222,-5.06788, -5.59308,-6.11783,-6.56506,-6.87726, -7.18928,-7.50097,-7.81241,-8.12358, -8.43444,-8.74503,-9.05536,-9.36525, -9.675,-10.1394,-10.6033,-10.9127, -11.2207,-11.528,-11.8351,-12.1412, -12.4539,-12.7694,-13.0839,-13.24, -13.2766,-13.2801,-13.2832,-13.2872, -13.2872,-13.2853,-12.9715,-12.657, -12.1859,-11.8792,-11.4188,-11.1111, -10.8027,-10.4943,-10.1851,-9.72041, -9.4105,-9.1003,-8.78988,-8.47919, -8.16828,-7.85707,-7.54566,-7.23387, -6.92192,-6.60963,-6.15673,-5.63238, -5.10724,-4.8443,-4.58118,-4.31803, -4.05485,-3.79142,-3.52787,-3.26428, -2.86842,-2.60451,-2.34037,-1.94419, -1.67986,-1.41544,-1.15093,-0.886263, -0.356546,0.0410363,0.306109,0.571452, 0.83659,0.969382,1.00306)
FOOTPRINT_POINT_LONGITUDE = (182.761,182.286,181.955,181.602, 181.591,181.579,181.577,181.572,181.569 ,181.566,181.561,181.556,181.553,181.55 ,181.547,181.543,181.54,181.534,181.528 ,181.524,181.519,181.515,181.511, 181.506,181.498,181.489,181.48,181.472, 181.467,181.461,181.455,181.45,181.444, 181.438,181.432,181.426,181.42,181.414, 181.403,181.392,181.384,181.377,181.371 ,181.365,181.36,181.353,181.344,181.336 ,181.334,181.334,181.736,182.14,182.796 ,182.81,182.819,182.816,182.812,182.807 ,182.805,182.802,182.8,182.797,182.795, 182.792,182.787,182.784,182.782,182.78, 182.778,182.776,182.774,182.773,182.771 ,182.77,182.769,182.767,182.766,182.764 ,182.764,182.763,182.762,182.762, 182.762,182.761,182.761,182.761,182.761 ,182.761,182.761,182.762,182.762, 182.762,182.763,182.763,182.764,182.765 ,182.765,182.766,182.766,182.761)
ORBIT_NUMBER = 7213
ORBITAL_ECCENTRICITY = 0.575
ORBITAL_INCLINATION = 86.8
ORBITAL_SEMIMAJOR_AXIS = 8767.4
PERIAPSIS_ALTITUDE = 333.78
PERIAPSIS_ARGUMENT_ANGLE = 172.9
PERIAPSIS_TIME = 2009-08-17T04:04:45.000Z
SPACECRAFT_ORIENTATION = (0.0,-1.0,0.0)
^MEX_ORIENTATION_DESC = "MEX_ORIENTATION_DESC.TXT"
SPACECRAFT_POINTING_MODE = NADIR
^MEX_POINTING_DESC = "MEX_POINTING_DESC.TXT"
RIGHT_ASCENSION = -1e+32
DECLINATION = -1e+32
OFFSET_ANGLE = -1e+32
SPACECRAFT_SOLAR_DISTANCE = 2.1949e+08
TARGET_NAME = MARS
/* CAMERA DATA ELEMENTS */
DETECTOR_TEMPERATURE = 18.3705
FOCAL_PLANE_TEMPERATURE = 8.9911
INST_CMPRS_NAME = "DISCRETE COSINE TRANSFORMATION (DCT)"
INST_CMPRS_RATIO = 11.7181
INST_CMPRS_QUALITY = 0
INST_CMPRS_QUANTZ_TBL_ID = 0
INSTRUMENT_TEMPERATURE = 11.4379
LENS_TEMPERATURE = 9.3989
MACROPIXEL_SIZE = 8
MISSING_FRAMES = 0
PIXEL_SUBSAMPLING_FLAG = N
SIGNAL_CHAIN_ID = 2
/* RADIOMETRIC DATA ELEMENTS */
BANDWIDTH = 88.0
CENTER_FILTER_WAVELENGTH = 538.0
RADIANCE_OFFSET = 1.05048
RADIANCE_SCALING_FACTOR = 0.00388745
REFLECTANCE_SCALING_FACTOR = 0.000161244
MEX:REFLECTANCE_OFFSET = 0.043572
/* IMAGE OBJECT DEFINITIONS */
OBJECT = IMAGE
  INTERCHANGE_FORMAT = BINARY
  LINES = 8475
  LINE_SAMPLES = 875
  SAMPLE_TYPE = UNSIGNED_INTEGER
  SAMPLE_BITS = 8
  BANDS = 1
  BAND_STORAGE_TYPE = BAND_SEQUENTIAL
  MAXIMUM = 255
  MEAN = 124.799
  MINIMUM = 1
  STANDARD_DEVIATION = 21.0359
END_OBJECT = IMAGE
/* MAP OBJECT DEFINITIONS */
OBJECT = IMAGE_MAP_PROJECTION
  ^DATA_SET_MAP_PROJECTION_CATALOG= "DSMAP.CAT"
  A_AXIS_RADIUS = 3396.0
  B_AXIS_RADIUS = 3396.0
  C_AXIS_RADIUS = 3396.0
  CENTER_LATITUDE = 0.0
  CENTER_LONGITUDE = 182.0
  COORDINATE_SYSTEM_NAME = PLANETOGRAPHIC
  COORDINATE_SYSTEM_TYPE = "BODY-FIXED ROTATING"
  EASTERNMOST_LONGITUDE = 182.819
  FIRST_STANDARD_PARALLEL = "N/A"
  LINE_FIRST_PIXEL = 1
  LINE_LAST_PIXEL = 8475
  LINE_PROJECTION_OFFSET = 607.5625
  MAP_PROJECTION_ROTATION = 0.0
  MAP_PROJECTION_TYPE = SINUSOIDAL
  MAP_RESOLUTION = 592.713803866667
  MAP_SCALE = 0.1
  MAXIMUM_LATITUDE = 1.012
  MINIMUM_LATITUDE = -13.2872
  POSITIVE_LONGITUDE_DIRECTION = EAST
  REFERENCE_LATITUDE = "N/A"
  REFERENCE_LONGITUDE = "N/A"
  SAMPLE_FIRST_PIXEL = 1
  SAMPLE_LAST_PIXEL = 875
  SAMPLE_PROJECTION_OFFSET = 397.8125
  SECOND_STANDARD_PARALLEL = "N/A"
  WESTERNMOST_LONGITUDE = 181.334
END_OBJECT = IMAGE_MAP_PROJECTION
END
