PDS_VERSION_ID = PDS3
/* FILE DATA ELEMENTS */
RECORD_TYPE = UNDEFINED
/* POINTERS TO DATA OBJECTS */
^IMAGE = ("H7208_0000_BL4.TIF")
/* IDENTIFICATION DATA ELEMENTS */
DATA_SET_ID = "MEX-M-HRSC-4-REFDR-MAPPROJECT-EXT3-V4.0"
DATA_SET_NAME = "MARS EXPRESS HRSC MAP PROJECTED REFDR EXTENSION3 V4.0"
DETECTOR_ID = MEX_HRSC_BLUE
EVENT_TYPE = "MARS-LOCAL-CARTOGRAPHY-Fl-Tc"
INSTRUMENT_HOST_ID = MEX
INSTRUMENT_HOST_NAME = "MARS EXPRESS"
INSTRUMENT_ID = HRSC
INSTRUMENT_NAME = "HIGH RESOLUTION STEREO CAMERA"
MISSION_NAME = "MARS EXPRESS"
MISSION_PHASE_NAME = ME_Phase_18
PROCESSING_LEVEL_ID = 4
PRODUCT_CREATION_TIME = 2023-02-01T22:33:16.000Z
PRODUCT_ID = "H7208_0000_BL4.TIF"
RELEASE_ID = 0002
REVISION_ID = 0000
/* QUALITY DATA ELEMENTS */
DATA_QUALITY_ID = 1
DATA_QUALITY_DESC = "Data calculated based on original SPICE kernels"
/* TIME DATA ELEMENTS */
SPACECRAFT_CLOCK_START_COUNT = "1/0198437486.09057"
SPACECRAFT_CLOCK_STOP_COUNT = "1/0198437700.64930"
START_TIME = 2009-08-15T17:32:12.606Z
STOP_TIME = 2009-08-15T17:34:35.989Z
/* ORBITAL DATA ELEMENTS */
ASCENDING_NODE_LONGITUDE = 80.0
MAXIMUM_RESOLUTION = 0.1111
FOOTPRINT_POINT_LATITUDE = (22.4461,22.4466,22.4465,22.4462, 22.4456,22.4448,22.4437,22.4437,22.4496 ,22.2479,22.046,21.844,21.6418,21.3387, 21.1361,20.8326,20.6299,20.427,20.2239, 20.0211,19.818,19.6148,19.4114,19.208, 18.9127,18.5713,18.2296,17.8875,17.3746 ,17.0321,16.7748,16.6031,16.4316, 16.1744,16.0028,15.8312,15.6595,15.3167 ,15.1449,14.9724,14.8005,14.6292, 14.4571,14.1989,14.0266,13.8552,13.6831 ,13.51,13.3375,13.2514,13.1894,13.1907, 13.1892,13.1887,13.1884,13.1883,13.19, 13.4481,13.6202,13.7928,14.0508,14.2229 ,14.395,14.5672,14.7392,14.9112,15.0831 ,15.341,15.513,15.685,15.8568,16.1144, 16.3717,16.5433,16.8856,17.2287,17.4851 ,17.6564,17.9133,18.2554,18.5973, 18.9388,19.2391,19.4426,19.646,19.8493, 20.0526,20.2558,20.4588,20.6617,20.8645 ,21.0672,21.2698,21.4723,21.6746, 21.8768,22.0789,22.2809,22.3819, 22.4461)
FOOTPRINT_POINT_LONGITUDE = (327.556,327.214,326.996,326.779, 326.563,326.347,326.133,326.119,326.106 ,326.109,326.112,326.116,326.119, 326.123,326.126,326.13,326.132,326.135, 326.137,326.14,326.142,326.144,326.147, 326.149,326.152,326.155,326.158,326.162 ,326.166,326.168,326.17,326.172,326.173 ,326.174,326.175,326.176,326.177, 326.178,326.179,326.181,326.181,326.182 ,326.182,326.183,326.184,326.184, 326.185,326.186,326.186,326.186,326.186 ,326.471,326.783,327.132,327.402, 327.414,327.422,327.424,327.426,327.43, 327.433,327.435,327.438,327.44,327.443, 327.445,327.448,327.452,327.455,327.458 ,327.461,327.465,327.469,327.472, 327.476,327.482,327.485,327.489,327.494 ,327.5,327.506,327.512,327.517,327.521, 327.525,327.528,327.532,327.536,327.54, 327.544,327.548,327.552,327.556,327.559 ,327.563,327.567,327.571,327.575, 327.577,327.556)
ORBIT_NUMBER = 7208
ORBITAL_ECCENTRICITY = 0.575
ORBITAL_INCLINATION = 86.81
ORBITAL_SEMIMAJOR_AXIS = 8768.3
PERIAPSIS_ALTITUDE = 333.24
PERIAPSIS_ARGUMENT_ANGLE = 173.77
PERIAPSIS_TIME = 2009-08-15T17:36:17.000Z
SPACECRAFT_ORIENTATION = (0.0,-1.0,0.0)
^MEX_ORIENTATION_DESC = "MEX_ORIENTATION_DESC.TXT"
SPACECRAFT_POINTING_MODE = ACROSSTRACK
^MEX_POINTING_DESC = "MEX_POINTING_DESC.TXT"
RIGHT_ASCENSION = -1e+32
DECLINATION = -1e+32
OFFSET_ANGLE = 0.35
SPACECRAFT_SOLAR_DISTANCE = 2.19224e+08
TARGET_NAME = MARS
/* CAMERA DATA ELEMENTS */
DETECTOR_TEMPERATURE = 18.1666
FOCAL_PLANE_TEMPERATURE = 7.7677
INST_CMPRS_NAME = "DISCRETE COSINE TRANSFORMATION (DCT)"
INST_CMPRS_RATIO = 9.58137
INST_CMPRS_QUALITY = 0
INST_CMPRS_QUANTZ_TBL_ID = 0
INSTRUMENT_TEMPERATURE = 11.234
LENS_TEMPERATURE = 8.3794
MACROPIXEL_SIZE = 8
MISSING_FRAMES = 0
PIXEL_SUBSAMPLING_FLAG = N
SIGNAL_CHAIN_ID = 2
/* RADIOMETRIC DATA ELEMENTS */
BANDWIDTH = 76.0
CENTER_FILTER_WAVELENGTH = 444.0
RADIANCE_OFFSET = 0.339177
RADIANCE_SCALING_FACTOR = 0.000992128
REFLECTANCE_SCALING_FACTOR = 4.8989e-05
MEX:REFLECTANCE_OFFSET = 0.0167478
/* IMAGE OBJECT DEFINITIONS */
OBJECT = IMAGE
  INTERCHANGE_FORMAT = BINARY
  LINES = 5486
  LINE_SAMPLES = 823
  SAMPLE_TYPE = UNSIGNED_INTEGER
  SAMPLE_BITS = 8
  BANDS = 1
  BAND_STORAGE_TYPE = BAND_SEQUENTIAL
  MAXIMUM = 254
  MEAN = 98.1931
  MINIMUM = 1
  STANDARD_DEVIATION = 31.5669
END_OBJECT = IMAGE
/* MAP OBJECT DEFINITIONS */
OBJECT = IMAGE_MAP_PROJECTION
  ^DATA_SET_MAP_PROJECTION_CATALOG= "DSMAP.CAT"
  A_AXIS_RADIUS = 3396.0
  B_AXIS_RADIUS = 3396.0
  C_AXIS_RADIUS = 3396.0
  CENTER_LATITUDE = 0.0
  CENTER_LONGITUDE = 327.0
  COORDINATE_SYSTEM_NAME = PLANETOGRAPHIC
  COORDINATE_SYSTEM_TYPE = "BODY-FIXED ROTATING"
  EASTERNMOST_LONGITUDE = 327.577
  FIRST_STANDARD_PARALLEL = "N/A"
  LINE_FIRST_PIXEL = 1
  LINE_LAST_PIXEL = 5486
  LINE_PROJECTION_OFFSET = 13304.9375
  MAP_PROJECTION_ROTATION = 0.0
  MAP_PROJECTION_TYPE = SINUSOIDAL
  MAP_RESOLUTION = 592.713803866667
  MAP_SCALE = 0.1
  MAXIMUM_LATITUDE = 22.4496
  MINIMUM_LATITUDE = 13.1883
  POSITIVE_LONGITUDE_DIRECTION = EAST
  REFERENCE_LATITUDE = "N/A"
  REFERENCE_LONGITUDE = "N/A"
  SAMPLE_FIRST_PIXEL = 1
  SAMPLE_LAST_PIXEL = 823
  SAMPLE_PROJECTION_OFFSET = 502.1875
  SECOND_STANDARD_PARALLEL = "N/A"
  WESTERNMOST_LONGITUDE = 326.106
END_OBJECT = IMAGE_MAP_PROJECTION
END
