PDS_VERSION_ID = PDS3
/* FILE DATA ELEMENTS */
RECORD_TYPE = UNDEFINED
/* POINTERS TO DATA OBJECTS */
^IMAGE = ("H7206_0000_S14.TIF")
/* IDENTIFICATION DATA ELEMENTS */
DATA_SET_ID = "MEX-M-HRSC-4-REFDR-MAPPROJECT-EXT3-V4.0"
DATA_SET_NAME = "MARS EXPRESS HRSC MAP PROJECTED REFDR EXTENSION3 V4.0"
DETECTOR_ID = MEX_HRSC_S1
EVENT_TYPE = "MARS-REGIONAL-MAPPING-Vo-Eo"
INSTRUMENT_HOST_ID = MEX
INSTRUMENT_HOST_NAME = "MARS EXPRESS"
INSTRUMENT_ID = HRSC
INSTRUMENT_NAME = "HIGH RESOLUTION STEREO CAMERA"
MISSION_NAME = "MARS EXPRESS"
MISSION_PHASE_NAME = ME_Phase_18
PROCESSING_LEVEL_ID = 4
PRODUCT_CREATION_TIME = 2023-02-01T22:33:16.000Z
PRODUCT_ID = "H7206_0000_S14.TIF"
RELEASE_ID = 0002
REVISION_ID = 0000
/* QUALITY DATA ELEMENTS */
DATA_QUALITY_ID = 1
DATA_QUALITY_DESC = "Data calculated based on original SPICE kernels"
/* TIME DATA ELEMENTS */
SPACECRAFT_CLOCK_START_COUNT = "1/0198388052.08255"
SPACECRAFT_CLOCK_STOP_COUNT = "1/0198388326.50028"
START_TIME = 2009-08-15T03:47:34.596Z
STOP_TIME = 2009-08-15T03:51:02.956Z
/* ORBITAL DATA ELEMENTS */
ASCENDING_NODE_LONGITUDE = 80.03
MAXIMUM_RESOLUTION = 0.0286
FOOTPRINT_POINT_LATITUDE = (9.62923,9.63262,9.63452,9.6348,9.63479 ,9.60861,9.33535,8.92574,8.65212, 8.37837,8.10475,7.57331,7.04111,6.5079, 5.97378,5.43873,5.17094,4.9029,4.63461, 4.36621,4.09764,3.82889,3.55997,3.29086 ,3.02158,2.75212,2.48251,2.21275, 1.94282,1.67276,1.40253,1.13219, 0.861738,0.591162,0.320466,0.0495559, -0.221418,-0.495822,-0.767066,-1.0407, -1.32113,-1.60163,-1.88223,-2.16296, -2.58395,-2.86504,-3.14583,-3.42698, -3.70802,-3.8485,-3.98784,-3.9914, -3.99708,-3.9972,-3.9967,-3.71568, -3.43432,-3.15329,-2.73209,-2.45125, -2.17045,-1.88973,-1.60904,-1.32851, -1.04803,-0.774398,-0.50318,-0.228675, 0.0423407,0.313259,0.584053,0.854731, 1.12528,1.39577,1.66597,1.93611,2.20609 ,2.47599,2.74567,3.01517,3.28449, 3.55363,3.82261,4.0914,4.36004,4.62849, 4.89675,5.16476,5.43264,5.968,6.50255, 7.03623,7.56827,8.09964,8.51022,8.78409 ,9.05769,9.33102,9.46772,9.62923)
FOOTPRINT_POINT_LONGITUDE = (168.649,168.216,167.76,167.455,167.444 ,167.432,167.432,167.433,167.433, 167.433,167.432,167.432,167.431,167.43, 167.428,167.426,167.425,167.424,167.423 ,167.422,167.42,167.419,167.417,167.416 ,167.414,167.412,167.41,167.408,167.406 ,167.404,167.402,167.4,167.397,167.395, 167.392,167.39,167.387,167.384,167.382, 167.379,167.376,167.373,167.37,167.366, 167.361,167.358,167.354,167.351,167.347 ,167.345,167.344,167.95,168.557,168.569 ,168.574,168.574,168.574,168.574, 168.575,168.575,168.576,168.577,168.577 ,168.578,168.579,168.58,168.581,168.582 ,168.583,168.584,168.585,168.586, 168.587,168.589,168.59,168.592,168.593, 168.595,168.596,168.598,168.6,168.602, 168.604,168.605,168.607,168.609,168.612 ,168.614,168.616,168.62,168.625,168.63, 168.635,168.641,168.645,168.648,168.651 ,168.654,168.655,168.649)
ORBIT_NUMBER = 7206
ORBITAL_ECCENTRICITY = 0.575
ORBITAL_INCLINATION = 86.8
ORBITAL_SEMIMAJOR_AXIS = 8768.47
PERIAPSIS_ALTITUDE = 333.18
PERIAPSIS_ARGUMENT_ANGLE = 174.14
PERIAPSIS_TIME = 2009-08-15T03:49:02.000Z
SPACECRAFT_ORIENTATION = (0.0,-1.0,0.0)
^MEX_ORIENTATION_DESC = "MEX_ORIENTATION_DESC.TXT"
SPACECRAFT_POINTING_MODE = NADIR
^MEX_POINTING_DESC = "MEX_POINTING_DESC.TXT"
RIGHT_ASCENSION = -1e+32
DECLINATION = -1e+32
OFFSET_ANGLE = -1e+32
SPACECRAFT_SOLAR_DISTANCE = 2.19118e+08
TARGET_NAME = MARS
/* CAMERA DATA ELEMENTS */
DETECTOR_TEMPERATURE = 17.7588
FOCAL_PLANE_TEMPERATURE = 8.1755
INST_CMPRS_NAME = "DISCRETE COSINE TRANSFORMATION (DCT)"
INST_CMPRS_RATIO = 7.72118
INST_CMPRS_QUALITY = 0
INST_CMPRS_QUANTZ_TBL_ID = 0
INSTRUMENT_TEMPERATURE = 11.234
LENS_TEMPERATURE = 8.5833
MACROPIXEL_SIZE = 2
MISSING_FRAMES = 1
PIXEL_SUBSAMPLING_FLAG = N
SIGNAL_CHAIN_ID = 1
/* RADIOMETRIC DATA ELEMENTS */
BANDWIDTH = 180.0
CENTER_FILTER_WAVELENGTH = 677.0
RADIANCE_OFFSET = 2.88422
RADIANCE_SCALING_FACTOR = 0.0110507
REFLECTANCE_SCALING_FACTOR = 0.000276813
MEX:REFLECTANCE_OFFSET = 0.0722481
/* IMAGE OBJECT DEFINITIONS */
OBJECT = IMAGE
  INTERCHANGE_FORMAT = BINARY
  LINES = 32250
  LINE_SAMPLES = 3092
  SAMPLE_TYPE = UNSIGNED_INTEGER
  SAMPLE_BITS = 8
  BANDS = 1
  BAND_STORAGE_TYPE = BAND_SEQUENTIAL
  MAXIMUM = 255
  MEAN = 132.083
  MINIMUM = 1
  STANDARD_DEVIATION = 28.201
END_OBJECT = IMAGE
/* MAP OBJECT DEFINITIONS */
OBJECT = IMAGE_MAP_PROJECTION
  ^DATA_SET_MAP_PROJECTION_CATALOG= "DSMAP.CAT"
  A_AXIS_RADIUS = 3396.0
  B_AXIS_RADIUS = 3396.0
  C_AXIS_RADIUS = 3396.0
  CENTER_LATITUDE = 0.0
  CENTER_LONGITUDE = 168.0
  COORDINATE_SYSTEM_NAME = PLANETOGRAPHIC
  COORDINATE_SYSTEM_TYPE = "BODY-FIXED ROTATING"
  EASTERNMOST_LONGITUDE = 168.655
  FIRST_STANDARD_PARALLEL = "N/A"
  LINE_FIRST_PIXEL = 1
  LINE_LAST_PIXEL = 32250
  LINE_PROJECTION_OFFSET = 22814.75
  MAP_PROJECTION_ROTATION = 0.0
  MAP_PROJECTION_TYPE = SINUSOIDAL
  MAP_RESOLUTION = 2370.85521546667
  MAP_SCALE = 0.025
  MAXIMUM_LATITUDE = 9.6348
  MINIMUM_LATITUDE = -3.9972
  POSITIVE_LONGITUDE_DIRECTION = EAST
  REFERENCE_LATITUDE = "N/A"
  REFERENCE_LONGITUDE = "N/A"
  SAMPLE_FIRST_PIXEL = 1
  SAMPLE_LAST_PIXEL = 3092
  SAMPLE_PROJECTION_OFFSET = 1577.25
  SECOND_STANDARD_PARALLEL = "N/A"
  WESTERNMOST_LONGITUDE = 167.344
END_OBJECT = IMAGE_MAP_PROJECTION
END
