PDS_VERSION_ID = PDS3
/* FILE DATA ELEMENTS */
RECORD_TYPE = UNDEFINED
/* POINTERS TO DATA OBJECTS */
^IMAGE = ("H7205_0000_BL4.TIF")
/* IDENTIFICATION DATA ELEMENTS */
DATA_SET_ID = "MEX-M-HRSC-4-REFDR-MAPPROJECT-EXT3-V4.0"
DATA_SET_NAME = "MARS EXPRESS HRSC MAP PROJECTED REFDR EXTENSION3 V4.0"
DETECTOR_ID = MEX_HRSC_BLUE
EVENT_TYPE = "MARS-REGIONAL-MAPPING-Vo-Te"
INSTRUMENT_HOST_ID = MEX
INSTRUMENT_HOST_NAME = "MARS EXPRESS"
INSTRUMENT_ID = HRSC
INSTRUMENT_NAME = "HIGH RESOLUTION STEREO CAMERA"
MISSION_NAME = "MARS EXPRESS"
MISSION_PHASE_NAME = ME_Phase_18
PROCESSING_LEVEL_ID = 4
PRODUCT_CREATION_TIME = 2023-02-01T22:33:16.000Z
PRODUCT_ID = "H7205_0000_BL4.TIF"
RELEASE_ID = 0002
REVISION_ID = 0000
/* QUALITY DATA ELEMENTS */
DATA_QUALITY_ID = 1
DATA_QUALITY_DESC = "Data calculated based on original SPICE kernels"
/* TIME DATA ELEMENTS */
SPACECRAFT_CLOCK_START_COUNT = "1/0198363566.09062"
SPACECRAFT_CLOCK_STOP_COUNT = "1/0198363916.45701"
START_TIME = 2009-08-14T21:00:10.796Z
STOP_TIME = 2009-08-14T21:04:22.345Z
/* ORBITAL DATA ELEMENTS */
ASCENDING_NODE_LONGITUDE = 80.06
MAXIMUM_RESOLUTION = 0.1277
FOOTPRINT_POINT_LATITUDE = (-12.4292,-12.4254,-12.4209,-12.4137, -12.4135,-12.4226,-12.9411,-13.603, -14.1324,-14.4023,-14.673,-15.2132, -15.4881,-15.7641,-16.0397,-16.4559, -16.7372,-17.0183,-17.2988,-17.5856, -17.8719,-18.1577,-18.4485,-18.7401, -19.0312,-19.3265,-19.6233,-19.9196, -20.3719,-20.6734,-20.9781,-21.285, -21.5915,-21.9039,-22.2155,-22.6889, -23.0055,-23.487,-23.8083,-24.1352, -24.4615,-24.793,-25.1241,-25.46, -25.7959,-26.1369,-26.6508,-27.1706, -27.346,-27.4043,-27.4099,-27.4129, -27.4154,-27.4158,-27.415,-27.4149, -27.4122,-27.0621,-26.717,-26.3729, -26.0324,-25.6935,-25.3576,-24.8584, -24.3634,-24.037,-23.7121,-23.3908, -23.0695,-22.7531,-22.279,-21.9675, -21.5012,-21.1948,-20.7358,-20.4345, -20.1326,-19.6853,-19.3886,-19.0923, -18.8013,-18.5098,-18.2181,-17.9323, -17.646,-17.218,-16.9374,-16.6564, -16.2361,-15.9608,-15.5471,-15.2712, -14.7311,-14.4605,-14.1895,-13.6602, -13.2624,-12.6087,-12.4789,-12.4292)
FOOTPRINT_POINT_LONGITUDE = (269.076,268.649,268.22,267.664,267.65, 267.661,267.648,267.631,267.617,267.61, 267.603,267.588,267.58,267.572,267.564, 267.552,267.543,267.535,267.527,267.518 ,267.509,267.5,267.49,267.481,267.471, 267.461,267.452,267.442,267.426,267.416 ,267.405,267.395,267.384,267.373, 267.361,267.344,267.332,267.314,267.302 ,267.289,267.276,267.263,267.25,267.236 ,267.222,267.208,267.187,267.165, 267.157,267.155,267.639,267.998,268.524 ,268.985,269.361,269.382,269.396, 269.383,269.371,269.359,269.347,269.336 ,269.325,269.309,269.294,269.285, 269.275,269.266,269.257,269.249,269.237 ,269.229,269.218,269.21,269.2,269.193, 269.187,269.177,269.171,269.166,269.16, 269.154,269.149,269.144,269.139,269.132 ,269.128,269.123,269.117,269.113, 269.107,269.103,269.096,269.093,269.089 ,269.083,269.079,269.072,269.071, 269.076)
ORBIT_NUMBER = 7205
ORBITAL_ECCENTRICITY = 0.576
ORBITAL_INCLINATION = 86.79
ORBITAL_SEMIMAJOR_AXIS = 8784.39
PERIAPSIS_ALTITUDE = 332.35
PERIAPSIS_ARGUMENT_ANGLE = 174.31
PERIAPSIS_TIME = 2009-08-14T20:55:23.000Z
SPACECRAFT_ORIENTATION = (0.0,-1.0,0.0)
^MEX_ORIENTATION_DESC = "MEX_ORIENTATION_DESC.TXT"
SPACECRAFT_POINTING_MODE = ACROSSTRACK
^MEX_POINTING_DESC = "MEX_POINTING_DESC.TXT"
RIGHT_ASCENSION = -1e+32
DECLINATION = -1e+32
OFFSET_ANGLE = -0.37
SPACECRAFT_SOLAR_DISTANCE = 2.19065e+08
TARGET_NAME = MARS
/* CAMERA DATA ELEMENTS */
DETECTOR_TEMPERATURE = 17.9627
FOCAL_PLANE_TEMPERATURE = 8.3794
INST_CMPRS_NAME = "DISCRETE COSINE TRANSFORMATION (DCT)"
INST_CMPRS_RATIO = 17.1232
INST_CMPRS_QUALITY = 0
INST_CMPRS_QUANTZ_TBL_ID = 0
INSTRUMENT_TEMPERATURE = 11.4379
LENS_TEMPERATURE = 8.7872
MACROPIXEL_SIZE = 8
MISSING_FRAMES = 0
PIXEL_SUBSAMPLING_FLAG = N
SIGNAL_CHAIN_ID = 2
/* RADIOMETRIC DATA ELEMENTS */
BANDWIDTH = 76.0
CENTER_FILTER_WAVELENGTH = 444.0
RADIANCE_OFFSET = 0.283052
RADIANCE_SCALING_FACTOR = 0.00173901
REFLECTANCE_SCALING_FACTOR = 8.57446e-05
MEX:REFLECTANCE_OFFSET = 0.0139563
/* IMAGE OBJECT DEFINITIONS */
OBJECT = IMAGE
  INTERCHANGE_FORMAT = BINARY
  LINES = 8890
  LINE_SAMPLES = 1178
  SAMPLE_TYPE = UNSIGNED_INTEGER
  SAMPLE_BITS = 8
  BANDS = 1
  BAND_STORAGE_TYPE = BAND_SEQUENTIAL
  MAXIMUM = 255
  MEAN = 122.381
  MINIMUM = 1
  STANDARD_DEVIATION = 13.1702
END_OBJECT = IMAGE
/* MAP OBJECT DEFINITIONS */
OBJECT = IMAGE_MAP_PROJECTION
  ^DATA_SET_MAP_PROJECTION_CATALOG= "DSMAP.CAT"
  A_AXIS_RADIUS = 3396.0
  B_AXIS_RADIUS = 3396.0
  C_AXIS_RADIUS = 3396.0
  CENTER_LATITUDE = 0.0
  CENTER_LONGITUDE = 268.0
  COORDINATE_SYSTEM_NAME = PLANETOGRAPHIC
  COORDINATE_SYSTEM_TYPE = "BODY-FIXED ROTATING"
  EASTERNMOST_LONGITUDE = 269.396
  FIRST_STANDARD_PARALLEL = "N/A"
  LINE_FIRST_PIXEL = 1
  LINE_LAST_PIXEL = 8890
  LINE_PROJECTION_OFFSET = -7355.1875
  MAP_PROJECTION_ROTATION = 0.0
  MAP_PROJECTION_TYPE = SINUSOIDAL
  MAP_RESOLUTION = 592.713803866667
  MAP_SCALE = 0.1
  MAXIMUM_LATITUDE = -12.4135
  MINIMUM_LATITUDE = -27.4158
  POSITIVE_LONGITUDE_DIRECTION = EAST
  REFERENCE_LATITUDE = "N/A"
  REFERENCE_LONGITUDE = "N/A"
  SAMPLE_FIRST_PIXEL = 1
  SAMPLE_LAST_PIXEL = 1178
  SAMPLE_PROJECTION_OFFSET = 452.4375
  SECOND_STANDARD_PARALLEL = "N/A"
  WESTERNMOST_LONGITUDE = 267.155
END_OBJECT = IMAGE_MAP_PROJECTION
END
