PDS_VERSION_ID = PDS3
/* FILE DATA ELEMENTS */
RECORD_TYPE = UNDEFINED
/* POINTERS TO DATA OBJECTS */
^IMAGE = ("H7201_0000_P24.TIF")
/* IDENTIFICATION DATA ELEMENTS */
DATA_SET_ID = "MEX-M-HRSC-4-REFDR-MAPPROJECT-EXT3-V4.0"
DATA_SET_NAME = "MARS EXPRESS HRSC MAP PROJECTED REFDR EXTENSION3 V4.0"
DETECTOR_ID = MEX_HRSC_P2
EVENT_TYPE = "MARS-REGIONAL-MAPPING-Te-Fl-Lc"
INSTRUMENT_HOST_ID = MEX
INSTRUMENT_HOST_NAME = "MARS EXPRESS"
INSTRUMENT_ID = HRSC
INSTRUMENT_NAME = "HIGH RESOLUTION STEREO CAMERA"
MISSION_NAME = "MARS EXPRESS"
MISSION_PHASE_NAME = ME_Phase_18
PROCESSING_LEVEL_ID = 4
PRODUCT_CREATION_TIME = 2023-02-01T22:33:16.000Z
PRODUCT_ID = "H7201_0000_P24.TIF"
RELEASE_ID = 0002
REVISION_ID = 0000
/* QUALITY DATA ELEMENTS */
DATA_QUALITY_ID = 1
DATA_QUALITY_DESC = "Data calculated based on original SPICE kernels"
/* TIME DATA ELEMENTS */
SPACECRAFT_CLOCK_START_COUNT = "1/0198264074.09055"
SPACECRAFT_CLOCK_STOP_COUNT = "1/0198264495.34464"
START_TIME = 2009-08-13T17:22:06.700Z
STOP_TIME = 2009-08-13T17:27:57.780Z
/* ORBITAL DATA ELEMENTS */
ASCENDING_NODE_LONGITUDE = 80.13
MAXIMUM_RESOLUTION = 0.0559
FOOTPRINT_POINT_LATITUDE = (0.418425,0.425893,0.425993,0.424741, -0.151863,-0.535801,-0.919467,-1.30342, -1.68581,-2.25963,-2.64104,-3.02163, -3.39833,-3.7818,-4.16098,-4.53908, -4.91642,-5.29232,-5.66939,-6.04611, -6.77471,-7.22884,-7.88692,-8.32896, -8.787,-9.45709,-9.89785,-10.3364, -10.7748,-11.2115,-11.647,-12.054, -12.717,-13.1538,-13.605,-14.2831, -14.7251,-15.1796,-15.8744,-16.3397, -16.8107,-17.2984,-18.0272,-18.759, -19.5006,-20.0001,-20.7604,-21.016, -21.0228,-21.0269,-21.0281,-21.0244, -21.0242,-21.023,-20.0082,-19.2587, -18.5185,-17.7869,-17.2973,-16.8221, -16.1212,-15.6537,-15.1948,-14.5171, -14.0665,-13.6213,-13.179,-12.7301, -12.0696,-11.6555,-11.2228,-10.7862, -10.3485,-9.90976,-9.46952,-9.02796, -8.56378,-8.12049,-7.67676,-7.2312, -6.79944,-6.0567,-5.68023,-5.30327, -4.92527,-4.54457,-4.15852,-3.78911, -3.41142,-3.03292,-2.6532,-2.27036, -1.88956,-1.50535,-0.932123,-0.548767, -0.164973,0.219145,0.412624,0.418425)
FOOTPRINT_POINT_LONGITUDE = (312.765,311.592,311.581,311.579, 311.572,311.568,311.563,311.559,311.554 ,311.547,311.541,311.536,311.529, 311.525,311.519,311.513,311.507,311.5, 311.494,311.488,311.466,311.462,311.445 ,311.436,311.434,311.424,311.415, 311.405,311.396,311.386,311.376,311.354 ,311.341,311.328,311.321,311.304, 311.289,311.274,311.257,311.242,311.229 ,311.221,311.203,311.182,311.158, 311.143,311.118,311.108,311.108,311.614 ,312.208,312.96,312.978,312.984,312.957 ,312.939,312.923,312.911,312.906, 312.896,312.882,312.875,312.867,312.853 ,312.846,312.837,312.832,312.829, 312.823,312.809,312.803,312.799,312.795 ,312.791,312.788,312.784,312.791, 312.789,312.786,312.783,312.775,312.769 ,312.768,312.767,312.766,312.766, 312.769,312.764,312.763,312.762,312.761 ,312.762,312.761,312.762,312.762, 312.763,312.763,312.764,312.765, 312.765)
ORBIT_NUMBER = 7201
ORBITAL_ECCENTRICITY = 0.575
ORBITAL_INCLINATION = 86.8
ORBITAL_SEMIMAJOR_AXIS = 8770.75
PERIAPSIS_ALTITUDE = 332.36
PERIAPSIS_ARGUMENT_ANGLE = 175.02
PERIAPSIS_TIME = 2009-08-13T17:20:36.000Z
SPACECRAFT_ORIENTATION = (0.0,-1.0,0.0)
^MEX_ORIENTATION_DESC = "MEX_ORIENTATION_DESC.TXT"
SPACECRAFT_POINTING_MODE = NADIR
^MEX_POINTING_DESC = "MEX_POINTING_DESC.TXT"
RIGHT_ASCENSION = -1e+32
DECLINATION = -1e+32
OFFSET_ANGLE = -1e+32
SPACECRAFT_SOLAR_DISTANCE = 2.18854e+08
TARGET_NAME = MARS
/* CAMERA DATA ELEMENTS */
DETECTOR_TEMPERATURE = 18.5744
FOCAL_PLANE_TEMPERATURE = 8.3794
INST_CMPRS_NAME = "DISCRETE COSINE TRANSFORMATION (DCT)"
INST_CMPRS_RATIO = 11.2573
INST_CMPRS_QUALITY = 0
INST_CMPRS_QUANTZ_TBL_ID = 0
INSTRUMENT_TEMPERATURE = 11.6418
LENS_TEMPERATURE = 8.7872
MACROPIXEL_SIZE = 4
MISSING_FRAMES = 0
PIXEL_SUBSAMPLING_FLAG = N
SIGNAL_CHAIN_ID = 3
/* RADIOMETRIC DATA ELEMENTS */
BANDWIDTH = 177.0
CENTER_FILTER_WAVELENGTH = 676.5
RADIANCE_OFFSET = 1.91847
RADIANCE_SCALING_FACTOR = 0.0135839
REFLECTANCE_SCALING_FACTOR = 0.000344978
MEX:REFLECTANCE_OFFSET = 0.0487215
/* IMAGE OBJECT DEFINITIONS */
OBJECT = IMAGE
  INTERCHANGE_FORMAT = BINARY
  LINES = 25425
  LINE_SAMPLES = 1979
  SAMPLE_TYPE = UNSIGNED_INTEGER
  SAMPLE_BITS = 8
  BANDS = 1
  BAND_STORAGE_TYPE = BAND_SEQUENTIAL
  MAXIMUM = 255
  MEAN = 67.7466
  MINIMUM = 1
  STANDARD_DEVIATION = 21.9504
END_OBJECT = IMAGE
/* MAP OBJECT DEFINITIONS */
OBJECT = IMAGE_MAP_PROJECTION
  ^DATA_SET_MAP_PROJECTION_CATALOG= "DSMAP.CAT"
  A_AXIS_RADIUS = 3396.0
  B_AXIS_RADIUS = 3396.0
  C_AXIS_RADIUS = 3396.0
  CENTER_LATITUDE = 0.0
  CENTER_LONGITUDE = 312.0
  COORDINATE_SYSTEM_NAME = PLANETOGRAPHIC
  COORDINATE_SYSTEM_TYPE = "BODY-FIXED ROTATING"
  EASTERNMOST_LONGITUDE = 312.984
  FIRST_STANDARD_PARALLEL = "N/A"
  LINE_FIRST_PIXEL = 1
  LINE_LAST_PIXEL = 25425
  LINE_PROJECTION_OFFSET = 514.625
  MAP_PROJECTION_ROTATION = 0.0
  MAP_PROJECTION_TYPE = SINUSOIDAL
  MAP_RESOLUTION = 1185.42760773333
  MAP_SCALE = 0.05
  MAXIMUM_LATITUDE = 0.425993
  MINIMUM_LATITUDE = -21.0281
  POSITIVE_LONGITUDE_DIRECTION = EAST
  REFERENCE_LATITUDE = "N/A"
  REFERENCE_LONGITUDE = "N/A"
  SAMPLE_FIRST_PIXEL = 1
  SAMPLE_LAST_PIXEL = 1979
  SAMPLE_PROJECTION_OFFSET = 939.875
  SECOND_STANDARD_PARALLEL = "N/A"
  WESTERNMOST_LONGITUDE = 311.108
END_OBJECT = IMAGE_MAP_PROJECTION
END
