PDS_VERSION_ID = PDS3
/* FILE DATA ELEMENTS */
RECORD_TYPE = UNDEFINED
/* POINTERS TO DATA OBJECTS */
^IMAGE = ("H7201_0000_IR4.TIF")
/* IDENTIFICATION DATA ELEMENTS */
DATA_SET_ID = "MEX-M-HRSC-4-REFDR-MAPPROJECT-EXT3-V4.0"
DATA_SET_NAME = "MARS EXPRESS HRSC MAP PROJECTED REFDR EXTENSION3 V4.0"
DETECTOR_ID = MEX_HRSC_IR
EVENT_TYPE = "MARS-REGIONAL-MAPPING-Te-Fl-Lc"
INSTRUMENT_HOST_ID = MEX
INSTRUMENT_HOST_NAME = "MARS EXPRESS"
INSTRUMENT_ID = HRSC
INSTRUMENT_NAME = "HIGH RESOLUTION STEREO CAMERA"
MISSION_NAME = "MARS EXPRESS"
MISSION_PHASE_NAME = ME_Phase_18
PROCESSING_LEVEL_ID = 4
PRODUCT_CREATION_TIME = 2023-02-01T22:33:16.000Z
PRODUCT_ID = "H7201_0000_IR4.TIF"
RELEASE_ID = 0002
REVISION_ID = 0000
/* QUALITY DATA ELEMENTS */
DATA_QUALITY_ID = 1
DATA_QUALITY_DESC = "Data calculated based on original SPICE kernels"
/* TIME DATA ELEMENTS */
SPACECRAFT_CLOCK_START_COUNT = "1/0198264074.09055"
SPACECRAFT_CLOCK_STOP_COUNT = "1/0198264495.34464"
START_TIME = 2009-08-13T17:21:21.795Z
STOP_TIME = 2009-08-13T17:26:49.402Z
/* ORBITAL DATA ELEMENTS */
ASCENDING_NODE_LONGITUDE = 80.13
MAXIMUM_RESOLUTION = 0.0558
FOOTPRINT_POINT_LATITUDE = (0.426601,0.430285,0.434551,0.434593, 0.434277,0.057903,-0.318519,-0.694817, -1.25843,-1.63555,-2.01924,-2.60338, -2.99326,-3.38728,-3.77197,-4.16233, -4.55236,-4.94358,-5.52949,-5.91814, -6.32213,-6.91823,-7.69861,-8.08896, -8.47931,-9.03795,-9.42576,-9.81446, -10.4769,-11.1724,-11.8833,-12.3632, -12.8213,-13.2865,-13.7381,-14.4381, -14.9051,-15.5995,-16.061,-16.5348, -17.005,-17.4593,-17.9426,-18.6684, -19.1619,-19.9116,-20.6706,-20.9293, -21.001,-21.0036,-21.007,-21.0095, -21.0095,-21.0084,-20.4927,-19.9886, -19.4856,-18.9932,-18.2554,-17.7803, -17.3128,-16.8413,-16.3604,-15.8983, -15.4392,-14.7371,-14.0419,-13.5761, -13.1145,-12.6635,-12.2022,-11.7159, -11.2459,-10.7817,-10.3172,-9.68233, -9.29329,-8.54108,-7.95622,-7.5661, -7.17651,-6.77322,-6.37047,-5.98165, -5.59234,-5.20277,-4.81393,-4.23931, -3.83969,-3.44652,-3.05558,-2.4693, -2.08272,-1.69451,-1.13071,-0.752883, -0.37619,0.188999,0.375952,0.426601)
FOOTPRINT_POINT_LONGITUDE = (312.757,312.332,311.603,311.592,311.59 ,311.586,311.583,311.579,311.574,311.57 ,311.566,311.56,311.555,311.549,311.546 ,311.541,311.536,311.53,311.521,311.516 ,311.505,311.492,311.48,311.473,311.467 ,311.467,311.46,311.454,311.442,311.429 ,311.41,311.394,311.387,311.376,311.371 ,311.353,311.341,311.324,311.313, 311.301,311.291,311.288,311.276,311.259 ,311.247,311.227,311.207,311.199, 311.197,311.703,312.417,312.877,312.892 ,312.898,312.886,312.877,312.868, 312.859,312.846,312.842,312.84,312.833, 312.824,312.819,312.814,312.802,312.794 ,312.788,312.784,312.784,312.781, 312.769,312.764,312.761,312.758,312.755 ,312.753,312.76,312.758,312.756,312.756 ,312.75,312.745,312.745,312.745,312.745 ,312.745,312.749,312.746,312.745, 312.745,312.746,312.748,312.748,312.75, 312.751,312.753,312.755,312.756, 312.757)
ORBIT_NUMBER = 7201
ORBITAL_ECCENTRICITY = 0.575
ORBITAL_INCLINATION = 86.8
ORBITAL_SEMIMAJOR_AXIS = 8770.75
PERIAPSIS_ALTITUDE = 332.36
PERIAPSIS_ARGUMENT_ANGLE = 175.02
PERIAPSIS_TIME = 2009-08-13T17:20:36.000Z
SPACECRAFT_ORIENTATION = (0.0,-1.0,0.0)
^MEX_ORIENTATION_DESC = "MEX_ORIENTATION_DESC.TXT"
SPACECRAFT_POINTING_MODE = NADIR
^MEX_POINTING_DESC = "MEX_POINTING_DESC.TXT"
RIGHT_ASCENSION = -1e+32
DECLINATION = -1e+32
OFFSET_ANGLE = -1e+32
SPACECRAFT_SOLAR_DISTANCE = 2.18854e+08
TARGET_NAME = MARS
/* CAMERA DATA ELEMENTS */
DETECTOR_TEMPERATURE = 17.5549
FOCAL_PLANE_TEMPERATURE = 8.3794
INST_CMPRS_NAME = "DISCRETE COSINE TRANSFORMATION (DCT)"
INST_CMPRS_RATIO = 9.37874
INST_CMPRS_QUALITY = 0
INST_CMPRS_QUANTZ_TBL_ID = 0
INSTRUMENT_TEMPERATURE = 11.6418
LENS_TEMPERATURE = 8.7872
MACROPIXEL_SIZE = 4
MISSING_FRAMES = 0
PIXEL_SUBSAMPLING_FLAG = N
SIGNAL_CHAIN_ID = 2
/* RADIOMETRIC DATA ELEMENTS */
BANDWIDTH = 81.0
CENTER_FILTER_WAVELENGTH = 955.5
RADIANCE_OFFSET = 0.404316
RADIANCE_SCALING_FACTOR = 0.00382601
REFLECTANCE_SCALING_FACTOR = 0.000395351
MEX:REFLECTANCE_OFFSET = 0.0417789
/* IMAGE OBJECT DEFINITIONS */
OBJECT = IMAGE
  INTERCHANGE_FORMAT = BINARY
  LINES = 25425
  LINE_SAMPLES = 1979
  SAMPLE_TYPE = UNSIGNED_INTEGER
  SAMPLE_BITS = 8
  BANDS = 1
  BAND_STORAGE_TYPE = BAND_SEQUENTIAL
  MAXIMUM = 255
  MEAN = 65.9072
  MINIMUM = 1
  STANDARD_DEVIATION = 22.947
END_OBJECT = IMAGE
/* MAP OBJECT DEFINITIONS */
OBJECT = IMAGE_MAP_PROJECTION
  ^DATA_SET_MAP_PROJECTION_CATALOG= "DSMAP.CAT"
  A_AXIS_RADIUS = 3396.0
  B_AXIS_RADIUS = 3396.0
  C_AXIS_RADIUS = 3396.0
  CENTER_LATITUDE = 0.0
  CENTER_LONGITUDE = 312.0
  COORDINATE_SYSTEM_NAME = PLANETOGRAPHIC
  COORDINATE_SYSTEM_TYPE = "BODY-FIXED ROTATING"
  EASTERNMOST_LONGITUDE = 312.898
  FIRST_STANDARD_PARALLEL = "N/A"
  LINE_FIRST_PIXEL = 1
  LINE_LAST_PIXEL = 25425
  LINE_PROJECTION_OFFSET = 514.625
  MAP_PROJECTION_ROTATION = 0.0
  MAP_PROJECTION_TYPE = SINUSOIDAL
  MAP_RESOLUTION = 1185.42760773333
  MAP_SCALE = 0.05
  MAXIMUM_LATITUDE = 0.434593
  MINIMUM_LATITUDE = -21.0095
  POSITIVE_LONGITUDE_DIRECTION = EAST
  REFERENCE_LATITUDE = "N/A"
  REFERENCE_LONGITUDE = "N/A"
  SAMPLE_FIRST_PIXEL = 1
  SAMPLE_LAST_PIXEL = 1979
  SAMPLE_PROJECTION_OFFSET = 939.875
  SECOND_STANDARD_PARALLEL = "N/A"
  WESTERNMOST_LONGITUDE = 311.197
END_OBJECT = IMAGE_MAP_PROJECTION
END
