PDS_VERSION_ID = PDS3
/* FILE DATA ELEMENTS */
RECORD_TYPE = UNDEFINED
/* POINTERS TO DATA OBJECTS */
^IMAGE = ("H7199_0000_BL4.TIF")
/* IDENTIFICATION DATA ELEMENTS */
DATA_SET_ID = "MEX-M-HRSC-4-REFDR-MAPPROJECT-EXT3-V4.0"
DATA_SET_NAME = "MARS EXPRESS HRSC MAP PROJECTED REFDR EXTENSION3 V4.0"
DETECTOR_ID = MEX_HRSC_BLUE
EVENT_TYPE = "MARS-REGIONAL-MAPPING-Im-Fl"
INSTRUMENT_HOST_ID = MEX
INSTRUMENT_HOST_NAME = "MARS EXPRESS"
INSTRUMENT_ID = HRSC
INSTRUMENT_NAME = "HIGH RESOLUTION STEREO CAMERA"
MISSION_NAME = "MARS EXPRESS"
MISSION_PHASE_NAME = ME_Phase_18
PROCESSING_LEVEL_ID = 4
PRODUCT_CREATION_TIME = 2023-02-01T06:41:01.000Z
PRODUCT_ID = "H7199_0000_BL4.TIF"
RELEASE_ID = 0001
REVISION_ID = 0000
/* QUALITY DATA ELEMENTS */
DATA_QUALITY_ID = 1
DATA_QUALITY_DESC = "Data calculated based on original SPICE kernels"
/* TIME DATA ELEMENTS */
SPACECRAFT_CLOCK_START_COUNT = "1/0198214482.09066"
SPACECRAFT_CLOCK_STOP_COUNT = "1/0198214835.09566"
START_TIME = 2009-08-13T03:35:20.341Z
STOP_TIME = 2009-08-13T03:39:54.767Z
/* ORBITAL DATA ELEMENTS */
ASCENDING_NODE_LONGITUDE = 80.17
MAXIMUM_RESOLUTION = 0.0558
FOOTPRINT_POINT_LATITUDE = (-2.99878,-2.99574,-2.99078,-2.99069, -2.9884,-3.2255,-3.46269,-3.69972, -4.06207,-4.41688,-4.65341,-5.00768, -5.24386,-5.47996,-5.71579,-5.95151, -6.42245,-6.89291,-7.3625,-7.71399, -8.19881,-8.47837,-12.4896,-12.7638, -13.0378,-13.3114,-13.5849,-13.858, -14.2761,-14.5554,-14.8344,-15.264, -15.5497,-15.8346,-16.1191,-16.554, -16.8445,-17.1347,-17.4289,-17.725, -18.169,-18.4698,-18.7716,-19.0729, -19.3789,-19.6863,-19.9922,-20.1478, -20.1681,-20.1709,-20.1723,-20.173, -20.1734,-20.1734,-20.1722,-19.7104, -19.4033,-19.0967,-18.7957,-18.494, -18.193,-17.8974,-17.6014,-17.1587, -16.8688,-16.5784,-16.1434,-15.859, -15.5741,-15.289,-14.998,-14.7191, -14.4398,-14.1601,-13.8816,-13.6086, -13.3353,-13.0617,-12.788,-12.3763, -8.36393,-8.08825,-7.6195,-7.14973, -6.79778,-6.32735,-5.85623,-5.62049, -5.3845,-5.14865,-4.91245,-4.67618, -4.43979,-4.20322,-3.84853,-3.6047, -3.36753,-3.13024,-3.01152,-2.99878)
FOOTPRINT_POINT_LONGITUDE = (154.405,153.912,153.216,153.205, 153.198,153.194,153.191,153.188,153.183 ,153.178,153.174,153.169,153.165, 153.162,153.158,153.155,153.147,153.14, 153.132,153.126,153.118,153.114,153.038 ,153.031,153.025,153.019,153.013, 153.007,152.998,152.991,152.985,152.974 ,152.968,152.961,152.954,152.943, 152.935,152.928,152.92,152.911,152.9, 152.891,152.883,152.874,152.866,152.857 ,152.846,152.842,152.842,153.245, 153.618,153.909,154.556,154.572,154.578 ,154.566,154.56,154.553,154.547,154.541 ,154.535,154.529,154.524,154.515,154.51 ,154.505,154.498,154.494,154.49,154.485 ,154.481,154.478,154.474,154.471, 154.468,154.465,154.462,154.459,154.455 ,154.451,154.422,154.421,154.419, 154.419,154.417,154.415,154.414,154.414 ,154.413,154.412,154.412,154.411, 154.411,154.41,154.409,154.409,154.409, 154.409,154.409,154.405)
ORBIT_NUMBER = 7199
ORBITAL_ECCENTRICITY = 0.575
ORBITAL_INCLINATION = 86.8
ORBITAL_SEMIMAJOR_AXIS = 8771.26
PERIAPSIS_ALTITUDE = 332.48
PERIAPSIS_ARGUMENT_ANGLE = 175.38
PERIAPSIS_TIME = 2009-08-13T03:33:18.000Z
SPACECRAFT_ORIENTATION = (0.0,-1.0,0.0)
^MEX_ORIENTATION_DESC = "MEX_ORIENTATION_DESC.TXT"
SPACECRAFT_POINTING_MODE = NADIR
^MEX_POINTING_DESC = "MEX_POINTING_DESC.TXT"
RIGHT_ASCENSION = -1e+32
DECLINATION = -1e+32
OFFSET_ANGLE = -1e+32
SPACECRAFT_SOLAR_DISTANCE = 2.18749e+08
TARGET_NAME = MARS
/* CAMERA DATA ELEMENTS */
DETECTOR_TEMPERATURE = 18.1666
FOCAL_PLANE_TEMPERATURE = 8.1755
INST_CMPRS_NAME = "DISCRETE COSINE TRANSFORMATION (DCT)"
INST_CMPRS_RATIO = 7.0628
INST_CMPRS_QUALITY = 0
INST_CMPRS_QUANTZ_TBL_ID = 0
INSTRUMENT_TEMPERATURE = 11.0301
LENS_TEMPERATURE = 8.3794
MACROPIXEL_SIZE = 4
PIXEL_SUBSAMPLING_FLAG = N
SIGNAL_CHAIN_ID = 2
/* RADIOMETRIC DATA ELEMENTS */
BANDWIDTH = 76.0
CENTER_FILTER_WAVELENGTH = 444.0
RADIANCE_OFFSET = 0.333617
RADIANCE_SCALING_FACTOR = 0.00163538
REFLECTANCE_SCALING_FACTOR = 8.04018e-05
MEX:REFLECTANCE_OFFSET = 0.016402
/* IMAGE OBJECT DEFINITIONS */
OBJECT = IMAGE
  INTERCHANGE_FORMAT = BINARY
  LINES = 20363
  LINE_SAMPLES = 1922
  SAMPLE_TYPE = UNSIGNED_INTEGER
  SAMPLE_BITS = 8
  BANDS = 1
  BAND_STORAGE_TYPE = BAND_SEQUENTIAL
  MAXIMUM = 255
  MEAN = 115.29
  MINIMUM = 1
  STANDARD_DEVIATION = 21.323
END_OBJECT = IMAGE
/* MAP OBJECT DEFINITIONS */
OBJECT = IMAGE_MAP_PROJECTION
  ^DATA_SET_MAP_PROJECTION_CATALOG= "DSMAP.CAT"
  A_AXIS_RADIUS = 3396.0
  B_AXIS_RADIUS = 3396.0
  C_AXIS_RADIUS = 3396.0
  CENTER_LATITUDE = 0.0
  CENTER_LONGITUDE = 154.0
  COORDINATE_SYSTEM_NAME = PLANETOGRAPHIC
  COORDINATE_SYSTEM_TYPE = "BODY-FIXED ROTATING"
  EASTERNMOST_LONGITUDE = 154.578
  FIRST_STANDARD_PARALLEL = "N/A"
  LINE_FIRST_PIXEL = 1
  LINE_LAST_PIXEL = 20363
  LINE_PROJECTION_OFFSET = -3532.625
  MAP_PROJECTION_ROTATION = 0.0
  MAP_PROJECTION_TYPE = SINUSOIDAL
  MAP_RESOLUTION = 1185.42760773333
  MAP_SCALE = 0.05
  MAXIMUM_LATITUDE = -2.9884
  MINIMUM_LATITUDE = -20.1734
  POSITIVE_LONGITUDE_DIRECTION = EAST
  REFERENCE_LATITUDE = "N/A"
  REFERENCE_LONGITUDE = "N/A"
  SAMPLE_FIRST_PIXEL = 1
  SAMPLE_LAST_PIXEL = 1922
  SAMPLE_PROJECTION_OFFSET = 1289.375
  SECOND_STANDARD_PARALLEL = "N/A"
  WESTERNMOST_LONGITUDE = 152.842
END_OBJECT = IMAGE_MAP_PROJECTION
END
