PDS_VERSION_ID = PDS3
/* FILE DATA ELEMENTS */
RECORD_TYPE = UNDEFINED
/* POINTERS TO DATA OBJECTS */
^IMAGE = ("H7196_0000_ND4.TIF")
/* IDENTIFICATION DATA ELEMENTS */
DATA_SET_ID = "MEX-M-HRSC-4-REFDR-MAPPROJECT-EXT3-V4.0"
DATA_SET_NAME = "MARS EXPRESS HRSC MAP PROJECTED REFDR EXTENSION3 V4.0"
DETECTOR_ID = MEX_HRSC_NADIR
EVENT_TYPE = "MARS-REGIONAL-MAPPING-Im-Fl"
INSTRUMENT_HOST_ID = MEX
INSTRUMENT_HOST_NAME = "MARS EXPRESS"
INSTRUMENT_ID = HRSC
INSTRUMENT_NAME = "HIGH RESOLUTION STEREO CAMERA"
MISSION_NAME = "MARS EXPRESS"
MISSION_PHASE_NAME = ME_Phase_18
PROCESSING_LEVEL_ID = 4
PRODUCT_CREATION_TIME = 2023-02-01T06:41:01.000Z
PRODUCT_ID = "H7196_0000_ND4.TIF"
RELEASE_ID = 0001
REVISION_ID = 0000
/* QUALITY DATA ELEMENTS */
DATA_QUALITY_ID = 1
DATA_QUALITY_DESC = "Data calculated based on original SPICE kernels"
/* TIME DATA ELEMENTS */
SPACECRAFT_CLOCK_START_COUNT = "1/0198140094.09074"
SPACECRAFT_CLOCK_STOP_COUNT = "1/0198140378.15114"
START_TIME = 2009-08-12T06:55:29.843Z
STOP_TIME = 2009-08-12T06:58:48.838Z
/* ORBITAL DATA ELEMENTS */
ASCENDING_NODE_LONGITUDE = 80.24
MAXIMUM_RESOLUTION = 0.0147
FOOTPRINT_POINT_LATITUDE = (-8.7759,-8.77193,-8.76736,-8.76141, -8.76124,-8.76165,-9.00305,-9.24455, -9.48565,-9.72662,-9.96739,-10.208, -10.4484,-10.6886,-10.9286,-11.1685, -11.6476,-12.1258,-12.6032,-13.0798, -13.5554,-14.0301,-14.2723,-14.5154, -14.7584,-15.0011,-15.2435,-15.4897, -15.738,-15.9859,-16.2337,-16.4811, -16.7343,-16.9874,-17.2403,-17.4929, -17.878,-18.1361,-18.3939,-18.7836, -19.0469,-19.3097,-19.5721,-19.9738, -20.2415,-20.5088,-20.7814,-21.054, -21.1902,-21.1987,-21.209,-21.2132, -21.2159,-21.2192,-21.2193,-21.2191, -20.8102,-20.5373,-20.27,-19.8682, -19.6002,-19.3377,-19.0748,-18.8116, -18.55,-18.2923,-18.0343,-17.776, -17.5196,-17.267,-17.014,-16.7607, -16.5072,-16.2596,-16.0118,-15.7637, -15.5153,-15.2688,-15.0263,-14.7835, -14.5404,-14.297,-14.0546,-13.5797, -13.1038,-12.627,-12.1494,-11.6709, -11.1916,-10.9517,-10.7116,-10.4712, -10.2307,-9.98997,-9.74909,-9.50798, -9.26673,-8.90448,-8.78363,-8.7759)
FOOTPRINT_POINT_LONGITUDE = (95.6341,95.219,94.7905,94.291,94.2768, 94.2784,94.2704,94.2717,94.2649,94.26, 94.2543,94.2488,94.2435,94.2369,94.2318 ,94.2267,94.2166,94.2042,94.1928, 94.1807,94.1668,94.1538,94.1471,94.1398 ,94.1334,94.1261,94.1191,94.111,94.1029 ,94.0948,94.0875,94.0796,94.0715, 94.0628,94.054,94.0456,94.0324,94.0235, 94.0159,93.9939,93.9907,93.982,93.9724, 93.9582,93.9492,93.9398,93.9291,93.918, 93.9127,93.9124,94.6069,94.9635,95.2451 ,95.694,95.7112,95.7195,95.7152,95.7116 ,95.7084,95.7038,95.7002,95.6974, 95.6945,95.6919,95.689,95.6863,95.6839, 95.6815,95.6786,95.6771,95.6747,95.6724 ,95.6705,95.6675,95.6666,95.6648, 95.6632,95.6616,95.6601,95.6586,95.6571 ,95.6543,95.6537,95.6524,95.6495, 95.6474,95.6454,95.6438,95.6409,95.6415 ,95.641,95.64,95.6393,95.6392,95.6391, 95.6382,95.6379,95.6371,95.6366, 95.6341)
ORBIT_NUMBER = 7196
ORBITAL_ECCENTRICITY = 0.575
ORBITAL_INCLINATION = 86.8
ORBITAL_SEMIMAJOR_AXIS = 8778.57
PERIAPSIS_ALTITUDE = 331.37
PERIAPSIS_ARGUMENT_ANGLE = 175.86
PERIAPSIS_TIME = 2009-08-12T06:52:10.000Z
SPACECRAFT_ORIENTATION = (0.0,-1.0,0.0)
^MEX_ORIENTATION_DESC = "MEX_ORIENTATION_DESC.TXT"
SPACECRAFT_POINTING_MODE = ACROSSTRACK
^MEX_POINTING_DESC = "MEX_POINTING_DESC.TXT"
RIGHT_ASCENSION = -1e+32
DECLINATION = -1e+32
OFFSET_ANGLE = -1.3
SPACECRAFT_SOLAR_DISTANCE = 2.18591e+08
TARGET_NAME = MARS
/* CAMERA DATA ELEMENTS */
DETECTOR_TEMPERATURE = 18.3705
FOCAL_PLANE_TEMPERATURE = 8.5833
INST_CMPRS_NAME = "DISCRETE COSINE TRANSFORMATION (DCT)"
INST_CMPRS_RATIO = 6.6656
INST_CMPRS_QUALITY = 0
INST_CMPRS_QUANTZ_TBL_ID = 0
INSTRUMENT_TEMPERATURE = 11.234
LENS_TEMPERATURE = 9.195
MACROPIXEL_SIZE = 1
MISSING_FRAMES = 0
PIXEL_SUBSAMPLING_FLAG = N
SIGNAL_CHAIN_ID = 0
/* RADIOMETRIC DATA ELEMENTS */
BANDWIDTH = 177.0
CENTER_FILTER_WAVELENGTH = 677.5
RADIANCE_OFFSET = 1.37738
RADIANCE_SCALING_FACTOR = 0.0093732
REFLECTANCE_SCALING_FACTOR = 0.000237925
MEX:REFLECTANCE_OFFSET = 0.0349629
/* IMAGE OBJECT DEFINITIONS */
OBJECT = IMAGE
  INTERCHANGE_FORMAT = BINARY
  LINES = 59070
  LINE_SAMPLES = 7990
  SAMPLE_TYPE = UNSIGNED_INTEGER
  SAMPLE_BITS = 8
  BANDS = 1
  BAND_STORAGE_TYPE = BAND_SEQUENTIAL
  MAXIMUM = 255
  MEAN = 107.798
  MINIMUM = 1
  STANDARD_DEVIATION = 21.7271
END_OBJECT = IMAGE
/* MAP OBJECT DEFINITIONS */
OBJECT = IMAGE_MAP_PROJECTION
  ^DATA_SET_MAP_PROJECTION_CATALOG= "DSMAP.CAT"
  A_AXIS_RADIUS = 3396.0
  B_AXIS_RADIUS = 3396.0
  C_AXIS_RADIUS = 3396.0
  CENTER_LATITUDE = 0.0
  CENTER_LONGITUDE = 95.0
  COORDINATE_SYSTEM_NAME = PLANETOGRAPHIC
  COORDINATE_SYSTEM_TYPE = "BODY-FIXED ROTATING"
  EASTERNMOST_LONGITUDE = 95.7195
  FIRST_STANDARD_PARALLEL = "N/A"
  LINE_FIRST_PIXEL = 1
  LINE_LAST_PIXEL = 59070
  LINE_PROJECTION_OFFSET = -41532.0
  MAP_PROJECTION_ROTATION = 0.0
  MAP_PROJECTION_TYPE = SINUSOIDAL
  MAP_RESOLUTION = 4741.71043093333
  MAP_SCALE = 0.0125
  MAXIMUM_LATITUDE = -8.761240000000001
  MINIMUM_LATITUDE = -21.2193
  POSITIVE_LONGITUDE_DIRECTION = EAST
  REFERENCE_LATITUDE = "N/A"
  REFERENCE_LONGITUDE = "N/A"
  SAMPLE_FIRST_PIXEL = 1
  SAMPLE_LAST_PIXEL = 7990
  SAMPLE_PROJECTION_OFFSET = 4810.0
  SECOND_STANDARD_PARALLEL = "N/A"
  WESTERNMOST_LONGITUDE = 93.91240000000001
END_OBJECT = IMAGE_MAP_PROJECTION
END
