PDS_VERSION_ID = PDS3
/* FILE DATA ELEMENTS */
RECORD_TYPE = UNDEFINED
/* POINTERS TO DATA OBJECTS */
^IMAGE = ("H7196_0000_GR4.TIF")
/* IDENTIFICATION DATA ELEMENTS */
DATA_SET_ID = "MEX-M-HRSC-4-REFDR-MAPPROJECT-EXT3-V4.0"
DATA_SET_NAME = "MARS EXPRESS HRSC MAP PROJECTED REFDR EXTENSION3 V4.0"
DETECTOR_ID = MEX_HRSC_GREEN
EVENT_TYPE = "MARS-REGIONAL-MAPPING-Im-Fl"
INSTRUMENT_HOST_ID = MEX
INSTRUMENT_HOST_NAME = "MARS EXPRESS"
INSTRUMENT_ID = HRSC
INSTRUMENT_NAME = "HIGH RESOLUTION STEREO CAMERA"
MISSION_NAME = "MARS EXPRESS"
MISSION_PHASE_NAME = ME_Phase_18
PROCESSING_LEVEL_ID = 4
PRODUCT_CREATION_TIME = 2023-02-01T06:41:01.000Z
PRODUCT_ID = "H7196_0000_GR4.TIF"
RELEASE_ID = 0001
REVISION_ID = 0000
/* QUALITY DATA ELEMENTS */
DATA_QUALITY_ID = 1
DATA_QUALITY_DESC = "Data calculated based on original SPICE kernels"
/* TIME DATA ELEMENTS */
SPACECRAFT_CLOCK_START_COUNT = "1/0198140094.09074"
SPACECRAFT_CLOCK_STOP_COUNT = "1/0198140378.15114"
START_TIME = 2009-08-12T06:55:23.965Z
STOP_TIME = 2009-08-12T06:58:41.119Z
/* ORBITAL DATA ELEMENTS */
ASCENDING_NODE_LONGITUDE = 80.24
MAXIMUM_RESOLUTION = 0.0585
FOOTPRINT_POINT_LATITUDE = (-8.75905,-8.76003,-8.76073,-8.76122, -8.76123,-8.76094,-9.00297,-9.3653, -9.607,-9.96905,-10.2103,-10.4513, -10.8128,-11.0532,-11.2937,-11.5338, -11.894,-12.134,-12.3736,-12.613, -12.8523,-13.3305,-13.8079,-14.1734, -14.7756,-15.0196,-15.2633,-15.5068, -15.7502,-15.9997,-16.2488,-16.6221, -16.8707,-17.2514,-17.5057,-17.7597, -18.0135,-18.2726,-18.5332,-18.9205, -19.1826,-19.447,-19.7111,-19.9751, -20.3777,-20.647,-21.0518,-21.1892, -21.2007,-21.2027,-21.2044,-21.2051, -21.2055,-21.2059,-21.2058,-21.2043, -20.9304,-20.6614,-20.3917,-19.9884, -19.5921,-19.3276,-19.0627,-18.8037, -18.5445,-18.2851,-18.0254,-17.7716, -17.5179,-17.2631,-16.8823,-16.6337, -16.2609,-15.8862,-15.6395,-15.3959, -15.1521,-14.9081,-14.6639,-14.422, -13.9447,-13.5787,-13.101,-12.5025, -12.2629,-12.023,-11.7828,-11.5426, -11.3028,-10.9412,-10.7002,-10.4594, -10.2183,-9.97665,-9.73501,-9.49361, -9.25172,-8.88893,-8.76801,-8.75905)
FOOTPRINT_POINT_LONGITUDE = (95.6305,95.2422,94.8421,94.2975, 94.2842,94.2892,94.2839,94.2786,94.2729 ,94.2655,94.2603,94.2549,94.2457, 94.2414,94.2361,94.2316,94.2225,94.2163 ,94.2107,94.2052,94.1993,94.1863,94.173 ,94.1631,94.1467,94.1396,94.1327, 94.1251,94.1172,94.109,94.1019,94.0903, 94.0821,94.0692,94.061,94.0524,94.0436, 94.0355,94.0196,94.0138,94.0016,93.9939 ,93.9853,93.9759,93.9622,93.953,93.9369 ,93.9316,93.9312,94.2738,94.6445, 94.9104,95.1734,95.6887,95.7047,95.7104 ,95.7076,95.7042,95.7012,95.6966, 95.6922,95.6892,95.6864,95.684,95.6813, 95.6787,95.6764,95.6742,95.6714,95.67, 95.6667,95.6647,95.6609,95.6593,95.6578 ,95.6563,95.655,95.6536,95.6523,95.65, 95.6488,95.6471,95.6445,95.6421,95.641, 95.6403,95.6396,95.6389,95.6368,95.6372 ,95.6368,95.6359,95.6353,95.6354, 95.6353,95.6344,95.6343,95.6335,95.6331 ,95.6305)
ORBIT_NUMBER = 7196
ORBITAL_ECCENTRICITY = 0.575
ORBITAL_INCLINATION = 86.8
ORBITAL_SEMIMAJOR_AXIS = 8778.57
PERIAPSIS_ALTITUDE = 331.37
PERIAPSIS_ARGUMENT_ANGLE = 175.86
PERIAPSIS_TIME = 2009-08-12T06:52:10.000Z
SPACECRAFT_ORIENTATION = (0.0,-1.0,0.0)
^MEX_ORIENTATION_DESC = "MEX_ORIENTATION_DESC.TXT"
SPACECRAFT_POINTING_MODE = ACROSSTRACK
^MEX_POINTING_DESC = "MEX_POINTING_DESC.TXT"
RIGHT_ASCENSION = -1e+32
DECLINATION = -1e+32
OFFSET_ANGLE = -1.3
SPACECRAFT_SOLAR_DISTANCE = 2.18591e+08
TARGET_NAME = MARS
/* CAMERA DATA ELEMENTS */
DETECTOR_TEMPERATURE = 18.3705
FOCAL_PLANE_TEMPERATURE = 8.5833
INST_CMPRS_NAME = "DISCRETE COSINE TRANSFORMATION (DCT)"
INST_CMPRS_RATIO = 10.4194
INST_CMPRS_QUALITY = 0
INST_CMPRS_QUANTZ_TBL_ID = 0
INSTRUMENT_TEMPERATURE = 11.234
LENS_TEMPERATURE = 9.195
MACROPIXEL_SIZE = 4
MISSING_FRAMES = 1
PIXEL_SUBSAMPLING_FLAG = N
SIGNAL_CHAIN_ID = 2
/* RADIOMETRIC DATA ELEMENTS */
BANDWIDTH = 88.0
CENTER_FILTER_WAVELENGTH = 538.0
RADIANCE_OFFSET = 0.709363
RADIANCE_SCALING_FACTOR = 0.00335736
REFLECTANCE_SCALING_FACTOR = 0.00013812
MEX:REFLECTANCE_OFFSET = 0.0291827
/* IMAGE OBJECT DEFINITIONS */
OBJECT = IMAGE
  INTERCHANGE_FORMAT = BINARY
  LINES = 14768
  LINE_SAMPLES = 1998
  SAMPLE_TYPE = UNSIGNED_INTEGER
  SAMPLE_BITS = 8
  BANDS = 1
  BAND_STORAGE_TYPE = BAND_SEQUENTIAL
  MAXIMUM = 255
  MEAN = 118.854
  MINIMUM = 1
  STANDARD_DEVIATION = 23.2432
END_OBJECT = IMAGE
/* MAP OBJECT DEFINITIONS */
OBJECT = IMAGE_MAP_PROJECTION
  ^DATA_SET_MAP_PROJECTION_CATALOG= "DSMAP.CAT"
  A_AXIS_RADIUS = 3396.0
  B_AXIS_RADIUS = 3396.0
  C_AXIS_RADIUS = 3396.0
  CENTER_LATITUDE = 0.0
  CENTER_LONGITUDE = 95.0
  COORDINATE_SYSTEM_NAME = PLANETOGRAPHIC
  COORDINATE_SYSTEM_TYPE = "BODY-FIXED ROTATING"
  EASTERNMOST_LONGITUDE = 95.71040000000001
  FIRST_STANDARD_PARALLEL = "N/A"
  LINE_FIRST_PIXEL = 1
  LINE_LAST_PIXEL = 14768
  LINE_PROJECTION_OFFSET = -10383.375
  MAP_PROJECTION_ROTATION = 0.0
  MAP_PROJECTION_TYPE = SINUSOIDAL
  MAP_RESOLUTION = 1185.42760773333
  MAP_SCALE = 0.05
  MAXIMUM_LATITUDE = -8.75905
  MINIMUM_LATITUDE = -21.2059
  POSITIVE_LONGITUDE_DIRECTION = EAST
  REFERENCE_LATITUDE = "N/A"
  REFERENCE_LONGITUDE = "N/A"
  SAMPLE_FIRST_PIXEL = 1
  SAMPLE_LAST_PIXEL = 1998
  SAMPLE_PROJECTION_OFFSET = 1202.125
  SECOND_STANDARD_PARALLEL = "N/A"
  WESTERNMOST_LONGITUDE = 93.9312
END_OBJECT = IMAGE_MAP_PROJECTION
END
