PDS_VERSION_ID = PDS3
/* FILE DATA ELEMENTS */
RECORD_TYPE = UNDEFINED
/* POINTERS TO DATA OBJECTS */
^IMAGE = ("H7196_0000_BL4.TIF")
/* IDENTIFICATION DATA ELEMENTS */
DATA_SET_ID = "MEX-M-HRSC-4-REFDR-MAPPROJECT-EXT3-V4.0"
DATA_SET_NAME = "MARS EXPRESS HRSC MAP PROJECTED REFDR EXTENSION3 V4.0"
DETECTOR_ID = MEX_HRSC_BLUE
EVENT_TYPE = "MARS-REGIONAL-MAPPING-Im-Fl"
INSTRUMENT_HOST_ID = MEX
INSTRUMENT_HOST_NAME = "MARS EXPRESS"
INSTRUMENT_ID = HRSC
INSTRUMENT_NAME = "HIGH RESOLUTION STEREO CAMERA"
MISSION_NAME = "MARS EXPRESS"
MISSION_PHASE_NAME = ME_Phase_18
PROCESSING_LEVEL_ID = 4
PRODUCT_CREATION_TIME = 2023-02-01T06:41:01.000Z
PRODUCT_ID = "H7196_0000_BL4.TIF"
RELEASE_ID = 0001
REVISION_ID = 0000
/* QUALITY DATA ELEMENTS */
DATA_QUALITY_ID = 1
DATA_QUALITY_DESC = "Data calculated based on original SPICE kernels"
/* TIME DATA ELEMENTS */
SPACECRAFT_CLOCK_START_COUNT = "1/0198140094.09074"
SPACECRAFT_CLOCK_STOP_COUNT = "1/0198140378.15114"
START_TIME = 2009-08-12T06:55:35.710Z
STOP_TIME = 2009-08-12T06:58:56.834Z
/* ORBITAL DATA ELEMENTS */
ASCENDING_NODE_LONGITUDE = 80.24
MAXIMUM_RESOLUTION = 0.0592
FOOTPRINT_POINT_LATITUDE = (-8.78849,-8.77962,-8.76995,-8.7559, -8.75554,-8.75825,-9.11964,-9.36066, -9.60084,-9.84135,-10.0811,-10.3209, -10.5603,-10.7995,-11.0389,-11.2778, -11.5168,-11.7551,-12.2311,-12.7065, -13.1806,-13.6537,-13.8957,-14.138, -14.3802,-14.6219,-14.8633,-15.2332, -15.4802,-15.7268,-15.9731,-16.2233, -16.4754,-16.8528,-17.1041,-17.3598, -17.6167,-17.8731,-18.1292,-18.3906, -18.6498,-18.9131,-19.1741,-19.441, -19.7074,-19.9731,-20.3783,-20.6493, -21.0568,-21.1947,-21.2016,-21.2117, -21.2221,-21.2297,-21.2391,-21.2393, -21.2382,-20.9638,-20.6933,-20.4226, -20.0175,-19.7517,-19.4855,-19.0873, -18.8263,-18.4338,-18.1723,-17.9163, -17.6596,-17.4024,-17.1466,-16.895, -16.6433,-16.3907,-16.0147,-15.7681, -15.5213,-15.2742,-14.9041,-14.6626, -14.4199,-14.1776,-13.9362,-13.4574, -13.1017,-12.6271,-12.2703,-11.7941, -11.5556,-11.3159,-10.8387,-10.4791, -10.2392,-9.99957,-9.7596,-9.51888, -9.27836,-8.91677,-8.79605,-8.78849)
FOOTPRINT_POINT_LONGITUDE = (95.6375,95.2454,94.8415,94.2921, 94.2788,94.2836,94.2764,94.2731,94.2668 ,94.2629,94.2567,94.2511,94.2452,94.239 ,94.2346,94.2291,94.2245,94.2182, 94.2059,94.1945,94.1817,94.1684,94.1612 ,94.1544,94.1482,94.141,94.1339,94.1229 ,94.115,94.1066,94.0985,94.091,94.083, 94.0705,94.0621,94.0528,94.0442,94.0353 ,94.0265,94.0187,93.9997,93.9993, 93.9871,93.9791,93.9701,93.9603,93.946, 93.9365,93.9196,93.9142,93.9139,94.2978 ,94.7434,95.1143,95.7076,95.7238, 95.7292,95.7264,95.7227,95.7191,95.714, 95.7107,95.7075,95.7026,95.6998,95.6954 ,95.6925,95.6901,95.6874,95.6847, 95.6829,95.6803,95.6781,95.6754,95.6729 ,95.671,95.6692,95.6675,95.6652,95.6636 ,95.661,95.6593,95.6592,95.6568,95.6545 ,95.6522,95.6504,95.6487,95.6478, 95.6456,95.6454,95.644,95.6432,95.643, 95.6428,95.6419,95.6416,95.6405,95.64, 95.6375)
ORBIT_NUMBER = 7196
ORBITAL_ECCENTRICITY = 0.575
ORBITAL_INCLINATION = 86.8
ORBITAL_SEMIMAJOR_AXIS = 8778.57
PERIAPSIS_ALTITUDE = 331.37
PERIAPSIS_ARGUMENT_ANGLE = 175.86
PERIAPSIS_TIME = 2009-08-12T06:52:10.000Z
SPACECRAFT_ORIENTATION = (0.0,-1.0,0.0)
^MEX_ORIENTATION_DESC = "MEX_ORIENTATION_DESC.TXT"
SPACECRAFT_POINTING_MODE = ACROSSTRACK
^MEX_POINTING_DESC = "MEX_POINTING_DESC.TXT"
RIGHT_ASCENSION = -1e+32
DECLINATION = -1e+32
OFFSET_ANGLE = -1.3
SPACECRAFT_SOLAR_DISTANCE = 2.18591e+08
TARGET_NAME = MARS
/* CAMERA DATA ELEMENTS */
DETECTOR_TEMPERATURE = 18.3705
FOCAL_PLANE_TEMPERATURE = 8.5833
INST_CMPRS_NAME = "DISCRETE COSINE TRANSFORMATION (DCT)"
INST_CMPRS_RATIO = 7.31009
INST_CMPRS_QUALITY = 0
INST_CMPRS_QUANTZ_TBL_ID = 0
INSTRUMENT_TEMPERATURE = 11.234
LENS_TEMPERATURE = 9.195
MACROPIXEL_SIZE = 4
MISSING_FRAMES = 0
PIXEL_SUBSAMPLING_FLAG = N
SIGNAL_CHAIN_ID = 2
/* RADIOMETRIC DATA ELEMENTS */
BANDWIDTH = 76.0
CENTER_FILTER_WAVELENGTH = 444.0
RADIANCE_OFFSET = 0.322496
RADIANCE_SCALING_FACTOR = 0.0017444
REFLECTANCE_SCALING_FACTOR = 8.56386e-05
MEX:REFLECTANCE_OFFSET = 0.0158324
/* IMAGE OBJECT DEFINITIONS */
OBJECT = IMAGE
  INTERCHANGE_FORMAT = BINARY
  LINES = 14768
  LINE_SAMPLES = 1998
  SAMPLE_TYPE = UNSIGNED_INTEGER
  SAMPLE_BITS = 8
  BANDS = 1
  BAND_STORAGE_TYPE = BAND_SEQUENTIAL
  MAXIMUM = 255
  MEAN = 121.909
  MINIMUM = 1
  STANDARD_DEVIATION = 23.016
END_OBJECT = IMAGE
/* MAP OBJECT DEFINITIONS */
OBJECT = IMAGE_MAP_PROJECTION
  ^DATA_SET_MAP_PROJECTION_CATALOG= "DSMAP.CAT"
  A_AXIS_RADIUS = 3396.0
  B_AXIS_RADIUS = 3396.0
  C_AXIS_RADIUS = 3396.0
  CENTER_LATITUDE = 0.0
  CENTER_LONGITUDE = 95.0
  COORDINATE_SYSTEM_NAME = PLANETOGRAPHIC
  COORDINATE_SYSTEM_TYPE = "BODY-FIXED ROTATING"
  EASTERNMOST_LONGITUDE = 95.72920000000001
  FIRST_STANDARD_PARALLEL = "N/A"
  LINE_FIRST_PIXEL = 1
  LINE_LAST_PIXEL = 14768
  LINE_PROJECTION_OFFSET = -10383.375
  MAP_PROJECTION_ROTATION = 0.0
  MAP_PROJECTION_TYPE = SINUSOIDAL
  MAP_RESOLUTION = 1185.42760773333
  MAP_SCALE = 0.05
  MAXIMUM_LATITUDE = -8.75554
  MINIMUM_LATITUDE = -21.2393
  POSITIVE_LONGITUDE_DIRECTION = EAST
  REFERENCE_LATITUDE = "N/A"
  REFERENCE_LONGITUDE = "N/A"
  SAMPLE_FIRST_PIXEL = 1
  SAMPLE_LAST_PIXEL = 1998
  SAMPLE_PROJECTION_OFFSET = 1202.125
  SECOND_STANDARD_PARALLEL = "N/A"
  WESTERNMOST_LONGITUDE = 93.9139
END_OBJECT = IMAGE_MAP_PROJECTION
END
