PDS_VERSION_ID = PDS3
/* FILE DATA ELEMENTS */
RECORD_TYPE = UNDEFINED
/* POINTERS TO DATA OBJECTS */
^IMAGE = ("H7194_0000_P14.TIF")
/* IDENTIFICATION DATA ELEMENTS */
DATA_SET_ID = "MEX-M-HRSC-4-REFDR-MAPPROJECT-EXT3-V4.0"
DATA_SET_NAME = "MARS EXPRESS HRSC MAP PROJECTED REFDR EXTENSION3 V4.0"
DETECTOR_ID = MEX_HRSC_P1
EVENT_TYPE = "MARS-LOCAL-STEREO-Te-Mw-La"
INSTRUMENT_HOST_ID = MEX
INSTRUMENT_HOST_NAME = "MARS EXPRESS"
INSTRUMENT_ID = HRSC
INSTRUMENT_NAME = "HIGH RESOLUTION STEREO CAMERA"
MISSION_NAME = "MARS EXPRESS"
MISSION_PHASE_NAME = ME_Phase_18
PROCESSING_LEVEL_ID = 4
PRODUCT_CREATION_TIME = 2023-02-01T06:41:01.000Z
PRODUCT_ID = "H7194_0000_P14.TIF"
RELEASE_ID = 0001
REVISION_ID = 0000
/* QUALITY DATA ELEMENTS */
DATA_QUALITY_ID = 1
DATA_QUALITY_DESC = "Data calculated based on original SPICE kernels"
/* TIME DATA ELEMENTS */
SPACECRAFT_CLOCK_START_COUNT = "1/0198090478.09134"
SPACECRAFT_CLOCK_STOP_COUNT = "1/0198090646.25544"
START_TIME = 2009-08-11T17:08:11.845Z
STOP_TIME = 2009-08-11T17:09:39.988Z
/* ORBITAL DATA ELEMENTS */
ASCENDING_NODE_LONGITUDE = 80.27
MAXIMUM_RESOLUTION = 0.0299
FOOTPRINT_POINT_LATITUDE = (-10.627,-10.6262,-10.6245,-10.6233, -10.6225,-10.6212,-10.6201,-10.6191, -10.619,-10.6032,-10.8936,-11.1183, -11.2333,-11.4061,-11.5777,-11.6925, -11.8093,-11.9409,-12.0628,-12.2403, -12.4226,-12.5451,-12.6606,-12.8333, -12.9486,-13.0632,-13.342,-13.5469, -13.7773,-13.8949,-14.0139,-14.141, -14.2569,-14.4661,-14.6369,-14.7519, -14.8667,-14.9828,-15.0969,-15.2115, -15.3262,-15.4983,-15.6702,-15.7848, -15.8995,-16.014,-16.243,-16.3002, -16.3441,-16.3464,-16.3477,-16.3492, -16.3501,-16.351,-16.3517,-16.3521, -16.3521,-16.3516,-16.2373,-16.1226, -16.0082,-15.8936,-15.7218,-15.6071, -15.4925,-15.3209,-15.1526,-15.0332, -14.9186,-14.6924,-14.5743,-14.3456, -14.2296,-14.114,-13.9496,-13.7952, -13.5749,-13.4036,-13.2886,-13.1735, -13.0002,-12.884,-12.7556,-12.6366, -12.4541,-12.3279,-12.212,-12.0967, -11.9811,-11.8658,-11.7505,-11.635, -11.5196,-11.4041,-11.2309,-11.1156, -10.8928,-10.6983,-10.6499,-10.627)
FOOTPRINT_POINT_LONGITUDE = (298.588,298.462,298.197,298.007, 297.868,297.666,297.464,297.299,297.287 ,297.291,297.285,297.282,297.28,297.277 ,297.274,297.273,297.27,297.26,297.254, 297.249,297.241,297.235,297.233,297.23, 297.227,297.225,297.224,297.232,297.227 ,297.224,297.219,297.211,297.208, 297.213,297.211,297.208,297.206,297.203 ,297.2,297.198,297.195,297.192,297.188, 297.185,297.183,297.18,297.175,297.174, 297.173,297.499,297.725,297.966,298.137 ,298.279,298.477,298.619,298.633, 298.638,298.637,298.635,298.634,298.632 ,298.63,298.629,298.627,298.625,298.625 ,298.621,298.62,298.619,298.616,298.614 ,298.613,298.611,298.613,298.62,298.623 ,298.622,298.621,298.619,298.618, 298.616,298.609,298.606,298.6,298.594, 298.593,298.592,298.591,298.59,298.589, 298.588,298.588,298.587,298.586,298.585 ,298.584,298.582,298.582,298.588)
ORBIT_NUMBER = 7194
ORBITAL_ECCENTRICITY = 0.575
ORBITAL_INCLINATION = 86.8
ORBITAL_SEMIMAJOR_AXIS = 8774.87
PERIAPSIS_ALTITUDE = 331.54
PERIAPSIS_ARGUMENT_ANGLE = 176.25
PERIAPSIS_TIME = 2009-08-11T17:04:51.000Z
SPACECRAFT_ORIENTATION = (0.0,-1.0,0.0)
^MEX_ORIENTATION_DESC = "MEX_ORIENTATION_DESC.TXT"
SPACECRAFT_POINTING_MODE = NADIR
^MEX_POINTING_DESC = "MEX_POINTING_DESC.TXT"
RIGHT_ASCENSION = -1e+32
DECLINATION = -1e+32
OFFSET_ANGLE = -1e+32
SPACECRAFT_SOLAR_DISTANCE = 2.18487e+08
TARGET_NAME = MARS
/* CAMERA DATA ELEMENTS */
DETECTOR_TEMPERATURE = 17.351
FOCAL_PLANE_TEMPERATURE = 8.5833
INST_CMPRS_NAME = "DISCRETE COSINE TRANSFORMATION (DCT)"
INST_CMPRS_RATIO = 11.9239
INST_CMPRS_QUALITY = 0
INST_CMPRS_QUANTZ_TBL_ID = 0
INSTRUMENT_TEMPERATURE = 11.4379
LENS_TEMPERATURE = 8.9911
MACROPIXEL_SIZE = 2
MISSING_FRAMES = 0
PIXEL_SUBSAMPLING_FLAG = N
SIGNAL_CHAIN_ID = 3
/* RADIOMETRIC DATA ELEMENTS */
BANDWIDTH = 174.0
CENTER_FILTER_WAVELENGTH = 675.0
RADIANCE_OFFSET = 1.77798
RADIANCE_SCALING_FACTOR = 0.0194425
REFLECTANCE_SCALING_FACTOR = 0.000499217
MEX:REFLECTANCE_OFFSET = 0.0456525
/* IMAGE OBJECT DEFINITIONS */
OBJECT = IMAGE
  INTERCHANGE_FORMAT = BINARY
  LINES = 13619
  LINE_SAMPLES = 3436
  SAMPLE_TYPE = UNSIGNED_INTEGER
  SAMPLE_BITS = 8
  BANDS = 1
  BAND_STORAGE_TYPE = BAND_SEQUENTIAL
  MAXIMUM = 255
  MEAN = 56.5912
  MINIMUM = 1
  STANDARD_DEVIATION = 23.0264
END_OBJECT = IMAGE
/* MAP OBJECT DEFINITIONS */
OBJECT = IMAGE_MAP_PROJECTION
  ^DATA_SET_MAP_PROJECTION_CATALOG= "DSMAP.CAT"
  A_AXIS_RADIUS = 3396.0
  B_AXIS_RADIUS = 3396.0
  C_AXIS_RADIUS = 3396.0
  CENTER_LATITUDE = 0.0
  CENTER_LONGITUDE = 298.0
  COORDINATE_SYSTEM_NAME = PLANETOGRAPHIC
  COORDINATE_SYSTEM_TYPE = "BODY-FIXED ROTATING"
  EASTERNMOST_LONGITUDE = 298.638
  FIRST_STANDARD_PARALLEL = "N/A"
  LINE_FIRST_PIXEL = 1
  LINE_LAST_PIXEL = 13619
  LINE_PROJECTION_OFFSET = -25179.75
  MAP_PROJECTION_ROTATION = 0.0
  MAP_PROJECTION_TYPE = SINUSOIDAL
  MAP_RESOLUTION = 2370.85521546667
  MAP_SCALE = 0.025
  MAXIMUM_LATITUDE = -10.6032
  MINIMUM_LATITUDE = -16.3521
  POSITIVE_LONGITUDE_DIRECTION = EAST
  REFERENCE_LATITUDE = "N/A"
  REFERENCE_LONGITUDE = "N/A"
  SAMPLE_FIRST_PIXEL = 1
  SAMPLE_LAST_PIXEL = 3436
  SAMPLE_PROJECTION_OFFSET = 1934.75
  SECOND_STANDARD_PARALLEL = "N/A"
  WESTERNMOST_LONGITUDE = 297.173
END_OBJECT = IMAGE_MAP_PROJECTION
END
