PDS_VERSION_ID = PDS3
/* FILE DATA ELEMENTS */
RECORD_TYPE = UNDEFINED
/* POINTERS TO DATA OBJECTS */
^IMAGE = ("H7191_0000_P14.TIF")
/* IDENTIFICATION DATA ELEMENTS */
DATA_SET_ID = "MEX-M-HRSC-4-REFDR-MAPPROJECT-EXT3-V4.0"
DATA_SET_NAME = "MARS EXPRESS HRSC MAP PROJECTED REFDR EXTENSION3 V4.0"
DETECTOR_ID = MEX_HRSC_P1
EVENT_TYPE = "MARS-LOCAL-STEREO-Vo"
INSTRUMENT_HOST_ID = MEX
INSTRUMENT_HOST_NAME = "MARS EXPRESS"
INSTRUMENT_ID = HRSC
INSTRUMENT_NAME = "HIGH RESOLUTION STEREO CAMERA"
MISSION_NAME = "MARS EXPRESS"
MISSION_PHASE_NAME = ME_Phase_18
PROCESSING_LEVEL_ID = 4
PRODUCT_CREATION_TIME = 2023-02-01T06:41:01.000Z
PRODUCT_ID = "H7191_0000_P14.TIF"
RELEASE_ID = 0001
REVISION_ID = 0000
/* QUALITY DATA ELEMENTS */
DATA_QUALITY_ID = 1
DATA_QUALITY_DESC = "Data calculated based on original SPICE kernels"
/* TIME DATA ELEMENTS */
SPACECRAFT_CLOCK_START_COUNT = "1/0198015837.07306"
SPACECRAFT_CLOCK_STOP_COUNT = "1/0198015982.57928"
START_TIME = 2009-08-10T20:24:09.718Z
STOP_TIME = 2009-08-10T20:25:30.952Z
/* ORBITAL DATA ELEMENTS */
ASCENDING_NODE_LONGITUDE = 80.34
MAXIMUM_RESOLUTION = 0.0268
FOOTPRINT_POINT_LATITUDE = (0.139623,0.140424,0.140964,0.141418, 0.141586,0.14171,0.141796,0.141854, 0.141874,0.141875,0.141874,0.166181, 0.00922243,-0.147685,-0.304616,-0.40915 ,-0.513762,-0.670784,-0.775441,-0.93226 ,-1.08942,-1.19399,-1.35094,-1.50789, -1.61239,-1.7692,-1.92631,-2.03104, -2.18824,-2.34532,-2.50249,-2.60722, -2.71204,-2.86926,-3.02669,-3.13146, -3.28869,-3.44584,-3.55075,-3.70788, -3.81529,-3.92358,-4.03168,-4.1399, -4.30193,-4.46418,-4.62655,-4.73443, -4.89639,-5.05819,-5.11247,-5.14748, -5.14762,-5.14655,-5.14647,-5.14607, -5.14664,-5.14698,-5.1469,-5.14694, -5.14651,-5.03837,-4.93094,-4.71502, -4.55324,-4.39163,-4.28363,-4.12155, -3.95919,-3.85109,-3.68998,-3.53269, -3.37546,-3.27063,-3.11333,-2.95608, -2.85127,-2.69404,-2.53697,-2.43212, -2.27493,-2.11771,-2.01292,-1.85585, -1.69879,-1.59402,-1.43697,-1.33225, -1.17513,-1.07046,-0.913366,-0.808761, -0.651869,-0.495076,-0.338073,-0.181341 ,-0.0768193,0.0800225,0.132167, 0.139623)
FOOTPRINT_POINT_LONGITUDE = (241.023,240.799,240.62,240.429,240.328 ,240.238,240.148,240.058,239.967, 239.877,239.866,239.876,239.875,239.874 ,239.873,239.872,239.871,239.87,239.869 ,239.868,239.867,239.866,239.865, 239.864,239.863,239.862,239.861,239.86, 239.858,239.857,239.856,239.855,239.854 ,239.852,239.851,239.85,239.848,239.847 ,239.846,239.844,239.843,239.842, 239.841,239.84,239.838,239.837,239.835, 239.834,239.833,239.831,239.831,239.831 ,239.966,240.169,240.304,240.473, 240.675,240.821,240.977,240.989,240.993 ,240.993,240.993,240.994,240.994, 240.995,240.995,240.996,240.996,240.997 ,240.997,240.997,240.998,240.998, 240.998,240.999,240.999,241.0,241.0, 241.001,241.001,241.002,241.002,241.003 ,241.004,241.004,241.005,241.005, 241.006,241.006,241.007,241.008,241.008 ,241.009,241.01,241.011,241.012,241.012 ,241.013,241.023)
ORBIT_NUMBER = 7191
ORBITAL_ECCENTRICITY = 0.576
ORBITAL_INCLINATION = 86.79
ORBITAL_SEMIMAJOR_AXIS = 8787.54
PERIAPSIS_ALTITUDE = 331.01
PERIAPSIS_ARGUMENT_ANGLE = 176.74
PERIAPSIS_TIME = 2009-08-10T20:23:41.000Z
SPACECRAFT_ORIENTATION = (0.0,-1.0,0.0)
^MEX_ORIENTATION_DESC = "MEX_ORIENTATION_DESC.TXT"
SPACECRAFT_POINTING_MODE = ACROSSTRACK
^MEX_POINTING_DESC = "MEX_POINTING_DESC.TXT"
RIGHT_ASCENSION = -1e+32
DECLINATION = -1e+32
OFFSET_ANGLE = -0.1
SPACECRAFT_SOLAR_DISTANCE = 2.1833e+08
TARGET_NAME = MARS
/* CAMERA DATA ELEMENTS */
DETECTOR_TEMPERATURE = 17.351
FOCAL_PLANE_TEMPERATURE = 8.3794
INST_CMPRS_NAME = "DISCRETE COSINE TRANSFORMATION (DCT)"
INST_CMPRS_RATIO = 6.16926
INST_CMPRS_QUALITY = 0
INST_CMPRS_QUANTZ_TBL_ID = 0
INSTRUMENT_TEMPERATURE = 11.4379
LENS_TEMPERATURE = 8.7872
MACROPIXEL_SIZE = 2
MISSING_FRAMES = 0
PIXEL_SUBSAMPLING_FLAG = N
SIGNAL_CHAIN_ID = 3
/* RADIOMETRIC DATA ELEMENTS */
BANDWIDTH = 174.0
CENTER_FILTER_WAVELENGTH = 675.0
RADIANCE_OFFSET = 2.3515
RADIANCE_SCALING_FACTOR = 0.0123704
REFLECTANCE_SCALING_FACTOR = 0.000317172
MEX:REFLECTANCE_OFFSET = 0.0602915
/* IMAGE OBJECT DEFINITIONS */
OBJECT = IMAGE
  INTERCHANGE_FORMAT = BINARY
  LINES = 12661
  LINE_SAMPLES = 2822
  SAMPLE_TYPE = UNSIGNED_INTEGER
  SAMPLE_BITS = 8
  BANDS = 1
  BAND_STORAGE_TYPE = BAND_SEQUENTIAL
  MAXIMUM = 255
  MEAN = 97.8478
  MINIMUM = 1
  STANDARD_DEVIATION = 16.3255
END_OBJECT = IMAGE
/* MAP OBJECT DEFINITIONS */
OBJECT = IMAGE_MAP_PROJECTION
  ^DATA_SET_MAP_PROJECTION_CATALOG= "DSMAP.CAT"
  A_AXIS_RADIUS = 3396.0
  B_AXIS_RADIUS = 3396.0
  C_AXIS_RADIUS = 3396.0
  CENTER_LATITUDE = 0.0
  CENTER_LONGITUDE = 240.0
  COORDINATE_SYSTEM_NAME = PLANETOGRAPHIC
  COORDINATE_SYSTEM_TYPE = "BODY-FIXED ROTATING"
  EASTERNMOST_LONGITUDE = 241.023
  FIRST_STANDARD_PARALLEL = "N/A"
  LINE_FIRST_PIXEL = 1
  LINE_LAST_PIXEL = 12661
  LINE_PROJECTION_OFFSET = 321.75
  MAP_PROJECTION_ROTATION = 0.0
  MAP_PROJECTION_TYPE = SINUSOIDAL
  MAP_RESOLUTION = 2370.85521546667
  MAP_SCALE = 0.025
  MAXIMUM_LATITUDE = 0.166181
  MINIMUM_LATITUDE = -5.14762
  POSITIVE_LONGITUDE_DIRECTION = EAST
  REFERENCE_LATITUDE = "N/A"
  REFERENCE_LONGITUDE = "N/A"
  SAMPLE_FIRST_PIXEL = 1
  SAMPLE_LAST_PIXEL = 2822
  SAMPLE_PROJECTION_OFFSET = 417.25
  SECOND_STANDARD_PARALLEL = "N/A"
  WESTERNMOST_LONGITUDE = 239.831
END_OBJECT = IMAGE_MAP_PROJECTION
END
