PDS_VERSION_ID = PDS3
/* FILE DATA ELEMENTS */
RECORD_TYPE = UNDEFINED
/* POINTERS TO DATA OBJECTS */
^IMAGE = ("H7188_0000_RE4.TIF")
/* IDENTIFICATION DATA ELEMENTS */
DATA_SET_ID = "MEX-M-HRSC-4-REFDR-MAPPROJECT-EXT3-V4.0"
DATA_SET_NAME = "MARS EXPRESS HRSC MAP PROJECTED REFDR EXTENSION3 V4.0"
DETECTOR_ID = MEX_HRSC_RED
EVENT_TYPE = "MARS-REGIONAL-MAPPING-Vo-Te-Eo"
INSTRUMENT_HOST_ID = MEX
INSTRUMENT_HOST_NAME = "MARS EXPRESS"
INSTRUMENT_ID = HRSC
INSTRUMENT_NAME = "HIGH RESOLUTION STEREO CAMERA"
MISSION_NAME = "MARS EXPRESS"
MISSION_PHASE_NAME = ME_Phase_18
PROCESSING_LEVEL_ID = 4
PRODUCT_CREATION_TIME = 2023-02-01T06:41:01.000Z
PRODUCT_ID = "H7188_0000_RE4.TIF"
RELEASE_ID = 0001
REVISION_ID = 0000
/* QUALITY DATA ELEMENTS */
DATA_QUALITY_ID = 1
DATA_QUALITY_DESC = "Data calculated based on original SPICE kernels"
/* TIME DATA ELEMENTS */
SPACECRAFT_CLOCK_START_COUNT = "1/0197941374.09055"
SPACECRAFT_CLOCK_STOP_COUNT = "1/0197941650.25900"
START_TIME = 2009-08-09T23:43:51.359Z
STOP_TIME = 2009-08-09T23:47:24.212Z
/* ORBITAL DATA ELEMENTS */
ASCENDING_NODE_LONGITUDE = 80.39
MAXIMUM_RESOLUTION = 0.1133
FOOTPRINT_POINT_LATITUDE = (-0.0104336,-0.00923111,-0.00682485, -0.00303429,-0.00293062,0.0114524, -0.489897,-0.740801,-1.11709,-1.37593, -1.63465,-1.89313,-2.15144,-2.40936, -2.79539,-3.05245,-3.30918,-3.56606, -3.82232,-4.07827,-4.33151,-4.58896, -4.97159,-5.22562,-5.60659,-5.86166, -6.11566,-6.36944,-6.62273,-6.87572, -7.12854,-7.38094,-7.63292,-7.8849, -8.13668,-8.63832,-8.91914,-9.21719, -9.51464,-9.81196,-10.1085,-10.4028, -10.841,-11.1343,-11.4346,-11.7307, -12.1695,-12.4654,-12.9035,-13.1962, -13.3425,-13.354,-13.3562,-13.3588, -13.3625,-13.3625,-13.3606,-12.9207, -12.6221,-12.3376,-12.0441,-11.7435, -11.4507,-11.0109,-10.7125,-10.4144, -9.97267,-9.67698,-9.23176,-8.93421, -8.65307,-8.15271,-7.90134,-7.52252, -7.27013,-7.01735,-6.76527,-6.51201, -6.2582,-6.00412,-5.62232,-5.3677, -5.11418,-4.85982,-4.60485,-4.34916, -3.9655,-3.58089,-3.32452,-3.06674, -2.68174,-2.42456,-2.16623,-1.77917, -1.52046,-1.26273,-0.757037,-0.131279, -0.00584443,-0.0104336)
FOOTPRINT_POINT_LONGITUDE = (183.602,183.307,182.902,182.453, 182.442,182.431,182.426,182.423,182.419 ,182.417,182.414,182.411,182.408, 182.405,182.401,182.398,182.394,182.391 ,182.388,182.384,182.38,182.377,182.372 ,182.368,182.362,182.359,182.355, 182.351,182.347,182.343,182.339,182.335 ,182.331,182.327,182.323,182.314, 182.309,182.303,182.298,182.292,182.287 ,182.28,182.27,182.263,182.259,182.254, 182.244,182.239,182.23,182.224,182.221, 182.221,182.583,183.148,183.632,183.645 ,183.654,183.65,183.65,183.644,183.641, 183.641,183.637,183.633,183.631,183.63, 183.625,183.623,183.619,183.617,183.615 ,183.612,183.611,183.61,183.609,183.608 ,183.607,183.606,183.605,183.605, 183.604,183.604,183.603,183.603,183.602 ,183.602,183.602,183.602,183.602, 183.602,183.602,183.602,183.603,183.604 ,183.604,183.605,183.606,183.607, 183.608,183.602)
ORBIT_NUMBER = 7188
ORBITAL_ECCENTRICITY = 0.575
ORBITAL_INCLINATION = 86.8
ORBITAL_SEMIMAJOR_AXIS = 8768.84
PERIAPSIS_ALTITUDE = 331.33
PERIAPSIS_ARGUMENT_ANGLE = 177.26
PERIAPSIS_TIME = 2009-08-09T23:42:44.000Z
SPACECRAFT_ORIENTATION = (0.0,-1.0,0.0)
^MEX_ORIENTATION_DESC = "MEX_ORIENTATION_DESC.TXT"
SPACECRAFT_POINTING_MODE = NADIR
^MEX_POINTING_DESC = "MEX_POINTING_DESC.TXT"
RIGHT_ASCENSION = -1e+32
DECLINATION = -1e+32
OFFSET_ANGLE = -1e+32
SPACECRAFT_SOLAR_DISTANCE = 2.18174e+08
TARGET_NAME = MARS
/* CAMERA DATA ELEMENTS */
DETECTOR_TEMPERATURE = 18.5744
FOCAL_PLANE_TEMPERATURE = 8.3794
INST_CMPRS_NAME = "DISCRETE COSINE TRANSFORMATION (DCT)"
INST_CMPRS_RATIO = 7.53761
INST_CMPRS_QUALITY = 0
INST_CMPRS_QUANTZ_TBL_ID = 0
INSTRUMENT_TEMPERATURE = 11.4379
LENS_TEMPERATURE = 8.7872
MACROPIXEL_SIZE = 8
MISSING_FRAMES = 0
PIXEL_SUBSAMPLING_FLAG = N
SIGNAL_CHAIN_ID = 2
/* RADIOMETRIC DATA ELEMENTS */
BANDWIDTH = 48.0
CENTER_FILTER_WAVELENGTH = 748.0
RADIANCE_OFFSET = 0.638531
RADIANCE_SCALING_FACTOR = 0.00394576
REFLECTANCE_SCALING_FACTOR = 0.000428611
MEX:REFLECTANCE_OFFSET = 0.0693607
/* IMAGE OBJECT DEFINITIONS */
OBJECT = IMAGE
  INTERCHANGE_FORMAT = BINARY
  LINES = 7919
  LINE_SAMPLES = 802
  SAMPLE_TYPE = UNSIGNED_INTEGER
  SAMPLE_BITS = 8
  BANDS = 1
  BAND_STORAGE_TYPE = BAND_SEQUENTIAL
  MAXIMUM = 255
  MEAN = 103.105
  MINIMUM = 1
  STANDARD_DEVIATION = 22.4303
END_OBJECT = IMAGE
/* MAP OBJECT DEFINITIONS */
OBJECT = IMAGE_MAP_PROJECTION
  ^DATA_SET_MAP_PROJECTION_CATALOG= "DSMAP.CAT"
  A_AXIS_RADIUS = 3396.0
  B_AXIS_RADIUS = 3396.0
  C_AXIS_RADIUS = 3396.0
  CENTER_LATITUDE = 0.0
  CENTER_LONGITUDE = 183.0
  COORDINATE_SYSTEM_NAME = PLANETOGRAPHIC
  COORDINATE_SYSTEM_TYPE = "BODY-FIXED ROTATING"
  EASTERNMOST_LONGITUDE = 183.654
  FIRST_STANDARD_PARALLEL = "N/A"
  LINE_FIRST_PIXEL = 1
  LINE_LAST_PIXEL = 7919
  LINE_PROJECTION_OFFSET = 9.8125
  MAP_PROJECTION_ROTATION = 0.0
  MAP_PROJECTION_TYPE = SINUSOIDAL
  MAP_RESOLUTION = 592.713803866667
  MAP_SCALE = 0.1
  MAXIMUM_LATITUDE = 0.011452
  MINIMUM_LATITUDE = -13.3625
  POSITIVE_LONGITUDE_DIRECTION = EAST
  REFERENCE_LATITUDE = "N/A"
  REFERENCE_LONGITUDE = "N/A"
  SAMPLE_FIRST_PIXEL = 1
  SAMPLE_LAST_PIXEL = 802
  SAMPLE_PROJECTION_OFFSET = 439.0625
  SECOND_STANDARD_PARALLEL = "N/A"
  WESTERNMOST_LONGITUDE = 182.221
END_OBJECT = IMAGE_MAP_PROJECTION
END
