PDS_VERSION_ID = PDS3
/* FILE DATA ELEMENTS */
RECORD_TYPE = UNDEFINED
/* POINTERS TO DATA OBJECTS */
^IMAGE = ("H7186_0000_S24.TIF")
/* IDENTIFICATION DATA ELEMENTS */
DATA_SET_ID = "MEX-M-HRSC-4-REFDR-MAPPROJECT-EXT3-V4.0"
DATA_SET_NAME = "MARS EXPRESS HRSC MAP PROJECTED REFDR EXTENSION3 V4.0"
DETECTOR_ID = MEX_HRSC_S2
EVENT_TYPE = "MARS-REGIONAL-MAPPING-Im-Fl"
INSTRUMENT_HOST_ID = MEX
INSTRUMENT_HOST_NAME = "MARS EXPRESS"
INSTRUMENT_ID = HRSC
INSTRUMENT_NAME = "HIGH RESOLUTION STEREO CAMERA"
MISSION_NAME = "MARS EXPRESS"
MISSION_PHASE_NAME = ME_Phase_18
PROCESSING_LEVEL_ID = 4
PRODUCT_CREATION_TIME = 2023-02-01T06:41:01.000Z
PRODUCT_ID = "H7186_0000_S24.TIF"
RELEASE_ID = 0001
REVISION_ID = 0000
/* QUALITY DATA ELEMENTS */
DATA_QUALITY_ID = 1
DATA_QUALITY_DESC = "Data calculated based on original SPICE kernels"
/* TIME DATA ELEMENTS */
SPACECRAFT_CLOCK_START_COUNT = "1/0197891876.08222"
SPACECRAFT_CLOCK_STOP_COUNT = "1/0197892241.40282"
START_TIME = 2009-08-09T09:59:04.973Z
STOP_TIME = 2009-08-09T10:04:02.120Z
/* ORBITAL DATA ELEMENTS */
ASCENDING_NODE_LONGITUDE = 80.43
MAXIMUM_RESOLUTION = 0.0319 <m/pixel>
FOOTPRINT_POINT_LATITUDE = (-9.89803,-9.89767,-9.89581,-9.89167, -9.89153,-9.89668,-10.3812,-10.6959, -11.0146,-11.3338,-11.6533,-11.9677, -12.2826,-12.5972,-12.9109,-13.2245, -13.5376,-14.157,-14.474,-14.7914, -15.109,-15.425,-15.7469,-16.0715, -16.3928,-16.7185,-17.2089,-17.7053, -18.0389,-18.539,-19.0477,-19.3871, -19.8996,-20.2466,-20.6003,-20.949, -21.3043,-21.6606,-22.022,-22.3828, -22.7469,-23.1119,-23.4782,-24.0371, -24.4119,-24.7909,-25.364,-25.7495, -26.1399,-26.7294,-26.9278,-26.941, -26.9443,-26.9454,-26.9438,-26.9335, -26.9331,-26.9324,-26.3408,-25.9513, -25.3707,-24.9914,-24.4191,-24.0451, -23.49,-23.114,-22.7517,-22.2164, -21.8567,-21.499,-21.1463,-20.7953, -20.4366,-20.0878,-19.7444,-19.2374, -18.8965,-18.3875,-18.0544,-17.7206, -17.2261,-16.7353,-16.2489,-15.9263, -15.4426,-14.9653,-14.331,-13.7116, -13.3982,-12.9292,-12.6154,-12.301, -11.9853,-11.6697,-11.193,-10.8749, -10.5558,-10.0772,-9.9167,-9.89803)
FOOTPRINT_POINT_LONGITUDE = (25.3046,24.7989,24.436,23.9819,23.9689 ,23.9661,23.9584,23.9509,23.9447, 23.9387,23.933,23.9258,23.9189,23.9121, 23.905,23.8981,23.8911,23.8756,23.8697, 23.8618,23.8541,23.8461,23.8381,23.8303 ,23.8217,23.8133,23.7993,23.7863, 23.7768,23.7622,23.7472,23.7373,23.7202 ,23.7102,23.7003,23.6891,23.6778, 23.6667,23.6555,23.6436,23.6313,23.6186 ,23.6046,23.5851,23.5712,23.5573, 23.5357,23.521,23.5059,23.4826,23.475, 23.4745,23.8408,24.3362,24.9175,25.6717 ,25.6932,25.701,25.6759,25.6598,25.6371 ,25.6213,25.6014,25.5876,25.5677, 25.5574,25.5448,25.5251,25.514,25.5041, 25.4932,25.4832,25.4766,25.4677,25.4588 ,25.4438,25.4365,25.4254,25.4181,25.411 ,25.4009,25.3908,25.3818,25.3761,25.368 ,25.3611,25.3517,25.3421,25.3383, 25.3321,25.3282,25.3245,25.3211,25.3176 ,25.3132,25.3103,25.3075,25.3034, 25.3023,25.3046)
ORBIT_NUMBER = 7186
ORBITAL_ECCENTRICITY = 0.575
ORBITAL_INCLINATION = 86.78
ORBITAL_SEMIMAJOR_AXIS = 8777.42
PERIAPSIS_ALTITUDE = 330.86
PERIAPSIS_ARGUMENT_ANGLE = 177.63
PERIAPSIS_TIME = 2009-08-09T09:55:21.000Z
SPACECRAFT_ORIENTATION = (0.0,-1.0,0.0)
^MEX_ORIENTATION_DESC = "MEX_ORIENTATION_DESC.TXT"
SPACECRAFT_POINTING_MODE = NADIR
^MEX_POINTING_DESC = "MEX_POINTING_DESC.TXT"
RIGHT_ASCENSION = -1e+32
DECLINATION = -1e+32
OFFSET_ANGLE = -1e+32
SPACECRAFT_SOLAR_DISTANCE = 2.1807e+08
TARGET_NAME = MARS
/* CAMERA DATA ELEMENTS */
DETECTOR_TEMPERATURE = 18.3705 <degC>
FOCAL_PLANE_TEMPERATURE = 8.1755 <degC>
INST_CMPRS_NAME = "DISCRETE COSINE TRANSFORMATION (DCT)"
INST_CMPRS_RATIO = 9.7396
INST_CMPRS_QUALITY = 0
INST_CMPRS_QUANTZ_TBL_ID = 0
INSTRUMENT_TEMPERATURE = 11.234 <degC>
LENS_TEMPERATURE = 8.9911 <degC>
MACROPIXEL_SIZE = 2
MISSING_FRAMES = 0
PIXEL_SUBSAMPLING_FLAG = N
SIGNAL_CHAIN_ID = 1
/* RADIOMETRIC DATA ELEMENTS */
BANDWIDTH = 178.0 <nm>
CENTER_FILTER_WAVELENGTH = 679.0 <nm>
RADIANCE_OFFSET = 1.80305 <W*m**-2*sr**-1>
RADIANCE_SCALING_FACTOR = 0.0120091 <W*m**-2*sr**-1>
REFLECTANCE_SCALING_FACTOR = 0.000302436
MEX:REFLECTANCE_OFFSET = 0.0454078
/* IMAGE OBJECT DEFINITIONS */
OBJECT = IMAGE
  INTERCHANGE_FORMAT = BINARY
  LINES = 40415
  LINE_SAMPLES = 4279
  SAMPLE_TYPE = UNSIGNED_INTEGER
  SAMPLE_BITS = 8
  BANDS = 1
  BAND_STORAGE_TYPE = BAND_SEQUENTIAL
  MAXIMUM = 255
  MEAN = 102.252
  MINIMUM = 1
  STANDARD_DEVIATION = 29.5246
END_OBJECT = IMAGE
/* MAP OBJECT DEFINITIONS */
OBJECT = IMAGE_MAP_PROJECTION
  ^DATA_SET_MAP_PROJECTION_CATALOG= "DSMAP.CAT"
  A_AXIS_RADIUS = 3396.0 <km>
  B_AXIS_RADIUS = 3396.0 <km>
  C_AXIS_RADIUS = 3396.0 <km>
  CENTER_LATITUDE = 0.0
  CENTER_LONGITUDE = 25.0
  COORDINATE_SYSTEM_NAME = PLANETOGRAPHIC
  COORDINATE_SYSTEM_TYPE = "BODY-FIXED ROTATING"
  EASTERNMOST_LONGITUDE = 25.701
  FIRST_STANDARD_PARALLEL = "N/A"
  LINE_FIRST_PIXEL = 1
  LINE_LAST_PIXEL = 40415
  LINE_PROJECTION_OFFSET = -23424.75
  MAP_PROJECTION_ROTATION = 0.0
  MAP_PROJECTION_TYPE = SINUSOIDAL
  MAP_RESOLUTION = 2370.85521546667 <pixel/degree>
  MAP_SCALE = 0.025 <km/pixel>
  MAXIMUM_LATITUDE = -9.891529999999999
  MINIMUM_LATITUDE = -26.9454
  POSITIVE_LONGITUDE_DIRECTION = EAST
  REFERENCE_LATITUDE = "N/A"
  REFERENCE_LONGITUDE = "N/A"
  SAMPLE_FIRST_PIXEL = 1
  SAMPLE_LAST_PIXEL = 4279
  SAMPLE_PROJECTION_OFFSET = 2996.25
  SECOND_STANDARD_PARALLEL = "N/A"
  WESTERNMOST_LONGITUDE = 23.4745
END_OBJECT = IMAGE_MAP_PROJECTION
END
