PDS_VERSION_ID = PDS3
/* FILE DATA ELEMENTS */
RECORD_TYPE = UNDEFINED
/* POINTERS TO DATA OBJECTS */
^IMAGE = ("H7184_0000_P24.TIF")
/* IDENTIFICATION DATA ELEMENTS */
DATA_SET_ID = "MEX-M-HRSC-4-REFDR-MAPPROJECT-EXT3-V4.0"
DATA_SET_NAME = "MARS EXPRESS HRSC MAP PROJECTED REFDR EXTENSION3 V4.0"
DETECTOR_ID = MEX_HRSC_P2
EVENT_TYPE = "MARS-REGIONAL-MAPPING-Vo"
INSTRUMENT_HOST_ID = MEX
INSTRUMENT_HOST_NAME = "MARS EXPRESS"
INSTRUMENT_ID = HRSC
INSTRUMENT_NAME = "HIGH RESOLUTION STEREO CAMERA"
MISSION_NAME = "MARS EXPRESS"
MISSION_PHASE_NAME = ME_Phase_18
PROCESSING_LEVEL_ID = 4
PRODUCT_CREATION_TIME = 2023-02-01T06:41:01.000Z
PRODUCT_ID = "H7184_0000_P24.TIF"
RELEASE_ID = 0001
REVISION_ID = 0000
/* QUALITY DATA ELEMENTS */
DATA_QUALITY_ID = 1
DATA_QUALITY_DESC = "Data calculated based on original SPICE kernels"
/* TIME DATA ELEMENTS */
SPACECRAFT_CLOCK_START_COUNT = "1/0197842250.09071"
SPACECRAFT_CLOCK_STOP_COUNT = "1/0197842640.33330"
START_TIME = 2009-08-08T20:11:48.144Z
STOP_TIME = 2009-08-08T20:16:58.281Z
/* ORBITAL DATA ELEMENTS */
ASCENDING_NODE_LONGITUDE = 80.48
MAXIMUM_RESOLUTION = 0.0621
FOOTPRINT_POINT_LATITUDE = (-11.6274,-11.6274,-11.6261,-11.622, -11.6219,-11.6323,-12.1254,-12.4532, -12.7804,-13.1071,-13.4331,-14.246, -14.893,-15.5375,-16.0305,-16.3597, -16.6879,-17.0222,-17.3573,-17.6917, -18.0308,-18.3721,-18.7127,-19.0588, -19.4063,-19.9303,-20.2838,-20.8163, -21.1713,-21.535,-21.9008,-22.2654, -22.6361,-23.0068,-23.3824,-23.759, -24.1404,-24.5225,-24.9101,-25.4953, -25.8888,-26.2877,-26.8901,-27.4996, -28.1175,-28.5332,-28.9545,-29.3791, -29.5919,-29.6815,-29.6866,-29.6831, -29.6797,-29.6694,-29.669,-29.6676, -29.0301,-28.6102,-28.1942,-27.7806, -27.3711,-26.9661,-26.5624,-26.1641, -25.5716,-25.18,-24.7924,-24.2165, -23.8342,-23.4581,-23.0817,-22.7118, -22.158,-21.7937,-21.4294,-21.0709, -20.5338,-20.1813,-19.6534,-19.1336, -18.7863,-18.4461,-18.1048,-17.7642, -17.4306,-17.0958,-16.5955,-16.267, -15.9379,-15.6087,-14.9649,-14.3186, -13.6691,-13.3435,-13.0176,-12.6908, -12.3636,-11.8714,-11.7071,-11.6274)
FOOTPRINT_POINT_LONGITUDE = (226.996,226.618,226.228,225.661, 225.648,225.649,225.639,225.633,225.626 ,225.619,225.613,225.595,225.581, 225.566,225.555,225.547,225.539,225.531 ,225.522,225.514,225.505,225.496, 225.487,225.478,225.468,225.454,225.444 ,225.429,225.416,225.408,225.397, 225.386,225.374,225.363,225.351,225.339 ,225.326,225.314,225.301,225.281, 225.267,225.253,225.231,225.209,225.185 ,225.17,225.153,225.136,225.128,225.124 ,225.54,226.194,226.696,227.44,227.461, 227.469,227.438,227.418,227.399,227.381 ,227.363,227.347,227.33,227.315,227.292 ,227.278,227.264,227.244,227.232,227.22 ,227.208,227.197,227.181,227.171, 227.161,227.152,227.138,227.129,227.117 ,227.105,227.097,227.09,227.083,227.077 ,227.07,227.064,227.055,227.05,227.045, 227.04,227.03,227.021,227.013,227.009, 227.005,227.001,226.998,226.993,226.991 ,226.996)
ORBIT_NUMBER = 7184
ORBITAL_ECCENTRICITY = 0.576
ORBITAL_INCLINATION = 86.79
ORBITAL_SEMIMAJOR_AXIS = 8782.15
PERIAPSIS_ALTITUDE = 330.5
PERIAPSIS_ARGUMENT_ANGLE = 177.97
PERIAPSIS_TIME = 2009-08-08T20:07:54.000Z
SPACECRAFT_ORIENTATION = (0.0,-1.0,0.0)
^MEX_ORIENTATION_DESC = "MEX_ORIENTATION_DESC.TXT"
SPACECRAFT_POINTING_MODE = NADIR
^MEX_POINTING_DESC = "MEX_POINTING_DESC.TXT"
RIGHT_ASCENSION = -1e+32
DECLINATION = -1e+32
OFFSET_ANGLE = -1e+32
SPACECRAFT_SOLAR_DISTANCE = 2.17967e+08
TARGET_NAME = MARS
/* CAMERA DATA ELEMENTS */
DETECTOR_TEMPERATURE = 18.5744
FOCAL_PLANE_TEMPERATURE = 8.3794
INST_CMPRS_NAME = "DISCRETE COSINE TRANSFORMATION (DCT)"
INST_CMPRS_RATIO = 4.99518
INST_CMPRS_QUALITY = 0
INST_CMPRS_QUANTZ_TBL_ID = 0
INSTRUMENT_TEMPERATURE = 11.4379
LENS_TEMPERATURE = 8.7872
MACROPIXEL_SIZE = 4
MISSING_FRAMES = 0
PIXEL_SUBSAMPLING_FLAG = N
SIGNAL_CHAIN_ID = 3
/* RADIOMETRIC DATA ELEMENTS */
BANDWIDTH = 177.0
CENTER_FILTER_WAVELENGTH = 676.5
RADIANCE_OFFSET = 1.85571
RADIANCE_SCALING_FACTOR = 0.0187531
REFLECTANCE_SCALING_FACTOR = 0.000472402
MEX:REFLECTANCE_OFFSET = 0.0467466
/* IMAGE OBJECT DEFINITIONS */
OBJECT = IMAGE
  INTERCHANGE_FORMAT = BINARY
  LINES = 21393
  LINE_SAMPLES = 2273
  SAMPLE_TYPE = UNSIGNED_INTEGER
  SAMPLE_BITS = 8
  BANDS = 1
  BAND_STORAGE_TYPE = BAND_SEQUENTIAL
  MAXIMUM = 255
  MEAN = 90.2468
  MINIMUM = 1
  STANDARD_DEVIATION = 27.0042
END_OBJECT = IMAGE
/* MAP OBJECT DEFINITIONS */
OBJECT = IMAGE_MAP_PROJECTION
  ^DATA_SET_MAP_PROJECTION_CATALOG= "DSMAP.CAT"
  A_AXIS_RADIUS = 3396.0
  B_AXIS_RADIUS = 3396.0
  C_AXIS_RADIUS = 3396.0
  CENTER_LATITUDE = 0.0
  CENTER_LONGITUDE = 226.0
  COORDINATE_SYSTEM_NAME = PLANETOGRAPHIC
  COORDINATE_SYSTEM_TYPE = "BODY-FIXED ROTATING"
  EASTERNMOST_LONGITUDE = 227.469
  FIRST_STANDARD_PARALLEL = "N/A"
  LINE_FIRST_PIXEL = 1
  LINE_LAST_PIXEL = 21393
  LINE_PROJECTION_OFFSET = -13773.125
  MAP_PROJECTION_ROTATION = 0.0
  MAP_PROJECTION_TYPE = SINUSOIDAL
  MAP_RESOLUTION = 1185.42760773333
  MAP_SCALE = 0.05
  MAXIMUM_LATITUDE = -11.6219
  MINIMUM_LATITUDE = -29.6866
  POSITIVE_LONGITUDE_DIRECTION = EAST
  REFERENCE_LATITUDE = "N/A"
  REFERENCE_LONGITUDE = "N/A"
  SAMPLE_FIRST_PIXEL = 1
  SAMPLE_LAST_PIXEL = 2273
  SAMPLE_PROJECTION_OFFSET = 829.125
  SECOND_STANDARD_PARALLEL = "N/A"
  WESTERNMOST_LONGITUDE = 225.124
END_OBJECT = IMAGE_MAP_PROJECTION
END
