PDS_VERSION_ID = PDS3
/* FILE DATA ELEMENTS */
RECORD_TYPE = UNDEFINED
/* POINTERS TO DATA OBJECTS */
^IMAGE = ("H7180_0000_P24.TIF")
/* IDENTIFICATION DATA ELEMENTS */
DATA_SET_ID = "MEX-M-HRSC-4-REFDR-MAPPROJECT-EXT3-V4.0"
DATA_SET_NAME = "MARS EXPRESS HRSC MAP PROJECTED REFDR EXTENSION3 V4.0"
DETECTOR_ID = MEX_HRSC_P2
EVENT_TYPE = "MARS-REGIONAL-MAPPING-Vo-Te"
INSTRUMENT_HOST_ID = MEX
INSTRUMENT_HOST_NAME = "MARS EXPRESS"
INSTRUMENT_ID = HRSC
INSTRUMENT_NAME = "HIGH RESOLUTION STEREO CAMERA"
MISSION_NAME = "MARS EXPRESS"
MISSION_PHASE_NAME = ME_Phase_18
PROCESSING_LEVEL_ID = 4
PRODUCT_CREATION_TIME = 2023-02-01T06:41:01.000Z
PRODUCT_ID = "H7180_0000_P24.TIF"
RELEASE_ID = 0001
REVISION_ID = 0000
/* QUALITY DATA ELEMENTS */
DATA_QUALITY_ID = 1
DATA_QUALITY_DESC = "Data calculated based on original SPICE kernels"
/* TIME DATA ELEMENTS */
SPACECRAFT_CLOCK_START_COUNT = "1/0197742982.09141"
SPACECRAFT_CLOCK_STOP_COUNT = "1/0197743327.63891"
START_TIME = 2009-08-07T16:37:20.460Z
STOP_TIME = 2009-08-07T16:41:47.643Z
/* ORBITAL DATA ELEMENTS */
ASCENDING_NODE_LONGITUDE = 80.55
MAXIMUM_RESOLUTION = 0.0309
FOOTPRINT_POINT_LATITUDE = (-12.5455,-12.5455,-12.5433,-12.5404, -12.5402,-12.5647,-12.8558,-13.2922, -13.5822,-13.8717,-14.1609,-14.7375, -15.3119,-15.8843,-16.3123,-16.6042, -17.042,-17.333,-17.6281,-17.9255, -18.2225,-18.5187,-18.8218,-19.1244, -19.4263,-19.7333,-20.0413,-20.3487, -20.6606,-20.9737,-21.2864,-21.6046, -22.0821,-22.5664,-22.8902,-23.3821, -23.7109,-24.2115,-24.5452,-24.885, -25.2239,-25.5676,-25.9117,-26.2602, -26.6093,-26.9631,-27.4964,-28.036, -28.2183,-28.2464,-28.2486,-28.2471, -28.2425,-28.2358,-28.2355,-28.2347, -27.8724,-27.514,-26.9809,-26.6274, -26.2788,-25.9307,-25.5873,-25.2435, -24.9053,-24.5662,-24.2324,-23.732, -23.4038,-22.9121,-22.589,-22.1043, -21.6273,-21.309,-20.9968,-20.6835, -20.3715,-20.0646,-19.7565,-19.4496, -19.1479,-18.8453,-18.3939,-18.0975, -17.8003,-17.3563,-17.0655,-16.7743, -16.4823,-16.0511,-15.4791,-15.049, -14.4738,-13.8963,-13.607,-13.3174, -13.0267,-12.7361,-12.5907,-12.5455)
FOOTPRINT_POINT_LONGITUDE = (270.274,269.878,269.311,268.928, 268.915,268.921,268.915,268.907,268.901 ,268.895,268.888,268.876,268.863,268.85 ,268.84,268.833,268.822,268.815,268.808 ,268.8,268.793,268.785,268.777,268.769, 268.761,268.752,268.744,268.735,268.727 ,268.717,268.708,268.699,268.685, 268.671,268.661,268.645,268.635,268.619 ,268.608,268.597,268.586,268.574, 268.563,268.551,268.538,268.526,268.507 ,268.487,268.48,268.479,269.026,269.657 ,270.162,270.626,270.647,270.654, 270.639,270.624,270.602,270.588,270.575 ,270.561,270.549,270.537,270.525, 270.513,270.502,270.486,270.476,270.461 ,270.452,270.439,270.426,270.417, 270.409,270.401,270.394,270.387,270.38, 270.373,270.366,270.36,270.351,270.345, 270.339,270.331,270.326,270.321,270.316 ,270.309,270.3,270.294,270.286,270.279, 270.275,270.272,270.269,270.266,270.264 ,270.274)
ORBIT_NUMBER = 7180
ORBITAL_ECCENTRICITY = 0.576
ORBITAL_INCLINATION = 86.79
ORBITAL_SEMIMAJOR_AXIS = 8784.98
PERIAPSIS_ALTITUDE = 330.05
PERIAPSIS_ARGUMENT_ANGLE = 178.68
PERIAPSIS_TIME = 2009-08-07T16:33:23.000Z
SPACECRAFT_ORIENTATION = (0.0,-1.0,0.0)
^MEX_ORIENTATION_DESC = "MEX_ORIENTATION_DESC.TXT"
SPACECRAFT_POINTING_MODE = NADIR
^MEX_POINTING_DESC = "MEX_POINTING_DESC.TXT"
RIGHT_ASCENSION = -1e+32
DECLINATION = -1e+32
OFFSET_ANGLE = -1e+32
SPACECRAFT_SOLAR_DISTANCE = 2.1776e+08
TARGET_NAME = MARS
/* CAMERA DATA ELEMENTS */
DETECTOR_TEMPERATURE = 18.5744
FOCAL_PLANE_TEMPERATURE = 8.3794
INST_CMPRS_NAME = "DISCRETE COSINE TRANSFORMATION (DCT)"
INST_CMPRS_RATIO = 6.61328
INST_CMPRS_QUALITY = 0
INST_CMPRS_QUANTZ_TBL_ID = 0
INSTRUMENT_TEMPERATURE = 11.234
LENS_TEMPERATURE = 8.7872
MACROPIXEL_SIZE = 2
MISSING_FRAMES = 0
PIXEL_SUBSAMPLING_FLAG = N
SIGNAL_CHAIN_ID = 3
/* RADIOMETRIC DATA ELEMENTS */
BANDWIDTH = 177.0
CENTER_FILTER_WAVELENGTH = 676.5
RADIANCE_OFFSET = 1.60288
RADIANCE_SCALING_FACTOR = 0.0134036
REFLECTANCE_SCALING_FACTOR = 0.000337006
MEX:REFLECTANCE_OFFSET = 0.0403012
/* IMAGE OBJECT DEFINITIONS */
OBJECT = IMAGE
  INTERCHANGE_FORMAT = BINARY
  LINES = 37191
  LINE_SAMPLES = 4283
  SAMPLE_TYPE = UNSIGNED_INTEGER
  SAMPLE_BITS = 8
  BANDS = 1
  BAND_STORAGE_TYPE = BAND_SEQUENTIAL
  MAXIMUM = 255
  MEAN = 85.7752
  MINIMUM = 1
  STANDARD_DEVIATION = 18.0015
END_OBJECT = IMAGE
/* MAP OBJECT DEFINITIONS */
OBJECT = IMAGE_MAP_PROJECTION
  ^DATA_SET_MAP_PROJECTION_CATALOG= "DSMAP.CAT"
  A_AXIS_RADIUS = 3396.0
  B_AXIS_RADIUS = 3396.0
  C_AXIS_RADIUS = 3396.0
  CENTER_LATITUDE = 0.0
  CENTER_LONGITUDE = 270.0
  COORDINATE_SYSTEM_NAME = PLANETOGRAPHIC
  COORDINATE_SYSTEM_TYPE = "BODY-FIXED ROTATING"
  EASTERNMOST_LONGITUDE = 270.654
  FIRST_STANDARD_PARALLEL = "N/A"
  LINE_FIRST_PIXEL = 1
  LINE_LAST_PIXEL = 37191
  LINE_PROJECTION_OFFSET = -29705.25
  MAP_PROJECTION_ROTATION = 0.0
  MAP_PROJECTION_TYPE = SINUSOIDAL
  MAP_RESOLUTION = 2370.85521546667
  MAP_SCALE = 0.025
  MAXIMUM_LATITUDE = -12.5402
  MINIMUM_LATITUDE = -28.2486
  POSITIVE_LONGITUDE_DIRECTION = EAST
  REFERENCE_LATITUDE = "N/A"
  REFERENCE_LONGITUDE = "N/A"
  SAMPLE_FIRST_PIXEL = 1
  SAMPLE_LAST_PIXEL = 4283
  SAMPLE_PROJECTION_OFFSET = 3048.75
  SECOND_STANDARD_PARALLEL = "N/A"
  WESTERNMOST_LONGITUDE = 268.479
END_OBJECT = IMAGE_MAP_PROJECTION
END
