PDS_VERSION_ID = PDS3
/* FILE DATA ELEMENTS */
RECORD_TYPE = UNDEFINED
/* POINTERS TO DATA OBJECTS */
^IMAGE = ("H7179_0000_S24.TIF")
/* IDENTIFICATION DATA ELEMENTS */
DATA_SET_ID = "MEX-M-HRSC-4-REFDR-MAPPROJECT-EXT3-V4.0"
DATA_SET_NAME = "MARS EXPRESS HRSC MAP PROJECTED REFDR EXTENSION3 V4.0"
DETECTOR_ID = MEX_HRSC_S2
EVENT_TYPE = "MARS-REGIONAL-MAPPING-Im-Fl"
INSTRUMENT_HOST_ID = MEX
INSTRUMENT_HOST_NAME = "MARS EXPRESS"
INSTRUMENT_ID = HRSC
INSTRUMENT_NAME = "HIGH RESOLUTION STEREO CAMERA"
MISSION_NAME = "MARS EXPRESS"
MISSION_PHASE_NAME = ME_Phase_18
PROCESSING_LEVEL_ID = 4
PRODUCT_CREATION_TIME = 2023-02-01T06:41:01.000Z
PRODUCT_ID = "H7179_0000_S24.TIF"
RELEASE_ID = 0001
REVISION_ID = 0000
/* QUALITY DATA ELEMENTS */
DATA_QUALITY_ID = 1
DATA_QUALITY_DESC = "Data calculated based on original SPICE kernels"
/* TIME DATA ELEMENTS */
SPACECRAFT_CLOCK_START_COUNT = "1/0197718219.08387"
SPACECRAFT_CLOCK_STOP_COUNT = "1/0197718602.43690"
START_TIME = 2009-08-07T09:44:56.596Z
STOP_TIME = 2009-08-07T09:50:03.185Z
/* ORBITAL DATA ELEMENTS */
ASCENDING_NODE_LONGITUDE = 80.57
MAXIMUM_RESOLUTION = 0.0358
FOOTPRINT_POINT_LATITUDE = (-16.8704,-16.8593,-16.8455,-16.8253, -16.8248,-16.8187,-17.6818,-18.5546, -18.8557,-19.1532,-19.5929,-19.8955, -20.3496,-20.6598,-20.9691,-21.2766, -21.5895,-22.0553,-22.3668,-22.6828, -23.0005,-23.3216,-23.6423,-23.9685, -24.2946,-24.6266,-24.9569,-25.2918, -25.6262,-25.9646,-26.3039,-26.6467, -26.9914,-27.51,-27.8603,-28.2104, -28.5698,-28.9274,-29.4702,-29.8339, -30.2027,-30.5733,-30.9465,-31.3229, -31.7022,-32.0852,-32.4722,-32.855, -33.2488,-33.4454,-33.4706,-33.4858, -33.4996,-33.5044,-33.5017,-33.5002, -33.4999,-33.4992,-33.1092,-32.5265, -31.9486,-31.5704,-31.1922,-30.8179, -30.446,-30.0783,-29.5304,-28.8083, -28.4525,-27.9224,-27.5716,-27.2247, -26.7076,-26.3641,-26.0259,-25.6883, -25.3548,-25.0213,-24.6911,-24.3618, -24.0389,-23.7116,-23.3904,-22.9082, -22.5924,-22.1181,-21.8068,-21.3396, -21.0333,-20.7257,-20.2701,-19.9698, -19.6662,-19.2199,-18.9154,-18.3273, -17.5976,-17.0299,-16.8875,-16.8704)
FOOTPRINT_POINT_LONGITUDE = (10.7233,10.2481,9.76842,9.19198, 9.17669,9.16866,9.14447,9.11614,9.11006 ,9.1007,9.08403,9.0744,9.06019,9.05289, 9.04357,9.03374,9.02394,9.00692,8.99401 ,8.98243,8.97103,8.95901,8.94713, 8.93494,8.92288,8.91133,8.89847,8.88582 ,8.87223,8.85861,8.84474,8.83007, 8.81621,8.79188,8.77583,8.75897,8.74392 ,8.72699,8.70139,8.68353,8.66535, 8.64683,8.62801,8.60841,8.58826,8.56803 ,8.54794,8.52377,8.50258,8.49214, 8.49067,9.09345,9.88276,10.4513,10.8829 ,11.2595,11.2864,11.296,11.2727,11.2388 ,11.207,11.1863,11.1669,11.1478,11.1294 ,11.1116,11.0861,11.0541,11.039,11.0172 ,11.0031,10.9896,10.9703,10.9579, 10.9459,10.9342,10.9229,10.912,10.9016, 10.8913,10.8812,10.8718,10.8628,10.8497 ,10.8412,10.8291,10.8213,10.81,10.8028, 10.7959,10.7859,10.7792,10.7731,10.7644 ,10.7595,10.7488,10.7362,10.7262, 10.7237,10.7233)
ORBIT_NUMBER = 7179
ORBITAL_ECCENTRICITY = 0.575
ORBITAL_INCLINATION = 86.78
ORBITAL_SEMIMAJOR_AXIS = 8775.41
PERIAPSIS_ALTITUDE = 330.57
PERIAPSIS_ARGUMENT_ANGLE = 178.84
PERIAPSIS_TIME = 2009-08-07T09:39:37.000Z
SPACECRAFT_ORIENTATION = (0.0,-1.0,0.0)
^MEX_ORIENTATION_DESC = "MEX_ORIENTATION_DESC.TXT"
SPACECRAFT_POINTING_MODE = ACROSSTRACK
^MEX_POINTING_DESC = "MEX_POINTING_DESC.TXT"
RIGHT_ASCENSION = -1e+32
DECLINATION = -1e+32
OFFSET_ANGLE = -0.458
SPACECRAFT_SOLAR_DISTANCE = 2.17709e+08
TARGET_NAME = MARS
/* CAMERA DATA ELEMENTS */
DETECTOR_TEMPERATURE = 18.5744
FOCAL_PLANE_TEMPERATURE = 8.3794
INST_CMPRS_NAME = "DISCRETE COSINE TRANSFORMATION (DCT)"
INST_CMPRS_RATIO = 10.6428
INST_CMPRS_QUALITY = 0
INST_CMPRS_QUANTZ_TBL_ID = 0
INSTRUMENT_TEMPERATURE = 11.8457
LENS_TEMPERATURE = 8.9911
MACROPIXEL_SIZE = 2
MISSING_FRAMES = 0
PIXEL_SUBSAMPLING_FLAG = N
SIGNAL_CHAIN_ID = 1
/* RADIOMETRIC DATA ELEMENTS */
BANDWIDTH = 178.0
CENTER_FILTER_WAVELENGTH = 679.0
RADIANCE_OFFSET = 1.86039
RADIANCE_SCALING_FACTOR = 0.0118057
REFLECTANCE_SCALING_FACTOR = 0.00029633
MEX:REFLECTANCE_OFFSET = 0.0466969
/* IMAGE OBJECT DEFINITIONS */
OBJECT = IMAGE
  INTERCHANGE_FORMAT = BINARY
  LINES = 39525
  LINE_SAMPLES = 4944
  SAMPLE_TYPE = UNSIGNED_INTEGER
  SAMPLE_BITS = 8
  BANDS = 1
  BAND_STORAGE_TYPE = BAND_SEQUENTIAL
  MAXIMUM = 255
  MEAN = 105.49
  MINIMUM = 1
  STANDARD_DEVIATION = 24.78
END_OBJECT = IMAGE
/* MAP OBJECT DEFINITIONS */
OBJECT = IMAGE_MAP_PROJECTION
  ^DATA_SET_MAP_PROJECTION_CATALOG= "DSMAP.CAT"
  A_AXIS_RADIUS = 3396.0
  B_AXIS_RADIUS = 3396.0
  C_AXIS_RADIUS = 3396.0
  CENTER_LATITUDE = 0.0
  CENTER_LONGITUDE = 10.0
  COORDINATE_SYSTEM_NAME = PLANETOGRAPHIC
  COORDINATE_SYSTEM_TYPE = "BODY-FIXED ROTATING"
  EASTERNMOST_LONGITUDE = 11.296
  FIRST_STANDARD_PARALLEL = "N/A"
  LINE_FIRST_PIXEL = 1
  LINE_LAST_PIXEL = 39525
  LINE_PROJECTION_OFFSET = -39890.25
  MAP_PROJECTION_ROTATION = 0.0
  MAP_PROJECTION_TYPE = SINUSOIDAL
  MAP_RESOLUTION = 2370.85521546667
  MAP_SCALE = 0.025
  MAXIMUM_LATITUDE = -16.8187
  MINIMUM_LATITUDE = -33.5044
  POSITIVE_LONGITUDE_DIRECTION = EAST
  REFERENCE_LATITUDE = "N/A"
  REFERENCE_LONGITUDE = "N/A"
  SAMPLE_FIRST_PIXEL = 1
  SAMPLE_LAST_PIXEL = 4944
  SAMPLE_PROJECTION_OFFSET = 2648.75
  SECOND_STANDARD_PARALLEL = "N/A"
  WESTERNMOST_LONGITUDE = 8.49067
END_OBJECT = IMAGE_MAP_PROJECTION
END
