PDS_VERSION_ID = PDS3
/* FILE DATA ELEMENTS */
RECORD_TYPE = UNDEFINED
/* POINTERS TO DATA OBJECTS */
^IMAGE = ("H7178_0000_ND4.TIF")
/* IDENTIFICATION DATA ELEMENTS */
DATA_SET_ID = "MEX-M-HRSC-4-REFDR-MAPPROJECT-EXT3-V4.0"
DATA_SET_NAME = "MARS EXPRESS HRSC MAP PROJECTED REFDR EXTENSION3 V4.0"
DETECTOR_ID = MEX_HRSC_NADIR
EVENT_TYPE = "MARS-REGIONAL-MAPPING-Vo"
INSTRUMENT_HOST_ID = MEX
INSTRUMENT_HOST_NAME = "MARS EXPRESS"
INSTRUMENT_ID = HRSC
INSTRUMENT_NAME = "HIGH RESOLUTION STEREO CAMERA"
MISSION_NAME = "MARS EXPRESS"
MISSION_PHASE_NAME = ME_Phase_18
PROCESSING_LEVEL_ID = 4
PRODUCT_CREATION_TIME = 2023-02-01T06:41:01.000Z
PRODUCT_ID = "H7178_0000_ND4.TIF"
RELEASE_ID = 0001
REVISION_ID = 0000
/* QUALITY DATA ELEMENTS */
DATA_QUALITY_ID = 1
DATA_QUALITY_DESC = "Data calculated based on original SPICE kernels"
/* TIME DATA ELEMENTS */
SPACECRAFT_CLOCK_START_COUNT = "1/0197693452.08231"
SPACECRAFT_CLOCK_STOP_COUNT = "1/0197693856.35214"
START_TIME = 2009-08-07T02:51:32.958Z
STOP_TIME = 2009-08-07T02:56:16.932Z
/* ORBITAL DATA ELEMENTS */
ASCENDING_NODE_LONGITUDE = 80.59
MAXIMUM_RESOLUTION = 0.0171
FOOTPRINT_POINT_LATITUDE = (-20.5725,-20.5734,-20.5728,-20.5705, -20.5705,-20.5706,-21.4237,-21.8566, -22.4362,-23.026,-23.3212,-23.62, -23.9212,-24.222,-24.5264,-24.833, -25.1391,-25.6063,-25.9179,-26.3925, -26.7095,-27.1921,-27.5143,-28.0056, -28.3331,-28.6665,-28.9992,-29.3371, -29.6751,-30.0176,-30.3607,-30.7086, -31.2337,-31.5869,-31.9438,-32.4837, -32.847,-33.214,-33.7694,-34.1427, -34.5208,-34.9017,-35.2848,-35.6724, -36.0633,-36.4573,-37.0552,-37.2559, -37.2745,-37.2747,-37.2734,-37.269, -37.2567,-37.2472,-37.2466,-37.2459, -36.6477,-36.2523,-35.8615,-35.474, -35.0893,-34.7075,-34.3302,-33.955, -33.5827,-33.2148,-32.8484,-32.486, -31.9472,-31.5908,-31.2382,-30.7139, -30.3664,-30.024,-29.6818,-29.3445, -29.0069,-28.6748,-28.1781,-27.851, -27.5239,-27.2021,-26.7199,-26.4034, -25.9291,-25.6179,-25.1509,-24.8453, -24.539,-24.2345,-23.9341,-23.6332, -23.3345,-23.0396,-22.4499,-21.871, -21.438,-20.728,-20.5856,-20.5725)
FOOTPRINT_POINT_LONGITUDE = (112.059,111.54,111.004,110.484,110.468 ,110.46,110.439,110.427,110.412,110.397 ,110.389,110.381,110.372,110.365, 110.356,110.348,110.339,110.325,110.316 ,110.301,110.292,110.277,110.267, 110.252,110.241,110.231,110.22,110.209, 110.198,110.186,110.175,110.163,110.145 ,110.13,110.117,110.1,110.086,110.072, 110.051,110.036,110.022,110.007,109.994 ,109.978,109.958,109.944,109.918,109.91 ,109.909,110.305,110.759,111.354, 112.261,112.744,112.772,112.786,112.743 ,112.715,112.688,112.663,112.638, 112.614,112.59,112.568,112.546,112.525, 112.505,112.485,112.457,112.438,112.421 ,112.396,112.38,112.364,112.349,112.335 ,112.32,112.306,112.287,112.274,112.262 ,112.25,112.233,112.222,112.205,112.195 ,112.18,112.17,112.161,112.152,112.144, 112.135,112.127,112.119,112.104,112.09, 112.08,112.064,112.061,112.059)
ORBIT_NUMBER = 7178
ORBITAL_ECCENTRICITY = 0.576
ORBITAL_INCLINATION = 86.79
ORBITAL_SEMIMAJOR_AXIS = 8778.3
PERIAPSIS_ALTITUDE = 329.96
PERIAPSIS_ARGUMENT_ANGLE = 179.01
PERIAPSIS_TIME = 2009-08-07T02:45:56.000Z
SPACECRAFT_ORIENTATION = (0.0,-1.0,0.0)
^MEX_ORIENTATION_DESC = "MEX_ORIENTATION_DESC.TXT"
SPACECRAFT_POINTING_MODE = NADIR
^MEX_POINTING_DESC = "MEX_POINTING_DESC.TXT"
RIGHT_ASCENSION = -1e+32
DECLINATION = -1e+32
OFFSET_ANGLE = -1e+32
SPACECRAFT_SOLAR_DISTANCE = 2.17658e+08
TARGET_NAME = MARS
/* CAMERA DATA ELEMENTS */
DETECTOR_TEMPERATURE = 18.3705
FOCAL_PLANE_TEMPERATURE = 8.3794
INST_CMPRS_NAME = "DISCRETE COSINE TRANSFORMATION (DCT)"
INST_CMPRS_RATIO = 6.21711
INST_CMPRS_QUALITY = 0
INST_CMPRS_QUANTZ_TBL_ID = 0
INSTRUMENT_TEMPERATURE = 11.0301
LENS_TEMPERATURE = 8.5833
MACROPIXEL_SIZE = 1
MISSING_FRAMES = 0
PIXEL_SUBSAMPLING_FLAG = N
SIGNAL_CHAIN_ID = 0
/* RADIOMETRIC DATA ELEMENTS */
BANDWIDTH = 177.0
CENTER_FILTER_WAVELENGTH = 677.5
RADIANCE_OFFSET = 1.42672
RADIANCE_SCALING_FACTOR = 0.0149506
REFLECTANCE_SCALING_FACTOR = 0.000376264
MEX:REFLECTANCE_OFFSET = 0.0359067
/* IMAGE OBJECT DEFINITIONS */
OBJECT = IMAGE
  INTERCHANGE_FORMAT = BINARY
  LINES = 79206
  LINE_SAMPLES = 10858
  SAMPLE_TYPE = UNSIGNED_INTEGER
  SAMPLE_BITS = 8
  BANDS = 1
  BAND_STORAGE_TYPE = BAND_SEQUENTIAL
  MAXIMUM = 255
  MEAN = 80.0588
  MINIMUM = 1
  STANDARD_DEVIATION = 31.266
END_OBJECT = IMAGE
/* MAP OBJECT DEFINITIONS */
OBJECT = IMAGE_MAP_PROJECTION
  ^DATA_SET_MAP_PROJECTION_CATALOG= "DSMAP.CAT"
  A_AXIS_RADIUS = 3396.0
  B_AXIS_RADIUS = 3396.0
  C_AXIS_RADIUS = 3396.0
  CENTER_LATITUDE = 0.0
  CENTER_LONGITUDE = 111.0
  COORDINATE_SYSTEM_NAME = PLANETOGRAPHIC
  COORDINATE_SYSTEM_TYPE = "BODY-FIXED ROTATING"
  EASTERNMOST_LONGITUDE = 112.786
  FIRST_STANDARD_PARALLEL = "N/A"
  LINE_FIRST_PIXEL = 1
  LINE_LAST_PIXEL = 79206
  LINE_PROJECTION_OFFSET = -97532.0
  MAP_PROJECTION_ROTATION = 0.0
  MAP_PROJECTION_TYPE = SINUSOIDAL
  MAP_RESOLUTION = 4741.71043093333
  MAP_SCALE = 0.0125
  MAXIMUM_LATITUDE = -20.5705
  MINIMUM_LATITUDE = -37.2747
  POSITIVE_LONGITUDE_DIRECTION = EAST
  REFERENCE_LATITUDE = "N/A"
  REFERENCE_LONGITUDE = "N/A"
  SAMPLE_FIRST_PIXEL = 1
  SAMPLE_LAST_PIXEL = 10858
  SAMPLE_PROJECTION_OFFSET = 4120.0
  SECOND_STANDARD_PARALLEL = "N/A"
  WESTERNMOST_LONGITUDE = 109.909
END_OBJECT = IMAGE_MAP_PROJECTION
END
