PDS_VERSION_ID = PDS3
/* FILE DATA ELEMENTS */
RECORD_TYPE = UNDEFINED
/* POINTERS TO DATA OBJECTS */
^IMAGE = ("H7174_0000_ND4.TIF")
/* IDENTIFICATION DATA ELEMENTS */
DATA_SET_ID = "MEX-M-HRSC-4-REFDR-MAPPROJECT-EXT3-V4.0"
DATA_SET_NAME = "MARS EXPRESS HRSC MAP PROJECTED REFDR EXTENSION3 V4.0"
DETECTOR_ID = MEX_HRSC_NADIR
EVENT_TYPE = "MARS-REGIONAL-MAPPING-Im-Fl"
INSTRUMENT_HOST_ID = MEX
INSTRUMENT_HOST_NAME = "MARS EXPRESS"
INSTRUMENT_ID = HRSC
INSTRUMENT_NAME = "HIGH RESOLUTION STEREO CAMERA"
MISSION_NAME = "MARS EXPRESS"
MISSION_PHASE_NAME = ME_Phase_18
PROCESSING_LEVEL_ID = 4
PRODUCT_CREATION_TIME = 2023-02-01T06:41:01.000Z
PRODUCT_ID = "H7174_0000_ND4.TIF"
RELEASE_ID = 0001
REVISION_ID = 0000
/* QUALITY DATA ELEMENTS */
DATA_QUALITY_ID = 1
DATA_QUALITY_DESC = "Data calculated based on original SPICE kernels"
/* TIME DATA ELEMENTS */
SPACECRAFT_CLOCK_START_COUNT = "1/0197594138.09054"
SPACECRAFT_CLOCK_STOP_COUNT = "1/0197594457.16239"
START_TIME = 2009-08-05T23:16:17.200Z
STOP_TIME = 2009-08-05T23:19:54.202Z
/* ORBITAL DATA ELEMENTS */
ASCENDING_NODE_LONGITUDE = 80.66
MAXIMUM_RESOLUTION = 0.0164
FOOTPRINT_POINT_LATITUDE = (-18.9795,-18.9787,-18.9766,-18.9727, -18.9725,-18.9726,-19.4391,-19.9046, -20.6167,-21.0918,-21.3346,-21.5776, -21.8202,-22.0626,-22.3089,-22.5567, -22.8041,-23.0513,-23.3025,-23.555, -23.8072,-24.059,-24.3162,-24.7017, -24.9583,-25.2203,-25.482,-25.7434, -26.0085,-26.2749,-26.5409,-26.8099, -27.081,-27.3516,-27.6255,-27.9011, -28.1761,-28.4558,-28.8754,-29.301, -29.5851,-30.0169,-30.3054,-30.7439, -31.0369,-31.3344,-31.6315,-31.9321, -32.0832,-32.0878,-32.0901,-32.0912, -32.0887,-32.084,-32.0837,-32.0833, -31.6324,-31.3356,-31.0385,-30.7462, -30.308,-30.0199,-29.5886,-29.3048, -28.8796,-28.4605,-28.1811,-27.9063, -27.6311,-27.3573,-27.087,-26.8163, -26.5476,-26.2818,-26.0155,-25.7506, -25.4894,-25.2279,-24.9659,-24.7096, -24.4529,-24.1957,-23.8154,-23.5635, -23.3112,-23.0601,-22.813,-22.5657, -22.318,-22.0719,-21.8296,-21.587, -21.3442,-21.1015,-20.6266,-19.9147, -19.4493,-19.0996,-18.983,-18.9795)
FOOTPRINT_POINT_LONGITUDE = (154.902,154.443,153.966,153.409, 153.394,153.384,153.372,153.361,153.339 ,153.327,153.32,153.313,153.306,153.299 ,153.294,153.288,153.28,153.272,153.265 ,153.257,153.249,153.241,153.234, 153.222,153.213,153.205,153.197,153.188 ,153.18,153.171,153.161,153.153,153.144 ,153.135,153.125,153.116,153.106, 153.096,153.081,153.065,153.055,153.039 ,153.029,153.006,153.0,152.989,152.974, 152.962,152.961,152.961,153.374,153.97, 154.698,155.242,155.264,155.276,155.255 ,155.242,155.23,155.218,155.2,155.189, 155.172,155.161,155.146,155.131,155.121 ,155.112,155.103,155.094,155.085, 155.076,155.068,155.06,155.053,155.045, 155.038,155.03,155.025,155.017,155.011, 155.005,154.997,154.99,154.983,154.978, 154.972,154.967,154.962,154.957,154.952 ,154.948,154.943,154.938,154.929, 154.917,154.909,154.904,154.902, 154.902)
ORBIT_NUMBER = 7174
ORBITAL_ECCENTRICITY = 0.575
ORBITAL_INCLINATION = 86.79
ORBITAL_SEMIMAJOR_AXIS = 8771.82
PERIAPSIS_ALTITUDE = 330.24
PERIAPSIS_ARGUMENT_ANGLE = 179.75
PERIAPSIS_TIME = 2009-08-05T23:11:18.000Z
SPACECRAFT_ORIENTATION = (0.0,-1.0,0.0)
^MEX_ORIENTATION_DESC = "MEX_ORIENTATION_DESC.TXT"
SPACECRAFT_POINTING_MODE = ACROSSTRACK
^MEX_POINTING_DESC = "MEX_POINTING_DESC.TXT"
RIGHT_ASCENSION = -1e+32
DECLINATION = -1e+32
OFFSET_ANGLE = -0.4
SPACECRAFT_SOLAR_DISTANCE = 2.17453e+08
TARGET_NAME = MARS
/* CAMERA DATA ELEMENTS */
DETECTOR_TEMPERATURE = 17.9627
FOCAL_PLANE_TEMPERATURE = 7.9716
INST_CMPRS_NAME = "DISCRETE COSINE TRANSFORMATION (DCT)"
INST_CMPRS_RATIO = 6.22743
INST_CMPRS_QUALITY = 0
INST_CMPRS_QUANTZ_TBL_ID = 0
INSTRUMENT_TEMPERATURE = 11.4379
LENS_TEMPERATURE = 8.5833
MACROPIXEL_SIZE = 1
MISSING_FRAMES = 0
PIXEL_SUBSAMPLING_FLAG = N
SIGNAL_CHAIN_ID = 0
/* RADIOMETRIC DATA ELEMENTS */
BANDWIDTH = 177.0
CENTER_FILTER_WAVELENGTH = 677.5
RADIANCE_OFFSET = 1.43081
RADIANCE_SCALING_FACTOR = 0.0122908
REFLECTANCE_SCALING_FACTOR = 0.000308744
MEX:REFLECTANCE_OFFSET = 0.0359418
/* IMAGE OBJECT DEFINITIONS */
OBJECT = IMAGE
  INTERCHANGE_FORMAT = BINARY
  LINES = 62204
  LINE_SAMPLES = 9300
  SAMPLE_TYPE = UNSIGNED_INTEGER
  SAMPLE_BITS = 8
  BANDS = 1
  BAND_STORAGE_TYPE = BAND_SEQUENTIAL
  MAXIMUM = 255
  MEAN = 75.4401
  MINIMUM = 1
  STANDARD_DEVIATION = 21.0616
END_OBJECT = IMAGE
/* MAP OBJECT DEFINITIONS */
OBJECT = IMAGE_MAP_PROJECTION
  ^DATA_SET_MAP_PROJECTION_CATALOG= "DSMAP.CAT"
  A_AXIS_RADIUS = 3396.0
  B_AXIS_RADIUS = 3396.0
  C_AXIS_RADIUS = 3396.0
  CENTER_LATITUDE = 0.0
  CENTER_LONGITUDE = 154.0
  COORDINATE_SYSTEM_NAME = PLANETOGRAPHIC
  COORDINATE_SYSTEM_TYPE = "BODY-FIXED ROTATING"
  EASTERNMOST_LONGITUDE = 155.276
  FIRST_STANDARD_PARALLEL = "N/A"
  LINE_FIRST_PIXEL = 1
  LINE_LAST_PIXEL = 62204
  LINE_PROJECTION_OFFSET = -89953.0
  MAP_PROJECTION_ROTATION = 0.0
  MAP_PROJECTION_TYPE = SINUSOIDAL
  MAP_RESOLUTION = 4741.71043093333
  MAP_SCALE = 0.0125
  MAXIMUM_LATITUDE = -18.9725
  MINIMUM_LATITUDE = -32.0912
  POSITIVE_LONGITUDE_DIRECTION = EAST
  REFERENCE_LATITUDE = "N/A"
  REFERENCE_LONGITUDE = "N/A"
  SAMPLE_FIRST_PIXEL = 1
  SAMPLE_LAST_PIXEL = 9300
  SAMPLE_PROJECTION_OFFSET = 4179.0
  SECOND_STANDARD_PARALLEL = "N/A"
  WESTERNMOST_LONGITUDE = 152.961
END_OBJECT = IMAGE_MAP_PROJECTION
END
