PDS_VERSION_ID = PDS3
/* FILE DATA ELEMENTS */
RECORD_TYPE = UNDEFINED
/* POINTERS TO DATA OBJECTS */
^IMAGE = ("H7174_0000_BL4.TIF")
/* IDENTIFICATION DATA ELEMENTS */
DATA_SET_ID = "MEX-M-HRSC-4-REFDR-MAPPROJECT-EXT3-V4.0"
DATA_SET_NAME = "MARS EXPRESS HRSC MAP PROJECTED REFDR EXTENSION3 V4.0"
DETECTOR_ID = MEX_HRSC_BLUE
EVENT_TYPE = "MARS-REGIONAL-MAPPING-Im-Fl"
INSTRUMENT_HOST_ID = MEX
INSTRUMENT_HOST_NAME = "MARS EXPRESS"
INSTRUMENT_ID = HRSC
INSTRUMENT_NAME = "HIGH RESOLUTION STEREO CAMERA"
MISSION_NAME = "MARS EXPRESS"
MISSION_PHASE_NAME = ME_Phase_18
PROCESSING_LEVEL_ID = 4
PRODUCT_CREATION_TIME = 2023-02-01T06:41:01.000Z
PRODUCT_ID = "H7174_0000_BL4.TIF"
RELEASE_ID = 0001
REVISION_ID = 0000
/* QUALITY DATA ELEMENTS */
DATA_QUALITY_ID = 1
DATA_QUALITY_DESC = "Data calculated based on original SPICE kernels"
/* TIME DATA ELEMENTS */
SPACECRAFT_CLOCK_START_COUNT = "1/0197594138.09054"
SPACECRAFT_CLOCK_STOP_COUNT = "1/0197594457.16239"
START_TIME = 2009-08-05T23:16:23.679Z
STOP_TIME = 2009-08-05T23:20:03.860Z
/* ORBITAL DATA ELEMENTS */
ASCENDING_NODE_LONGITUDE = 80.66
MAXIMUM_RESOLUTION = 0.066
FOOTPRINT_POINT_LATITUDE = (-18.981,-18.9792,-18.9759,-18.9686, -18.9685,-18.9686,-19.5454,-20.1347, -20.6047,-20.9642,-21.2049,-21.4451, -21.6849,-21.9301,-22.1754,-22.4214, -22.6656,-22.9155,-23.29,-23.5393, -23.9196,-24.1736,-24.4275,-24.8146, -25.0733,-25.3315,-25.595,-25.8582, -26.121,-26.388,-26.6557,-26.9229, -27.1949,-27.6026,-27.8774,-28.1539, -28.5703,-28.8512,-29.1313,-29.416, -29.8429,-30.277,-30.5649,-30.8581, -31.3021,-31.5979,-31.8968,-32.0485, -32.0829,-32.0868,-32.0897,-32.0893, -32.0878,-32.0837,-32.0835,-32.0821, -31.7809,-31.4842,-31.0406,-30.7478, -30.4557,-30.1672,-29.7359,-29.4517, -29.1666,-28.7468,-28.4658,-28.1901, -27.9139,-27.6388,-27.3677,-26.9607, -26.6941,-26.4268,-26.0276,-25.6334, -25.3702,-25.1108,-24.8523,-24.4655, -24.2119,-23.9569,-23.5757,-23.328, -23.0784,-22.8286,-22.5811,-22.3364, -22.0916,-21.8459,-21.6027,-21.3627, -21.1225,-20.882,-20.6431,-20.2906, -19.8191,-19.1218,-19.0063,-18.981)
FOOTPRINT_POINT_LONGITUDE = (154.908,154.53,154.078,153.408,153.394 ,153.388,153.373,153.357,153.342, 153.333,153.326,153.319,153.312,153.305 ,153.298,153.294,153.286,153.278, 153.267,153.259,153.248,153.239,153.232 ,153.219,153.211,153.203,153.194, 153.185,153.177,153.168,153.159,153.15, 153.14,153.126,153.116,153.107,153.092, 153.082,153.071,153.06,153.044,153.028, 153.013,153.001,152.99,152.973,152.961, 152.957,152.957,153.547,154.094,154.441 ,154.788,155.264,155.285,155.293, 155.279,155.265,155.246,155.233,155.221 ,155.209,155.192,155.181,155.17,155.154 ,155.145,155.135,155.125,155.116, 155.107,155.092,155.084,155.075,155.064 ,155.052,155.045,155.039,155.032, 155.021,155.014,155.009,155.0,154.993, 154.987,154.981,154.976,154.971,154.965 ,154.961,154.956,154.951,154.946, 154.942,154.937,154.93,154.922,154.911, 154.909,154.908)
ORBIT_NUMBER = 7174
ORBITAL_ECCENTRICITY = 0.575
ORBITAL_INCLINATION = 86.79
ORBITAL_SEMIMAJOR_AXIS = 8771.82
PERIAPSIS_ALTITUDE = 330.24
PERIAPSIS_ARGUMENT_ANGLE = 179.75
PERIAPSIS_TIME = 2009-08-05T23:11:18.000Z
SPACECRAFT_ORIENTATION = (0.0,-1.0,0.0)
^MEX_ORIENTATION_DESC = "MEX_ORIENTATION_DESC.TXT"
SPACECRAFT_POINTING_MODE = ACROSSTRACK
^MEX_POINTING_DESC = "MEX_POINTING_DESC.TXT"
RIGHT_ASCENSION = -1e+32
DECLINATION = -1e+32
OFFSET_ANGLE = -0.4
SPACECRAFT_SOLAR_DISTANCE = 2.17453e+08
TARGET_NAME = MARS
/* CAMERA DATA ELEMENTS */
DETECTOR_TEMPERATURE = 17.9627
FOCAL_PLANE_TEMPERATURE = 7.9716
INST_CMPRS_NAME = "DISCRETE COSINE TRANSFORMATION (DCT)"
INST_CMPRS_RATIO = 6.6213
INST_CMPRS_QUALITY = 0
INST_CMPRS_QUANTZ_TBL_ID = 0
INSTRUMENT_TEMPERATURE = 11.4379
LENS_TEMPERATURE = 8.5833
MACROPIXEL_SIZE = 4
MISSING_FRAMES = 0
PIXEL_SUBSAMPLING_FLAG = N
SIGNAL_CHAIN_ID = 2
/* RADIOMETRIC DATA ELEMENTS */
BANDWIDTH = 76.0
CENTER_FILTER_WAVELENGTH = 444.0
RADIANCE_OFFSET = 0.313277
RADIANCE_SCALING_FACTOR = 0.00163194
REFLECTANCE_SCALING_FACTOR = 7.92854e-05
MEX:REFLECTANCE_OFFSET = 0.0152201
/* IMAGE OBJECT DEFINITIONS */
OBJECT = IMAGE
  INTERCHANGE_FORMAT = BINARY
  LINES = 15551
  LINE_SAMPLES = 2325
  SAMPLE_TYPE = UNSIGNED_INTEGER
  SAMPLE_BITS = 8
  BANDS = 1
  BAND_STORAGE_TYPE = BAND_SEQUENTIAL
  MAXIMUM = 255
  MEAN = 104.374
  MINIMUM = 1
  STANDARD_DEVIATION = 21.418
END_OBJECT = IMAGE
/* MAP OBJECT DEFINITIONS */
OBJECT = IMAGE_MAP_PROJECTION
  ^DATA_SET_MAP_PROJECTION_CATALOG= "DSMAP.CAT"
  A_AXIS_RADIUS = 3396.0
  B_AXIS_RADIUS = 3396.0
  C_AXIS_RADIUS = 3396.0
  CENTER_LATITUDE = 0.0
  CENTER_LONGITUDE = 154.0
  COORDINATE_SYSTEM_NAME = PLANETOGRAPHIC
  COORDINATE_SYSTEM_TYPE = "BODY-FIXED ROTATING"
  EASTERNMOST_LONGITUDE = 155.293
  FIRST_STANDARD_PARALLEL = "N/A"
  LINE_FIRST_PIXEL = 1
  LINE_LAST_PIXEL = 15551
  LINE_PROJECTION_OFFSET = -22488.625
  MAP_PROJECTION_ROTATION = 0.0
  MAP_PROJECTION_TYPE = SINUSOIDAL
  MAP_RESOLUTION = 1185.42760773333
  MAP_SCALE = 0.05
  MAXIMUM_LATITUDE = -18.9685
  MINIMUM_LATITUDE = -32.0897
  POSITIVE_LONGITUDE_DIRECTION = EAST
  REFERENCE_LATITUDE = "N/A"
  REFERENCE_LONGITUDE = "N/A"
  SAMPLE_FIRST_PIXEL = 1
  SAMPLE_LAST_PIXEL = 2325
  SAMPLE_PROJECTION_OFFSET = 1044.375
  SECOND_STANDARD_PARALLEL = "N/A"
  WESTERNMOST_LONGITUDE = 152.957
END_OBJECT = IMAGE_MAP_PROJECTION
END
