PDS_VERSION_ID = PDS3
/* FILE DATA ELEMENTS */
RECORD_TYPE = UNDEFINED
/* POINTERS TO DATA OBJECTS */
^IMAGE = ("H7166_0000_BL4.TIF")
/* IDENTIFICATION DATA ELEMENTS */
DATA_SET_ID = "MEX-M-HRSC-4-REFDR-MAPPROJECT-EXT3-V4.0"
DATA_SET_NAME = "MARS EXPRESS HRSC MAP PROJECTED REFDR EXTENSION3 V4.0"
DETECTOR_ID = MEX_HRSC_BLUE
EVENT_TYPE = "MARS-REGIONAL-MAPPING-Vo"
INSTRUMENT_HOST_ID = MEX
INSTRUMENT_HOST_NAME = "MARS EXPRESS"
INSTRUMENT_ID = HRSC
INSTRUMENT_NAME = "HIGH RESOLUTION STEREO CAMERA"
MISSION_NAME = "MARS EXPRESS"
MISSION_PHASE_NAME = ME_Phase_18
PROCESSING_LEVEL_ID = 4
PRODUCT_CREATION_TIME = 2023-02-01T06:41:01.000Z
PRODUCT_ID = "H7166_0000_BL4.TIF"
RELEASE_ID = 0001
REVISION_ID = 0000
/* QUALITY DATA ELEMENTS */
DATA_QUALITY_ID = 1
DATA_QUALITY_DESC = "Data calculated based on original SPICE kernels"
/* TIME DATA ELEMENTS */
SPACECRAFT_CLOCK_START_COUNT = "1/0197395458.09044"
SPACECRAFT_CLOCK_STOP_COUNT = "1/0197395667.31321"
START_TIME = 2009-08-03T16:04:58.132Z
STOP_TIME = 2009-08-03T16:07:12.286Z
/* ORBITAL DATA ELEMENTS */
ASCENDING_NODE_LONGITUDE = 80.83
MAXIMUM_RESOLUTION = 0.1135
FOOTPRINT_POINT_LATITUDE = (-13.4562,-13.4567,-13.4568,-13.4568, -13.4566,-13.4562,-13.4556,-13.4555, -13.4676,-13.7509,-13.9631,-14.1752, -14.4011,-14.5696,-14.738,-14.9063, -15.0745,-15.2425,-15.4105,-15.5784, -15.7462,-15.9139,-16.0815,-16.249, -16.4164,-16.5836,-16.7508,-16.9179, -17.0848,-17.2516,-17.4183,-17.5849, -17.9177,-18.25,-18.5818,-18.9131, -19.2439,-19.5743,-19.904,-20.0714, -20.2404,-20.4093,-20.578,-20.7466, -20.9151,-21.0834,-21.2553,-21.4277, -21.6,-21.7722,-21.8582,-21.8787, -21.8789,-21.8789,-21.8785,-21.8778, -21.8767,-21.8739,-21.8738,-21.8717, -21.6998,-21.5278,-21.2695,-21.0973, -20.9291,-20.7608,-20.5924,-20.4238, -20.2551,-20.0862,-19.9186,-19.5891, -19.259,-18.9285,-18.5974,-18.2658, -17.9337,-17.6011,-17.2681,-17.1013, -16.9345,-16.7675,-16.6005,-16.4333, -16.266,-16.0986,-15.931,-15.7634, -15.5956,-15.4277,-15.2598,-15.0917, -14.9236,-14.7553,-14.5869,-14.2604, -13.9776,-13.553,-13.4821,-13.4562)
FOOTPRINT_POINT_LONGITUDE = (242.178,241.898,241.692,241.498, 241.305,241.113,240.908,240.896,240.901 ,240.897,240.893,240.89,240.886,240.883 ,240.881,240.878,240.875,240.872, 240.869,240.866,240.863,240.86,240.857, 240.854,240.851,240.848,240.845,240.842 ,240.839,240.836,240.833,240.83,240.824 ,240.818,240.811,240.805,240.798, 240.792,240.785,240.782,240.778,240.775 ,240.771,240.768,240.764,240.761, 240.757,240.754,240.75,240.746,240.745, 240.744,240.99,241.18,241.415,241.649, 241.885,242.283,242.298,242.307,242.303 ,242.299,242.292,242.288,242.284,242.28 ,242.276,242.272,242.269,242.265, 242.261,242.254,242.247,242.24,242.234, 242.228,242.222,242.216,242.21,242.207, 242.205,242.202,242.199,242.197,242.194 ,242.192,242.189,242.187,242.185, 242.182,242.18,242.178,242.175,242.173, 242.171,242.167,242.164,242.159,242.159 ,242.178)
ORBIT_NUMBER = 7166
ORBITAL_ECCENTRICITY = 0.576
ORBITAL_INCLINATION = 86.79
ORBITAL_SEMIMAJOR_AXIS = 8788.36
PERIAPSIS_ALTITUDE = 328.74
PERIAPSIS_ARGUMENT_ANGLE = 181.11
PERIAPSIS_TIME = 2009-08-03T16:01:42.000Z
SPACECRAFT_ORIENTATION = (0.0,-1.0,0.0)
^MEX_ORIENTATION_DESC = "MEX_ORIENTATION_DESC.TXT"
SPACECRAFT_POINTING_MODE = ACROSSTRACK
^MEX_POINTING_DESC = "MEX_POINTING_DESC.TXT"
RIGHT_ASCENSION = -1e+32
DECLINATION = -1e+32
OFFSET_ANGLE = 0.2
SPACECRAFT_SOLAR_DISTANCE = 2.17047e+08
TARGET_NAME = MARS
/* CAMERA DATA ELEMENTS */
DETECTOR_TEMPERATURE = 18.1666
FOCAL_PLANE_TEMPERATURE = 8.3794
INST_CMPRS_NAME = "DISCRETE COSINE TRANSFORMATION (DCT)"
INST_CMPRS_RATIO = 15.4366
INST_CMPRS_QUALITY = 0
INST_CMPRS_QUANTZ_TBL_ID = 0
INSTRUMENT_TEMPERATURE = 11.234
LENS_TEMPERATURE = 8.7872
MACROPIXEL_SIZE = 8
MISSING_FRAMES = 0
PIXEL_SUBSAMPLING_FLAG = N
SIGNAL_CHAIN_ID = 2
/* RADIOMETRIC DATA ELEMENTS */
BANDWIDTH = 76.0
CENTER_FILTER_WAVELENGTH = 444.0
RADIANCE_OFFSET = 0.258057
RADIANCE_SCALING_FACTOR = 0.00149598
REFLECTANCE_SCALING_FACTOR = 7.24091e-05
MEX:REFLECTANCE_OFFSET = 0.0124906
/* IMAGE OBJECT DEFINITIONS */
OBJECT = IMAGE
  INTERCHANGE_FORMAT = BINARY
  LINES = 4991
  LINE_SAMPLES = 864
  SAMPLE_TYPE = UNSIGNED_INTEGER
  SAMPLE_BITS = 8
  BANDS = 1
  BAND_STORAGE_TYPE = BAND_SEQUENTIAL
  MAXIMUM = 255
  MEAN = 98.925
  MINIMUM = 1
  STANDARD_DEVIATION = 14.0953
END_OBJECT = IMAGE
/* MAP OBJECT DEFINITIONS */
OBJECT = IMAGE_MAP_PROJECTION
  ^DATA_SET_MAP_PROJECTION_CATALOG= "DSMAP.CAT"
  A_AXIS_RADIUS = 3396.0
  B_AXIS_RADIUS = 3396.0
  C_AXIS_RADIUS = 3396.0
  CENTER_LATITUDE = 0.0
  CENTER_LONGITUDE = 242.0
  COORDINATE_SYSTEM_NAME = PLANETOGRAPHIC
  COORDINATE_SYSTEM_TYPE = "BODY-FIXED ROTATING"
  EASTERNMOST_LONGITUDE = 242.307
  FIRST_STANDARD_PARALLEL = "N/A"
  LINE_FIRST_PIXEL = 1
  LINE_LAST_PIXEL = 4991
  LINE_PROJECTION_OFFSET = -7970.4375
  MAP_PROJECTION_ROTATION = 0.0
  MAP_PROJECTION_TYPE = SINUSOIDAL
  MAP_RESOLUTION = 592.713803866667
  MAP_SCALE = 0.1
  MAXIMUM_LATITUDE = -13.4555
  MINIMUM_LATITUDE = -21.8789
  POSITIVE_LONGITUDE_DIRECTION = EAST
  REFERENCE_LATITUDE = "N/A"
  REFERENCE_LONGITUDE = "N/A"
  SAMPLE_FIRST_PIXEL = 1
  SAMPLE_LAST_PIXEL = 864
  SAMPLE_PROJECTION_OFFSET = 698.9375
  SECOND_STANDARD_PARALLEL = "N/A"
  WESTERNMOST_LONGITUDE = 240.744
END_OBJECT = IMAGE_MAP_PROJECTION
END
