PDS_VERSION_ID = PDS3
/* FILE DATA ELEMENTS */
RECORD_TYPE = UNDEFINED
/* POINTERS TO DATA OBJECTS */
^IMAGE = ("H7144_0000_IR4.TIF")
/* IDENTIFICATION DATA ELEMENTS */
DATA_SET_ID = "MEX-M-HRSC-4-REFDR-MAPPROJECT-EXT3-V4.0"
DATA_SET_NAME = "MARS EXPRESS HRSC MAP PROJECTED REFDR EXTENSION3 V4.0"
DETECTOR_ID = MEX_HRSC_IR
EVENT_TYPE = "MARS-REGIONAL-MAPPING-Te-Fl"
INSTRUMENT_HOST_ID = MEX
INSTRUMENT_HOST_NAME = "MARS EXPRESS"
INSTRUMENT_ID = HRSC
INSTRUMENT_NAME = "HIGH RESOLUTION STEREO CAMERA"
MISSION_NAME = "MARS EXPRESS"
MISSION_PHASE_NAME = ME_Phase_18
PROCESSING_LEVEL_ID = 4
PRODUCT_CREATION_TIME = 2023-02-01T06:41:01.000Z
PRODUCT_ID = "H7144_0000_IR4.TIF"
RELEASE_ID = 0001
REVISION_ID = 0000
/* QUALITY DATA ELEMENTS */
DATA_QUALITY_ID = 1
DATA_QUALITY_DESC = "Data calculated based on original SPICE kernels"
/* TIME DATA ELEMENTS */
SPACECRAFT_CLOCK_START_COUNT = "1/0196849497.07282"
SPACECRAFT_CLOCK_STOP_COUNT = "1/0196849743.21992"
START_TIME = 2009-07-28T08:25:05.434Z
STOP_TIME = 2009-07-28T08:27:33.207Z
/* ORBITAL DATA ELEMENTS */
ASCENDING_NODE_LONGITUDE = 81.26
MAXIMUM_RESOLUTION = 0.0637
FOOTPRINT_POINT_LATITUDE = (-22.92,-22.9202,-22.9204,-22.9204, -22.9203,-22.9199,-22.9199,-22.9189, -23.1924,-23.3745,-23.6477,-23.9222, -24.1056,-24.4671,-24.7411,-24.9238, -25.1061,-25.2883,-25.5608,-25.9241, -26.2869,-26.5647,-26.8432,-27.0288, -27.2147,-27.4935,-27.6845,-27.9709, -28.1623,-28.3531,-28.5433,-28.8338, -29.0282,-29.2228,-29.4176,-29.7101, -30.0084,-30.3071,-30.6054,-30.9075, -31.1109,-31.3136,-31.5158,-31.7187, -31.926,-32.1336,-32.3406,-32.4443, -32.5266,-32.5258,-32.5242,-32.5218, -32.519,-32.517,-32.5168,-32.5156, -32.3089,-31.9993,-31.7923,-31.486, -31.1823,-30.879,-30.6766,-30.4785, -30.1809,-29.8831,-29.6847,-29.4899, -29.1978,-29.0036,-28.8088,-28.5201, -28.3333,-28.1355,-27.9435,-27.7529, -27.5606,-27.3724,-27.1875,-27.0023, -26.8168,-26.5383,-26.3527,-25.9936, -25.631,-25.4495,-25.2675,-25.0855, -24.9005,-24.6287,-24.4464,-24.2632, -23.9899,-23.8084,-23.6267,-23.4445, -23.2629,-23.0809,-22.9898,-22.92)
FOOTPRINT_POINT_LONGITUDE = (300.327,300.125,299.801,299.517, 299.302,298.897,298.883,298.88,298.876, 298.873,298.868,298.863,298.859,298.854 ,298.849,298.845,298.842,298.838, 298.833,298.826,298.82,298.815,298.81, 298.806,298.803,298.797,298.793,298.787 ,298.783,298.779,298.775,298.769, 298.765,298.761,298.757,298.751,298.745 ,298.738,298.732,298.726,298.721, 298.717,298.713,298.709,298.704,298.7, 298.695,298.693,298.691,299.033,299.483 ,299.898,300.331,300.601,300.62,300.625 ,300.617,300.604,300.595,300.582,300.57 ,300.559,300.551,300.543,300.532, 300.521,300.514,300.507,300.497,300.49, 300.484,300.474,300.469,300.46,300.453, 300.447,300.44,300.434,300.429,300.424, 300.419,300.411,300.406,300.398,300.389 ,300.384,300.38,300.375,300.369,300.363 ,300.359,300.354,300.348,300.344,300.34 ,300.336,300.333,300.329,300.327, 300.327)
ORBIT_NUMBER = 7144
ORBITAL_ECCENTRICITY = 0.576
ORBITAL_INCLINATION = 86.79
ORBITAL_SEMIMAJOR_AXIS = 8773.79
PERIAPSIS_ALTITUDE = 327.04
PERIAPSIS_ARGUMENT_ANGLE = 184.98
PERIAPSIS_TIME = 2009-07-28T08:20:56.000Z
SPACECRAFT_ORIENTATION = (0.0,-1.0,0.0)
^MEX_ORIENTATION_DESC = "MEX_ORIENTATION_DESC.TXT"
SPACECRAFT_POINTING_MODE = NADIR
^MEX_POINTING_DESC = "MEX_POINTING_DESC.TXT"
RIGHT_ASCENSION = -1e+32
DECLINATION = -1e+32
OFFSET_ANGLE = -1e+32
SPACECRAFT_SOLAR_DISTANCE = 2.15955e+08
TARGET_NAME = MARS
/* CAMERA DATA ELEMENTS */
DETECTOR_TEMPERATURE = 17.351
FOCAL_PLANE_TEMPERATURE = 8.3794
INST_CMPRS_NAME = "DISCRETE COSINE TRANSFORMATION (DCT)"
INST_CMPRS_RATIO = 15.0911
INST_CMPRS_QUALITY = 0
INST_CMPRS_QUANTZ_TBL_ID = 0
INSTRUMENT_TEMPERATURE = 11.234
LENS_TEMPERATURE = 8.5833
MACROPIXEL_SIZE = 4
MISSING_FRAMES = 0
PIXEL_SUBSAMPLING_FLAG = N
SIGNAL_CHAIN_ID = 2
/* RADIOMETRIC DATA ELEMENTS */
BANDWIDTH = 81.0
CENTER_FILTER_WAVELENGTH = 955.5
RADIANCE_OFFSET = 0.305692
RADIANCE_SCALING_FACTOR = 0.00162189
REFLECTANCE_SCALING_FACTOR = 0.000163184
MEX:REFLECTANCE_OFFSET = 0.0307566
/* IMAGE OBJECT DEFINITIONS */
OBJECT = IMAGE
  INTERCHANGE_FORMAT = BINARY
  LINES = 11392
  LINE_SAMPLES = 2040
  SAMPLE_TYPE = UNSIGNED_INTEGER
  SAMPLE_BITS = 8
  BANDS = 1
  BAND_STORAGE_TYPE = BAND_SEQUENTIAL
  MAXIMUM = 255
  MEAN = 96.9767
  MINIMUM = 1
  STANDARD_DEVIATION = 28.3865
END_OBJECT = IMAGE
/* MAP OBJECT DEFINITIONS */
OBJECT = IMAGE_MAP_PROJECTION
  ^DATA_SET_MAP_PROJECTION_CATALOG= "DSMAP.CAT"
  A_AXIS_RADIUS = 3396.0
  B_AXIS_RADIUS = 3396.0
  C_AXIS_RADIUS = 3396.0
  CENTER_LATITUDE = 0.0
  CENTER_LONGITUDE = 300.0
  COORDINATE_SYSTEM_NAME = PLANETOGRAPHIC
  COORDINATE_SYSTEM_TYPE = "BODY-FIXED ROTATING"
  EASTERNMOST_LONGITUDE = 300.625
  FIRST_STANDARD_PARALLEL = "N/A"
  LINE_FIRST_PIXEL = 1
  LINE_LAST_PIXEL = 11392
  LINE_PROJECTION_OFFSET = -27184.125
  MAP_PROJECTION_ROTATION = 0.0
  MAP_PROJECTION_TYPE = SINUSOIDAL
  MAP_RESOLUTION = 1185.42760773333
  MAP_SCALE = 0.05
  MAXIMUM_LATITUDE = -22.9189
  MINIMUM_LATITUDE = -32.5266
  POSITIVE_LONGITUDE_DIRECTION = EAST
  REFERENCE_LATITUDE = "N/A"
  REFERENCE_LONGITUDE = "N/A"
  SAMPLE_FIRST_PIXEL = 1
  SAMPLE_LAST_PIXEL = 2040
  SAMPLE_PROJECTION_OFFSET = 1363.125
  SECOND_STANDARD_PARALLEL = "N/A"
  WESTERNMOST_LONGITUDE = 298.691
END_OBJECT = IMAGE_MAP_PROJECTION
END
