PDS_VERSION_ID = PDS3
/* FILE DATA ELEMENTS */
RECORD_TYPE = UNDEFINED
/* POINTERS TO DATA OBJECTS */
^IMAGE = ("H7138_0000_GR4.TIF")
/* IDENTIFICATION DATA ELEMENTS */
DATA_SET_ID = "MEX-M-HRSC-4-REFDR-MAPPROJECT-EXT3-V4.0"
DATA_SET_NAME = "MARS EXPRESS HRSC MAP PROJECTED REFDR EXTENSION3 V4.0"
DETECTOR_ID = MEX_HRSC_GREEN
EVENT_TYPE = "MARS-REGIONAL-MAPPING-Te-Im-Fl"
INSTRUMENT_HOST_ID = MEX
INSTRUMENT_HOST_NAME = "MARS EXPRESS"
INSTRUMENT_ID = HRSC
INSTRUMENT_NAME = "HIGH RESOLUTION STEREO CAMERA"
MISSION_NAME = "MARS EXPRESS"
MISSION_PHASE_NAME = ME_Phase_18
PROCESSING_LEVEL_ID = 4
PRODUCT_CREATION_TIME = 2023-02-01T06:41:01.000Z
PRODUCT_ID = "H7138_0000_GR4.TIF"
RELEASE_ID = 0001
REVISION_ID = 0000
/* QUALITY DATA ELEMENTS */
DATA_QUALITY_ID = 1
DATA_QUALITY_DESC = "Data calculated based on original SPICE kernels"
/* TIME DATA ELEMENTS */
SPACECRAFT_CLOCK_START_COUNT = "1/0196700508.08245"
SPACECRAFT_CLOCK_STOP_COUNT = "1/0196700765.49365"
START_TIME = 2009-07-26T15:02:17.460Z
STOP_TIME = 2009-07-26T15:05:10.885Z
/* ORBITAL DATA ELEMENTS */
ASCENDING_NODE_LONGITUDE = 81.37
MAXIMUM_RESOLUTION = 0.0586
FOOTPRINT_POINT_LATITUDE = (-19.8482,-19.8486,-19.8485,-19.8477, -19.8466,-19.8465,-19.8485,-20.1194, -20.534,-20.7491,-20.9638,-21.1792, -21.3943,-21.609,-21.8235,-22.0378, -22.2519,-22.4658,-22.7868,-23.0005, -23.214,-23.4273,-23.6406,-23.8537, -24.0666,-24.4917,-24.9166,-25.3405, -25.7637,-26.0869,-26.3036,-26.5203, -26.7367,-26.953,-27.2842,-27.5055, -27.8371,-28.0582,-28.2923,-28.6314, -28.857,-29.0822,-29.4276,-29.6583, -29.8888,-30.1196,-30.355,-30.5901, -30.7075,-30.8116,-30.8113,-30.8106, -30.8081,-30.805,-30.8009,-30.8007, -30.7996,-30.5652,-30.3305,-30.0954, -29.8651,-29.6352,-29.4048,-29.0599, -28.8349,-28.6094,-28.3837,-28.149, -27.9279,-27.708,-27.4871,-27.2659, -26.9341,-26.6102,-26.3942,-26.1779, -25.9614,-25.747,-25.3242,-24.9009, -24.4764,-24.0514,-23.6256,-23.4124, -23.1992,-22.8789,-22.6651,-22.4517, -22.238,-22.024,-21.81,-21.5957, -21.3812,-21.1666,-20.9519,-20.737, -20.5219,-20.0194,-19.9292,-19.8482)
FOOTPRINT_POINT_LONGITUDE = (185.292,184.953,184.701,184.274, 183.959,183.946,183.941,183.937,183.93, 183.927,183.924,183.92,183.916,183.912, 183.909,183.905,183.902,183.898,183.893 ,183.889,183.885,183.882,183.878, 183.874,183.87,183.863,183.855,183.847, 183.84,183.834,183.83,183.826,183.822, 183.817,183.811,183.807,183.8,183.796, 183.791,183.784,183.779,183.775,183.769 ,183.763,183.758,183.752,183.747, 183.742,183.739,183.737,184.03,184.358, 184.771,185.116,185.565,185.582,185.588 ,185.578,185.569,185.56,185.55,185.541, 185.532,185.519,185.511,185.504,185.496 ,185.487,185.482,185.477,185.47,185.463 ,185.45,185.441,185.435,185.43,185.424, 185.418,185.407,185.396,185.385,185.375 ,185.365,185.36,185.355,185.348,185.343 ,185.339,185.335,185.331,185.328, 185.324,185.32,185.316,185.312,185.309, 185.305,185.297,185.296,185.292)
ORBIT_NUMBER = 7138
ORBITAL_ECCENTRICITY = 0.575
ORBITAL_INCLINATION = 86.79
ORBITAL_SEMIMAJOR_AXIS = 8768.64
PERIAPSIS_ALTITUDE = 326.9
PERIAPSIS_ARGUMENT_ANGLE = 185.99
PERIAPSIS_TIME = 2009-07-26T14:58:49.000Z
SPACECRAFT_ORIENTATION = (0.0,-1.0,0.0)
^MEX_ORIENTATION_DESC = "MEX_ORIENTATION_DESC.TXT"
SPACECRAFT_POINTING_MODE = NADIR
^MEX_POINTING_DESC = "MEX_POINTING_DESC.TXT"
RIGHT_ASCENSION = -1e+32
DECLINATION = -1e+32
OFFSET_ANGLE = -1e+32
SPACECRAFT_SOLAR_DISTANCE = 2.15663e+08
TARGET_NAME = MARS
/* CAMERA DATA ELEMENTS */
DETECTOR_TEMPERATURE = 18.3705
FOCAL_PLANE_TEMPERATURE = 8.3794
INST_CMPRS_NAME = "DISCRETE COSINE TRANSFORMATION (DCT)"
INST_CMPRS_RATIO = 10.0193
INST_CMPRS_QUALITY = 0
INST_CMPRS_QUANTZ_TBL_ID = 0
INSTRUMENT_TEMPERATURE = 11.234
LENS_TEMPERATURE = 8.7872
MACROPIXEL_SIZE = 4
MISSING_FRAMES = 1
PIXEL_SUBSAMPLING_FLAG = N
SIGNAL_CHAIN_ID = 2
/* RADIOMETRIC DATA ELEMENTS */
BANDWIDTH = 88.0
CENTER_FILTER_WAVELENGTH = 538.0
RADIANCE_OFFSET = 0.592566
RADIANCE_SCALING_FACTOR = 0.00252586
REFLECTANCE_SCALING_FACTOR = 0.000101147
MEX:REFLECTANCE_OFFSET = 0.023729
/* IMAGE OBJECT DEFINITIONS */
OBJECT = IMAGE
  INTERCHANGE_FORMAT = BINARY
  LINES = 12985
  LINE_SAMPLES = 1915
  SAMPLE_TYPE = UNSIGNED_INTEGER
  SAMPLE_BITS = 8
  BANDS = 1
  BAND_STORAGE_TYPE = BAND_SEQUENTIAL
  MAXIMUM = 255
  MEAN = 97.1643
  MINIMUM = 1
  STANDARD_DEVIATION = 26.3262
END_OBJECT = IMAGE
/* MAP OBJECT DEFINITIONS */
OBJECT = IMAGE_MAP_PROJECTION
  ^DATA_SET_MAP_PROJECTION_CATALOG= "DSMAP.CAT"
  A_AXIS_RADIUS = 3396.0
  B_AXIS_RADIUS = 3396.0
  C_AXIS_RADIUS = 3396.0
  CENTER_LATITUDE = 0.0
  CENTER_LONGITUDE = 185.0
  COORDINATE_SYSTEM_NAME = PLANETOGRAPHIC
  COORDINATE_SYSTEM_TYPE = "BODY-FIXED ROTATING"
  EASTERNMOST_LONGITUDE = 185.588
  FIRST_STANDARD_PARALLEL = "N/A"
  LINE_FIRST_PIXEL = 1
  LINE_LAST_PIXEL = 12985
  LINE_PROJECTION_OFFSET = -23532.125
  MAP_PROJECTION_ROTATION = 0.0
  MAP_PROJECTION_TYPE = SINUSOIDAL
  MAP_RESOLUTION = 1185.42760773333
  MAP_SCALE = 0.05
  MAXIMUM_LATITUDE = -19.8465
  MINIMUM_LATITUDE = -30.8116
  POSITIVE_LONGITUDE_DIRECTION = EAST
  REFERENCE_LATITUDE = "N/A"
  REFERENCE_LONGITUDE = "N/A"
  SAMPLE_FIRST_PIXEL = 1
  SAMPLE_LAST_PIXEL = 1915
  SAMPLE_PROJECTION_OFFSET = 1306.625
  SECOND_STANDARD_PARALLEL = "N/A"
  WESTERNMOST_LONGITUDE = 183.737
END_OBJECT = IMAGE_MAP_PROJECTION
END
