PDS_VERSION_ID = PDS3
/* FILE DATA ELEMENTS */
RECORD_TYPE = UNDEFINED
/* POINTERS TO DATA OBJECTS */
^IMAGE = ("H7128_0000_S24.TIF")
/* IDENTIFICATION DATA ELEMENTS */
DATA_SET_ID = "MEX-M-HRSC-4-REFDR-MAPPROJECT-EXT3-V4.0"
DATA_SET_NAME = "MARS EXPRESS HRSC MAP PROJECTED REFDR EXTENSION3 V4.0"
DETECTOR_ID = MEX_HRSC_S2
EVENT_TYPE = "MARS-LOCAL-STEREO-Vo-Im"
INSTRUMENT_HOST_ID = MEX
INSTRUMENT_HOST_NAME = "MARS EXPRESS"
INSTRUMENT_ID = HRSC
INSTRUMENT_NAME = "HIGH RESOLUTION STEREO CAMERA"
MISSION_NAME = "MARS EXPRESS"
MISSION_PHASE_NAME = ME_Phase_18
PROCESSING_LEVEL_ID = 4
PRODUCT_CREATION_TIME = 2023-02-01T06:41:01.000Z
PRODUCT_ID = "H7128_0000_S24.TIF"
RELEASE_ID = 0001
REVISION_ID = 0000
/* QUALITY DATA ELEMENTS */
DATA_QUALITY_ID = 1
DATA_QUALITY_DESC = "Data calculated based on original SPICE kernels"
/* TIME DATA ELEMENTS */
SPACECRAFT_CLOCK_START_COUNT = "1/0196452473.07301"
SPACECRAFT_CLOCK_STOP_COUNT = "1/0196452702.06267"
START_TIME = 2009-07-23T18:09:25.917Z
STOP_TIME = 2009-07-23T18:11:42.562Z
/* ORBITAL DATA ELEMENTS */
ASCENDING_NODE_LONGITUDE = 81.57
MAXIMUM_RESOLUTION = 0.0213
FOOTPRINT_POINT_LATITUDE = (-32.897,-32.9032,-32.91,-32.9158, -32.9189,-32.9206,-32.9208,-32.9208, -32.8942,-33.2332,-33.5037,-33.7799, -33.9861,-34.2617,-34.4013,-34.5406, -34.6798,-34.8192,-34.9601,-35.1036, -35.2447,-35.5244,-35.7314,-35.8736, -36.0227,-36.2423,-36.3864,-36.6026, -36.8217,-36.9679,-37.1138,-37.2601, -37.4094,-37.6327,-37.7797,-38.005, -38.2305,-38.3815,-38.6095,-38.7614, -38.9135,-39.0668,-39.2994,-39.4542, -39.6101,-39.8428,-40.0776,-40.1563, -40.1569,-40.1616,-40.1608,-40.1601, -40.1514,-40.1404,-40.1338,-40.125, -40.1188,-40.1056,-40.1046,-40.1037, -39.869,-39.7143,-39.5569,-39.4019, -39.2493,-39.0964,-38.8667,-38.6404, -38.4889,-38.3376,-38.1882,-38.0383, -37.8885,-37.7396,-37.5924,-37.4443, -37.2962,-37.0767,-36.9307,-36.7117, -36.4224,-36.2781,-36.1338,-35.9215, -35.7774,-35.6337,-35.4914,-35.2799, -35.0688,-34.9278,-34.7877,-34.5801, -34.3718,-34.0258,-33.8203,-33.478, -33.2756,-32.9376,-32.8699,-32.897)
FOOTPRINT_POINT_LONGITUDE = (114.063,113.797,113.449,113.039, 112.712,112.384,112.015,111.995,111.975 ,111.965,111.957,111.95,111.943,111.935 ,111.931,111.926,111.922,111.918, 111.914,111.91,111.905,111.895,111.885, 111.881,111.878,111.872,111.867,111.86, 111.852,111.847,111.842,111.837,111.832 ,111.824,111.818,111.811,111.803, 111.798,111.789,111.784,111.778,111.772 ,111.765,111.759,111.754,111.743, 111.735,111.732,111.731,111.958,112.154 ,112.519,112.91,113.302,113.583,113.919 ,114.143,114.536,114.564,114.577, 114.557,114.543,114.53,114.517,114.504, 114.491,114.472,114.454,114.442,114.43, 114.418,114.407,114.395,114.384,114.373 ,114.362,114.351,114.335,114.324, 114.309,114.289,114.279,114.269,114.254 ,114.245,114.236,114.226,114.213,114.2, 114.191,114.182,114.169,114.157,114.136 ,114.125,114.105,114.094,114.075, 114.072,114.063)
ORBIT_NUMBER = 7128
ORBITAL_ECCENTRICITY = 0.576
ORBITAL_INCLINATION = 86.78
ORBITAL_SEMIMAJOR_AXIS = 8776.44
PERIAPSIS_ALTITUDE = 325.55
PERIAPSIS_ARGUMENT_ANGLE = 187.74
PERIAPSIS_TIME = 2009-07-23T18:02:03.000Z
SPACECRAFT_ORIENTATION = (0.0,-1.0,0.0)
^MEX_ORIENTATION_DESC = "MEX_ORIENTATION_DESC.TXT"
SPACECRAFT_POINTING_MODE = NADIR
^MEX_POINTING_DESC = "MEX_POINTING_DESC.TXT"
RIGHT_ASCENSION = -1e+32
DECLINATION = -1e+32
OFFSET_ANGLE = -1e+32
SPACECRAFT_SOLAR_DISTANCE = 2.15184e+08
TARGET_NAME = MARS
/* CAMERA DATA ELEMENTS */
DETECTOR_TEMPERATURE = 18.3705
FOCAL_PLANE_TEMPERATURE = 8.3794
INST_CMPRS_NAME = "DISCRETE COSINE TRANSFORMATION (DCT)"
INST_CMPRS_RATIO = 8.10298
INST_CMPRS_QUALITY = 0
INST_CMPRS_QUANTZ_TBL_ID = 0
INSTRUMENT_TEMPERATURE = 11.234
LENS_TEMPERATURE = 8.7872
MACROPIXEL_SIZE = 1
MISSING_FRAMES = 0
MISSING_FRAMES = 1
PIXEL_SUBSAMPLING_FLAG = N
SIGNAL_CHAIN_ID = 1
/* RADIOMETRIC DATA ELEMENTS */
BANDWIDTH = 178.0
CENTER_FILTER_WAVELENGTH = 679.0
RADIANCE_OFFSET = 1.64014
RADIANCE_SCALING_FACTOR = 0.0123784
REFLECTANCE_SCALING_FACTOR = 0.000303542
MEX:REFLECTANCE_OFFSET = 0.0402193
/* IMAGE OBJECT DEFINITIONS */
OBJECT = IMAGE
  INTERCHANGE_FORMAT = BINARY
  LINES = 34516
  LINE_SAMPLES = 9252
  SAMPLE_TYPE = UNSIGNED_INTEGER
  SAMPLE_BITS = 8
  BANDS = 1
  BAND_STORAGE_TYPE = BAND_SEQUENTIAL
  MAXIMUM = 255
  MEAN = 80.8986
  MINIMUM = 1
  STANDARD_DEVIATION = 25.2604
END_OBJECT = IMAGE
/* MAP OBJECT DEFINITIONS */
OBJECT = IMAGE_MAP_PROJECTION
  ^DATA_SET_MAP_PROJECTION_CATALOG= "DSMAP.CAT"
  A_AXIS_RADIUS = 3396.0
  B_AXIS_RADIUS = 3396.0
  C_AXIS_RADIUS = 3396.0
  CENTER_LATITUDE = 0.0
  CENTER_LONGITUDE = 113.0
  COORDINATE_SYSTEM_NAME = PLANETOGRAPHIC
  COORDINATE_SYSTEM_TYPE = "BODY-FIXED ROTATING"
  EASTERNMOST_LONGITUDE = 114.577
  FIRST_STANDARD_PARALLEL = "N/A"
  LINE_FIRST_PIXEL = 1
  LINE_LAST_PIXEL = 34516
  LINE_PROJECTION_OFFSET = -155830.0
  MAP_PROJECTION_ROTATION = 0.0
  MAP_PROJECTION_TYPE = SINUSOIDAL
  MAP_RESOLUTION = 4741.71043093333
  MAP_SCALE = 0.0125
  MAXIMUM_LATITUDE = -32.8699
  MINIMUM_LATITUDE = -40.1616
  POSITIVE_LONGITUDE_DIRECTION = EAST
  REFERENCE_LATITUDE = "N/A"
  REFERENCE_LONGITUDE = "N/A"
  SAMPLE_FIRST_PIXEL = 1
  SAMPLE_LAST_PIXEL = 9252
  SAMPLE_PROJECTION_OFFSET = 4009.0
  SECOND_STANDARD_PARALLEL = "N/A"
  WESTERNMOST_LONGITUDE = 111.731
END_OBJECT = IMAGE_MAP_PROJECTION
END
