PDS_VERSION_ID = PDS3
/* FILE DATA ELEMENTS */
RECORD_TYPE = UNDEFINED
/* POINTERS TO DATA OBJECTS */
^IMAGE = ("H7127_0000_S14.TIF")
/* IDENTIFICATION DATA ELEMENTS */
DATA_SET_ID = "MEX-M-HRSC-4-REFDR-MAPPROJECT-EXT3-V4.0"
DATA_SET_NAME = "MARS EXPRESS HRSC MAP PROJECTED REFDR EXTENSION3 V4.0"
DETECTOR_ID = MEX_HRSC_S1
EVENT_TYPE = "MARS-LOCAL-STEREO-Vo"
INSTRUMENT_HOST_ID = MEX
INSTRUMENT_HOST_NAME = "MARS EXPRESS"
INSTRUMENT_ID = HRSC
INSTRUMENT_NAME = "HIGH RESOLUTION STEREO CAMERA"
MISSION_NAME = "MARS EXPRESS"
MISSION_PHASE_NAME = ME_Phase_18
PROCESSING_LEVEL_ID = 4
PRODUCT_CREATION_TIME = 2023-02-01T06:41:01.000Z
PRODUCT_ID = "H7127_0000_S14.TIF"
RELEASE_ID = 0001
REVISION_ID = 0000
/* QUALITY DATA ELEMENTS */
DATA_QUALITY_ID = 1
DATA_QUALITY_DESC = "Data calculated based on original SPICE kernels"
/* TIME DATA ELEMENTS */
SPACECRAFT_CLOCK_START_COUNT = "1/0196427657.07292"
SPACECRAFT_CLOCK_STOP_COUNT = "1/0196427900.38523"
START_TIME = 2009-07-23T11:14:19.576Z
STOP_TIME = 2009-07-23T11:16:21.546Z
/* ORBITAL DATA ELEMENTS */
ASCENDING_NODE_LONGITUDE = 81.6
MAXIMUM_RESOLUTION = 0.0189
FOOTPRINT_POINT_LATITUDE = (-33.5612,-33.5634,-33.5652,-33.5676, -33.5704,-33.5723,-33.5735,-33.575, -33.5751,-33.606,-33.9685,-34.2582, -34.5547,-34.9251,-35.2211,-35.5234, -35.6748,-35.8259,-35.9772,-36.1282, -36.2814,-36.5133,-36.668,-36.8223, -36.9763,-37.1313,-37.368,-37.6038, -37.761,-37.9173,-38.1564,-38.3156, -38.476,-38.6369,-38.7971,-38.9606, -39.1296,-39.2937,-39.4567,-39.6186, -39.7842,-39.949,-40.1151,-40.2805, -40.445,-40.6132,-40.7856,-40.9557, -41.1253,-41.2972,-41.3834,-41.4688, -41.4655,-41.4712,-41.4674,-41.4606, -41.4513,-41.4464,-41.4386,-41.4379, -41.4373,-41.2631,-41.0061,-40.8379, -40.67,-40.5014,-40.2505,-40.085, -39.8369,-39.5847,-39.4225,-39.1794, -39.0174,-38.7697,-38.6111,-38.4513, -38.2923,-38.1327,-37.8939,-37.7369, -37.5015,-37.3442,-37.1868,-37.031, -36.8773,-36.7231,-36.5692,-36.4146, -36.1863,-36.0323,-35.731,-35.58, -35.3484,-35.0456,-34.7471,-34.5268, -34.093,-33.7337,-33.6615,-33.5612)
FOOTPRINT_POINT_LONGITUDE = (214.819,214.618,214.436,214.162, 213.816,213.524,213.323,212.994,212.976 ,212.956,212.95,212.945,212.939,212.933 ,212.927,212.922,212.919,212.916, 212.913,212.911,212.908,212.903,212.9, 212.898,212.895,212.892,212.887,212.883 ,212.88,212.877,212.873,212.87,212.867, 212.864,212.861,212.858,212.854,212.851 ,212.848,212.845,212.842,212.84,212.837 ,212.834,212.831,212.829,212.824,212.82 ,212.817,212.813,212.812,212.81,213.154 ,213.596,213.867,214.261,214.605, 214.875,215.269,215.294,215.306,215.291 ,215.271,215.258,215.246,215.234, 215.215,215.204,215.186,215.168,215.157 ,215.141,215.13,215.115,215.105,215.094 ,215.085,215.075,215.06,215.05,215.036, 215.027,215.017,215.008,215.0,214.991, 214.982,214.973,214.962,214.952,214.936 ,214.928,214.914,214.897,214.881, 214.871,214.853,214.837,214.833, 214.819)
ORBIT_NUMBER = 7127
ORBITAL_ECCENTRICITY = 0.576
ORBITAL_INCLINATION = 86.78
ORBITAL_SEMIMAJOR_AXIS = 8774.13
PERIAPSIS_ALTITUDE = 325.68
PERIAPSIS_ARGUMENT_ANGLE = 187.91
PERIAPSIS_TIME = 2009-07-23T11:08:18.000Z
SPACECRAFT_ORIENTATION = (0.0,-1.0,0.0)
^MEX_ORIENTATION_DESC = "MEX_ORIENTATION_DESC.TXT"
SPACECRAFT_POINTING_MODE = NADIR
^MEX_POINTING_DESC = "MEX_POINTING_DESC.TXT"
RIGHT_ASCENSION = -1e+32
DECLINATION = -1e+32
OFFSET_ANGLE = -1e+32
SPACECRAFT_SOLAR_DISTANCE = 2.15137e+08
TARGET_NAME = MARS
/* CAMERA DATA ELEMENTS */
DETECTOR_TEMPERATURE = 17.351
FOCAL_PLANE_TEMPERATURE = 7.9716
INST_CMPRS_NAME = "DISCRETE COSINE TRANSFORMATION (DCT)"
INST_CMPRS_RATIO = 7.53471
INST_CMPRS_QUALITY = 0
INST_CMPRS_QUANTZ_TBL_ID = 0
INSTRUMENT_TEMPERATURE = 11.234
LENS_TEMPERATURE = 8.3794
MACROPIXEL_SIZE = 1
MISSING_FRAMES = 2
PIXEL_SUBSAMPLING_FLAG = N
SIGNAL_CHAIN_ID = 2
/* RADIOMETRIC DATA ELEMENTS */
BANDWIDTH = 180.0
CENTER_FILTER_WAVELENGTH = 677.0
RADIANCE_OFFSET = 1.37568
RADIANCE_SCALING_FACTOR = 0.0102392
REFLECTANCE_SCALING_FACTOR = 0.000247252
MEX:REFLECTANCE_OFFSET = 0.0332195
/* IMAGE OBJECT DEFINITIONS */
OBJECT = IMAGE
  INTERCHANGE_FORMAT = BINARY
  LINES = 18710
  LINE_SAMPLES = 4765
  SAMPLE_TYPE = UNSIGNED_INTEGER
  SAMPLE_BITS = 8
  BANDS = 1
  BAND_STORAGE_TYPE = BAND_SEQUENTIAL
  MAXIMUM = 255
  MEAN = 69.7924
  MINIMUM = 1
  STANDARD_DEVIATION = 22.2135
END_OBJECT = IMAGE
/* MAP OBJECT DEFINITIONS */
OBJECT = IMAGE_MAP_PROJECTION
  ^DATA_SET_MAP_PROJECTION_CATALOG= "DSMAP.CAT"
  A_AXIS_RADIUS = 3396.0
  B_AXIS_RADIUS = 3396.0
  C_AXIS_RADIUS = 3396.0
  CENTER_LATITUDE = 0.0
  CENTER_LONGITUDE = 214.0
  COORDINATE_SYSTEM_NAME = PLANETOGRAPHIC
  COORDINATE_SYSTEM_TYPE = "BODY-FIXED ROTATING"
  EASTERNMOST_LONGITUDE = 215.306
  FIRST_STANDARD_PARALLEL = "N/A"
  LINE_FIRST_PIXEL = 1
  LINE_LAST_PIXEL = 18710
  LINE_PROJECTION_OFFSET = -79637.0
  MAP_PROJECTION_ROTATION = 0.0
  MAP_PROJECTION_TYPE = SINUSOIDAL
  MAP_RESOLUTION = 2370.85521546667
  MAP_SCALE = 0.025
  MAXIMUM_LATITUDE = -33.5612
  MINIMUM_LATITUDE = -41.4712
  POSITIVE_LONGITUDE_DIRECTION = EAST
  REFERENCE_LATITUDE = "N/A"
  REFERENCE_LONGITUDE = "N/A"
  SAMPLE_FIRST_PIXEL = 1
  SAMPLE_LAST_PIXEL = 4765
  SAMPLE_PROJECTION_OFFSET = 2264.0
  SECOND_STANDARD_PARALLEL = "N/A"
  WESTERNMOST_LONGITUDE = 212.81
END_OBJECT = IMAGE_MAP_PROJECTION
END
