PDS_VERSION_ID = PDS3
/* FILE DATA ELEMENTS */
RECORD_TYPE = UNDEFINED
/* POINTERS TO DATA OBJECTS */
^IMAGE = ("H7118_0000_RE4.TIF")
/* IDENTIFICATION DATA ELEMENTS */
DATA_SET_ID = "MEX-M-HRSC-4-REFDR-MAPPROJECT-EXT3-V4.0"
DATA_SET_NAME = "MARS EXPRESS HRSC MAP PROJECTED REFDR EXTENSION3 V4.0"
DETECTOR_ID = MEX_HRSC_RED
EVENT_TYPE = "MARS-REGIONAL-MAPPING-Vo-Fl-Gl"
INSTRUMENT_HOST_ID = MEX
INSTRUMENT_HOST_NAME = "MARS EXPRESS"
INSTRUMENT_ID = HRSC
INSTRUMENT_NAME = "HIGH RESOLUTION STEREO CAMERA"
MISSION_NAME = "MARS EXPRESS"
MISSION_PHASE_NAME = ME_Phase_18
PROCESSING_LEVEL_ID = 4
PRODUCT_CREATION_TIME = 2023-02-01T06:41:01.000Z
PRODUCT_ID = "H7118_0000_RE4.TIF"
RELEASE_ID = 0001
REVISION_ID = 0000
/* QUALITY DATA ELEMENTS */
DATA_QUALITY_ID = 1
DATA_QUALITY_DESC = "Data calculated based on original SPICE kernels"
/* TIME DATA ELEMENTS */
SPACECRAFT_CLOCK_START_COUNT = "1/0196204474.09047"
SPACECRAFT_CLOCK_STOP_COUNT = "1/0196205008.32124"
START_TIME = 2009-07-20T21:16:43.425Z
STOP_TIME = 2009-07-20T21:22:53.116Z
/* ORBITAL DATA ELEMENTS */
ASCENDING_NODE_LONGITUDE = 81.77
MAXIMUM_RESOLUTION = 0.242
FOOTPRINT_POINT_LATITUDE = (-47.8688,-47.8924,-47.9191,-47.9446, -47.9623,-47.9685,-47.9688,-47.9145, -48.4567,-49.1414,-49.8359,-50.3993, -50.9697,-51.6919,-52.2769,-52.8702, -53.3172,-53.6189,-53.9228,-54.229, -54.5373,-54.8468,-55.1589,-55.4734, -55.7892,-56.1066,-56.4258,-56.7473, -57.0717,-57.398,-57.7265,-58.0561, -58.3891,-58.7242,-59.06,-59.3991, -59.7402,-60.0841,-60.4299,-60.7776, -61.1284,-61.482,-62.0127,-62.556, -62.9188,-63.2841,-63.4685,-63.6446, -63.6324,-63.6184,-63.5976,-63.5557, -63.5264,-63.4925,-63.4309,-63.3563, -63.3059,-63.2285,-63.2214,-63.2125, -62.8593,-62.5074,-62.1595,-61.8124, -61.467,-61.1243,-60.7823,-60.4424, -60.105,-59.7684,-59.434,-59.1015, -58.771,-58.4418,-58.1152,-57.7902, -57.4676,-57.1463,-56.8265,-56.5098, -56.1937,-55.88,-55.5677,-55.2576, -54.949,-54.6429,-54.3378,-54.0349, -53.7338,-53.1371,-52.5469,-52.1086, -51.5312,-50.8177,-50.1148,-49.5651, -48.7403,-48.0743,-47.9353,-47.8688)
FOOTPRINT_POINT_LONGITUDE = (43.6631,43.1425,42.4492,41.5818, 40.6443,40.0169,39.982,39.9329,39.91, 39.8788,39.8461,39.8188,39.7905,39.7531 ,39.7214,39.6888,39.6612,39.6433, 39.6251,39.6067,39.588,39.5682,39.5483, 39.5282,39.507,39.4852,39.4625,39.4394, 39.4159,39.3917,39.3669,39.3408,39.3143 ,39.2872,39.2583,39.2289,39.1986, 39.1676,39.1354,39.1017,39.0676,39.0324 ,38.9739,38.9181,38.8773,38.8349, 38.8137,38.7924,39.8288,40.5261,41.3965 ,42.6094,43.3006,43.9909,45.1097, 46.2232,46.9066,47.8448,47.9299,47.9848 ,47.8112,47.6443,47.4829,47.3277, 47.1779,47.0335,46.8945,46.7605,46.6309 ,46.5061,46.3855,46.2689,46.1561, 46.0474,45.9419,45.8398,45.741,45.6455, 45.553,45.4629,45.3763,45.292,45.2105, 45.1312,45.0544,44.9794,44.9071,44.8366 ,44.7683,44.6371,44.5134,44.425,44.3125 ,44.1803,44.0565,43.9604,43.8306, 43.7248,43.7075,43.6631)
ORBIT_NUMBER = 7118
ORBITAL_ECCENTRICITY = 0.576
ORBITAL_INCLINATION = 86.78
ORBITAL_SEMIMAJOR_AXIS = 8776.27
PERIAPSIS_ALTITUDE = 324.65
PERIAPSIS_ARGUMENT_ANGLE = 189.51
PERIAPSIS_TIME = 2009-07-20T21:05:17.000Z
SPACECRAFT_ORIENTATION = (0.0,-1.0,0.0)
^MEX_ORIENTATION_DESC = "MEX_ORIENTATION_DESC.TXT"
SPACECRAFT_POINTING_MODE = NADIR
^MEX_POINTING_DESC = "MEX_POINTING_DESC.TXT"
RIGHT_ASCENSION = -1e+32
DECLINATION = -1e+32
OFFSET_ANGLE = -1e+32
SPACECRAFT_SOLAR_DISTANCE = 2.14714e+08
TARGET_NAME = MARS
/* CAMERA DATA ELEMENTS */
DETECTOR_TEMPERATURE = 18.5744
FOCAL_PLANE_TEMPERATURE = 8.3794
INST_CMPRS_NAME = "DISCRETE COSINE TRANSFORMATION (DCT)"
INST_CMPRS_RATIO = 15.9162
INST_CMPRS_QUALITY = 0
INST_CMPRS_QUANTZ_TBL_ID = 0
INSTRUMENT_TEMPERATURE = 11.234
LENS_TEMPERATURE = 8.5833
MACROPIXEL_SIZE = 8
MISSING_FRAMES = 0
PIXEL_SUBSAMPLING_FLAG = N
SIGNAL_CHAIN_ID = 2
/* RADIOMETRIC DATA ELEMENTS */
BANDWIDTH = 48.0
CENTER_FILTER_WAVELENGTH = 748.0
RADIANCE_OFFSET = 0.422166
RADIANCE_SCALING_FACTOR = 0.0036905
REFLECTANCE_SCALING_FACTOR = 0.000388275
MEX:REFLECTANCE_OFFSET = 0.0444157
/* IMAGE OBJECT DEFINITIONS */
OBJECT = IMAGE
  INTERCHANGE_FORMAT = BINARY
  LINES = 4684
  LINE_SAMPLES = 1097
  SAMPLE_TYPE = UNSIGNED_INTEGER
  SAMPLE_BITS = 8
  BANDS = 1
  BAND_STORAGE_TYPE = BAND_SEQUENTIAL
  MAXIMUM = 255
  MEAN = 88.4209
  MINIMUM = 1
  STANDARD_DEVIATION = 20.2803
END_OBJECT = IMAGE
/* MAP OBJECT DEFINITIONS */
OBJECT = IMAGE_MAP_PROJECTION
  ^DATA_SET_MAP_PROJECTION_CATALOG= "DSMAP.CAT"
  A_AXIS_RADIUS = 3396.0
  B_AXIS_RADIUS = 3396.0
  C_AXIS_RADIUS = 3396.0
  CENTER_LATITUDE = 0.0
  CENTER_LONGITUDE = 42.0
  COORDINATE_SYSTEM_NAME = PLANETOGRAPHIC
  COORDINATE_SYSTEM_TYPE = "BODY-FIXED ROTATING"
  EASTERNMOST_LONGITUDE = 47.9848
  FIRST_STANDARD_PARALLEL = "N/A"
  LINE_FIRST_PIXEL = 1
  LINE_LAST_PIXEL = 4684
  LINE_PROJECTION_OFFSET = -14172.4375
  MAP_PROJECTION_ROTATION = 0.0
  MAP_PROJECTION_TYPE = SINUSOIDAL
  MAP_RESOLUTION = 296.356901933333
  MAP_SCALE = 0.2
  MAXIMUM_LATITUDE = -47.8688
  MINIMUM_LATITUDE = -63.6446
  POSITIVE_LONGITUDE_DIRECTION = EAST
  REFERENCE_LATITUDE = "N/A"
  REFERENCE_LONGITUDE = "N/A"
  SAMPLE_FIRST_PIXEL = 1
  SAMPLE_LAST_PIXEL = 1097
  SAMPLE_PROJECTION_OFFSET = 377.4375
  SECOND_STANDARD_PARALLEL = "N/A"
  WESTERNMOST_LONGITUDE = 38.7924
END_OBJECT = IMAGE_MAP_PROJECTION
END
