PDS_VERSION_ID = PDS3
/* FILE DATA ELEMENTS */
RECORD_TYPE = UNDEFINED
/* POINTERS TO DATA OBJECTS */
^IMAGE = ("H7118_0000_P14.TIF")
/* IDENTIFICATION DATA ELEMENTS */
DATA_SET_ID = "MEX-M-HRSC-4-REFDR-MAPPROJECT-EXT3-V4.0"
DATA_SET_NAME = "MARS EXPRESS HRSC MAP PROJECTED REFDR EXTENSION3 V4.0"
DETECTOR_ID = MEX_HRSC_P1
EVENT_TYPE = "MARS-REGIONAL-MAPPING-Vo-Fl-Gl"
INSTRUMENT_HOST_ID = MEX
INSTRUMENT_HOST_NAME = "MARS EXPRESS"
INSTRUMENT_ID = HRSC
INSTRUMENT_NAME = "HIGH RESOLUTION STEREO CAMERA"
MISSION_NAME = "MARS EXPRESS"
MISSION_PHASE_NAME = ME_Phase_18
PROCESSING_LEVEL_ID = 4
PRODUCT_CREATION_TIME = 2023-02-01T06:41:01.000Z
PRODUCT_ID = "H7118_0000_P14.TIF"
RELEASE_ID = 0001
REVISION_ID = 0000
/* QUALITY DATA ELEMENTS */
DATA_QUALITY_ID = 1
DATA_QUALITY_DESC = "Data calculated based on original SPICE kernels"
/* TIME DATA ELEMENTS */
SPACECRAFT_CLOCK_START_COUNT = "1/0196204474.09047"
SPACECRAFT_CLOCK_STOP_COUNT = "1/0196205008.32124"
START_TIME = 2009-07-20T21:14:56.645Z
STOP_TIME = 2009-07-20T21:19:32.271Z
/* ORBITAL DATA ELEMENTS */
ASCENDING_NODE_LONGITUDE = 81.77
MAXIMUM_RESOLUTION = 0.0506
FOOTPRINT_POINT_LATITUDE = (-47.7912,-47.8159,-47.8317,-47.845, -47.8571,-47.8574,-47.9002,-48.297, -48.8331,-49.3763,-49.9263,-50.4824, -51.0462,-51.7619,-52.3429,-52.635, -52.9307,-53.2297,-53.5294,-53.8308, -54.2862,-54.7461,-55.2113,-55.6811, -55.9969,-56.316,-56.6372,-56.9605, -57.2855,-57.6134,-57.9433,-58.2767, -58.6106,-58.9489,-59.2891,-59.6322, -59.9771,-60.3253,-60.6759,-61.029, -61.3849,-61.7434,-62.1031,-62.4685, -62.8367,-63.3933,-63.5791,-63.6073, -63.5919,-63.5589,-63.5313,-63.4853, -63.452,-63.4022,-63.3611,-63.3574, -63.3549,-62.9893,-62.6266,-62.2652, -61.9069,-61.5518,-61.1988,-60.8483, -60.5007,-60.1556,-59.8134,-59.4738, -59.1355,-58.8007,-58.4679,-58.1377, -57.8093,-57.4832,-57.1594,-56.838, -56.5192,-56.2019,-55.887,-55.5751, -55.2637,-54.9543,-54.6479,-54.1927, -53.8915,-53.5917,-53.2946,-52.9993, -52.7066,-52.4147,-51.8373,-51.2676, -50.7033,-50.1466,-49.5936,-49.1868, -48.6495,-47.9818,-47.8523,-47.7912)
FOOTPRINT_POINT_LONGITUDE = (43.3886,42.5332,41.861,41.1584,40.2706 ,40.2399,40.2016,40.1935,40.1825, 40.1708,40.159,40.1472,40.1352,40.12, 40.1072,40.1009,40.0948,40.0865,40.0795 ,40.0728,40.0629,40.0531,40.043,40.0331 ,40.0258,40.0186,40.0115,40.0039, 39.9967,39.9897,39.9826,39.9745,39.9677 ,39.9597,39.952,39.9443,39.9367,39.9286 ,39.9208,39.9132,39.9054,39.8979, 39.8917,39.883,39.8744,39.8627,39.8595, 39.8587,40.8368,42.2343,43.1398,44.3916 ,45.1553,46.1956,46.9579,47.0275,47.052 ,46.9036,46.7612,46.6228,46.4901, 46.3632,46.2403,46.1218,46.0082,45.8987 ,45.7936,45.6921,45.5933,45.4989, 45.4072,45.3185,45.2326,45.1496,45.0695 ,44.9912,44.9163,44.8435,44.7729, 44.7046,44.6376,44.5727,44.5098,44.4198 ,44.3619,44.3051,44.25,44.1971,44.1455, 44.0948,43.998,43.9069,43.819,43.7362, 43.6545,43.599,43.5275,43.4388,43.4241, 43.3886)
ORBIT_NUMBER = 7118
ORBITAL_ECCENTRICITY = 0.576
ORBITAL_INCLINATION = 86.78
ORBITAL_SEMIMAJOR_AXIS = 8776.27
PERIAPSIS_ALTITUDE = 324.65
PERIAPSIS_ARGUMENT_ANGLE = 189.51
PERIAPSIS_TIME = 2009-07-20T21:05:17.000Z
SPACECRAFT_ORIENTATION = (0.0,-1.0,0.0)
^MEX_ORIENTATION_DESC = "MEX_ORIENTATION_DESC.TXT"
SPACECRAFT_POINTING_MODE = NADIR
^MEX_POINTING_DESC = "MEX_POINTING_DESC.TXT"
RIGHT_ASCENSION = -1e+32
DECLINATION = -1e+32
OFFSET_ANGLE = -1e+32
SPACECRAFT_SOLAR_DISTANCE = 2.14714e+08
TARGET_NAME = MARS
/* CAMERA DATA ELEMENTS */
DETECTOR_TEMPERATURE = 17.5549
FOCAL_PLANE_TEMPERATURE = 8.3794
INST_CMPRS_NAME = "DISCRETE COSINE TRANSFORMATION (DCT)"
INST_CMPRS_RATIO = 13.1079
INST_CMPRS_QUALITY = 0
INST_CMPRS_QUANTZ_TBL_ID = 0
INSTRUMENT_TEMPERATURE = 11.234
LENS_TEMPERATURE = 8.5833
MACROPIXEL_SIZE = 2
MISSING_FRAMES = 0
PIXEL_SUBSAMPLING_FLAG = N
SIGNAL_CHAIN_ID = 3
/* RADIOMETRIC DATA ELEMENTS */
BANDWIDTH = 174.0
CENTER_FILTER_WAVELENGTH = 675.0
RADIANCE_OFFSET = 1.68907
RADIANCE_SCALING_FACTOR = 0.0120056
REFLECTANCE_SCALING_FACTOR = 0.000297712
MEX:REFLECTANCE_OFFSET = 0.0418851
/* IMAGE OBJECT DEFINITIONS */
OBJECT = IMAGE
  INTERCHANGE_FORMAT = BINARY
  LINES = 18733
  LINE_SAMPLES = 4388
  SAMPLE_TYPE = UNSIGNED_INTEGER
  SAMPLE_BITS = 8
  BANDS = 1
  BAND_STORAGE_TYPE = BAND_SEQUENTIAL
  MAXIMUM = 255
  MEAN = 92.4515
  MINIMUM = 1
  STANDARD_DEVIATION = 18.1748
END_OBJECT = IMAGE
/* MAP OBJECT DEFINITIONS */
OBJECT = IMAGE_MAP_PROJECTION
  ^DATA_SET_MAP_PROJECTION_CATALOG= "DSMAP.CAT"
  A_AXIS_RADIUS = 3396.0
  B_AXIS_RADIUS = 3396.0
  C_AXIS_RADIUS = 3396.0
  CENTER_LATITUDE = 0.0
  CENTER_LONGITUDE = 42.0
  COORDINATE_SYSTEM_NAME = PLANETOGRAPHIC
  COORDINATE_SYSTEM_TYPE = "BODY-FIXED ROTATING"
  EASTERNMOST_LONGITUDE = 47.052
  FIRST_STANDARD_PARALLEL = "N/A"
  LINE_FIRST_PIXEL = 1
  LINE_LAST_PIXEL = 18733
  LINE_PROJECTION_OFFSET = -56688.25
  MAP_PROJECTION_ROTATION = 0.0
  MAP_PROJECTION_TYPE = SINUSOIDAL
  MAP_RESOLUTION = 1185.42760773333
  MAP_SCALE = 0.05
  MAXIMUM_LATITUDE = -47.7912
  MINIMUM_LATITUDE = -63.6073
  POSITIVE_LONGITUDE_DIRECTION = EAST
  REFERENCE_LATITUDE = "N/A"
  REFERENCE_LONGITUDE = "N/A"
  SAMPLE_FIRST_PIXEL = 1
  SAMPLE_LAST_PIXEL = 4388
  SAMPLE_PROJECTION_OFFSET = 1511.25
  SECOND_STANDARD_PARALLEL = "N/A"
  WESTERNMOST_LONGITUDE = 39.8587
END_OBJECT = IMAGE_MAP_PROJECTION
END
