PDS_VERSION_ID = PDS3
/* FILE DATA ELEMENTS */
RECORD_TYPE = UNDEFINED
/* POINTERS TO DATA OBJECTS */
^IMAGE = ("H7118_0000_ND4.TIF")
/* IDENTIFICATION DATA ELEMENTS */
DATA_SET_ID = "MEX-M-HRSC-4-REFDR-MAPPROJECT-EXT3-V4.0"
DATA_SET_NAME = "MARS EXPRESS HRSC MAP PROJECTED REFDR EXTENSION3 V4.0"
DETECTOR_ID = MEX_HRSC_NADIR
EVENT_TYPE = "MARS-REGIONAL-MAPPING-Vo-Fl-Gl"
INSTRUMENT_HOST_ID = MEX
INSTRUMENT_HOST_NAME = "MARS EXPRESS"
INSTRUMENT_ID = HRSC
INSTRUMENT_NAME = "HIGH RESOLUTION STEREO CAMERA"
MISSION_NAME = "MARS EXPRESS"
MISSION_PHASE_NAME = ME_Phase_18
PROCESSING_LEVEL_ID = 4
PRODUCT_CREATION_TIME = 2023-02-01T06:41:01.000Z
PRODUCT_ID = "H7118_0000_ND4.TIF"
RELEASE_ID = 0001
REVISION_ID = 0000
/* QUALITY DATA ELEMENTS */
DATA_QUALITY_ID = 1
DATA_QUALITY_DESC = "Data calculated based on original SPICE kernels"
/* TIME DATA ELEMENTS */
SPACECRAFT_CLOCK_START_COUNT = "1/0196204474.09047"
SPACECRAFT_CLOCK_STOP_COUNT = "1/0196205008.32124"
START_TIME = 2009-07-20T21:15:38.942Z
STOP_TIME = 2009-07-20T21:20:45.951Z
/* ORBITAL DATA ELEMENTS */
ASCENDING_NODE_LONGITUDE = 81.77
MAXIMUM_RESOLUTION = 0.0262
FOOTPRINT_POINT_LATITUDE = (-47.8251,-47.8615,-47.8746,-47.8881, -47.9033,-47.9036,-47.9033,-48.4375, -48.9778,-49.6636,-50.2194,-50.6406, -51.0657,-51.5016,-51.9353,-52.5203, -53.1127,-53.7139,-54.0171,-54.3219, -54.6295,-54.9392,-55.2509,-55.5644, -55.8798,-56.198,-56.5187,-56.8411, -57.166,-57.4932,-57.8228,-58.1547, -58.4889,-58.8256,-59.1648,-59.5066, -59.8508,-60.1977,-60.5469,-60.8988, -61.2534,-61.6104,-61.9703,-62.3332, -62.699,-63.0674,-63.4384,-63.6253, -63.6263,-63.6136,-63.5901,-63.5609, -63.5151,-63.4468,-63.4092,-63.3235, -63.3183,-63.3152,-62.772,-62.4129, -62.0561,-61.7017,-61.3501,-61.0009, -60.654,-60.3093,-59.9671,-59.6269, -59.2892,-58.9537,-58.6205,-58.2896, -57.961,-57.6345,-57.3101,-56.9879, -56.668,-56.3501,-56.034,-55.7201, -55.409,-55.0996,-54.7919,-54.4861, -54.1821,-53.8809,-53.5813,-52.9867, -52.4005,-51.8214,-51.3919,-50.9601, -50.5388,-50.1213,-49.5704,-48.8899, -48.354,-47.9551,-47.8235,-47.8251)
FOOTPRINT_POINT_LONGITUDE = (43.4936,42.4021,41.9058,41.2775, 40.1832,40.15,40.105,40.0903,40.0749, 40.0548,40.0386,40.026,40.0131,39.9997, 39.9864,39.9678,39.9484,39.9274,39.9173 ,39.9072,39.8972,39.8866,39.8761, 39.8657,39.8544,39.843,39.8315,39.8195, 39.8076,39.7958,39.7834,39.7714,39.7583 ,39.7447,39.7314,39.7177,39.7037, 39.6894,39.6749,39.66,39.645,39.6304, 39.6109,39.5987,39.5827,39.5655,39.5488 ,39.5401,39.5401,40.3987,41.4913, 42.5014,43.741,45.2097,45.9035,47.2887, 47.3659,47.4033,47.1676,47.0177,46.8731 ,46.7343,46.6009,46.4722,46.3482, 46.2293,46.1139,46.0035,45.8964,45.7929 ,45.6933,45.5965,45.5035,45.4129, 45.3257,45.2411,45.1585,45.08,45.003, 44.929,44.8563,44.7863,44.718,44.6516, 44.588,44.5261,44.4656,44.3496,44.2403, 44.1364,44.063,43.9902,43.9217,43.8558, 43.7688,43.6722,43.5915,43.5412,43.5244 ,43.4936)
ORBIT_NUMBER = 7118
ORBITAL_ECCENTRICITY = 0.576
ORBITAL_INCLINATION = 86.78
ORBITAL_SEMIMAJOR_AXIS = 8776.27
PERIAPSIS_ALTITUDE = 324.65
PERIAPSIS_ARGUMENT_ANGLE = 189.51
PERIAPSIS_TIME = 2009-07-20T21:05:17.000Z
SPACECRAFT_ORIENTATION = (0.0,-1.0,0.0)
^MEX_ORIENTATION_DESC = "MEX_ORIENTATION_DESC.TXT"
SPACECRAFT_POINTING_MODE = NADIR
^MEX_POINTING_DESC = "MEX_POINTING_DESC.TXT"
RIGHT_ASCENSION = -1e+32
DECLINATION = -1e+32
OFFSET_ANGLE = -1e+32
SPACECRAFT_SOLAR_DISTANCE = 2.14714e+08
TARGET_NAME = MARS
/* CAMERA DATA ELEMENTS */
DETECTOR_TEMPERATURE = 18.3705
FOCAL_PLANE_TEMPERATURE = 8.3794
INST_CMPRS_NAME = "DISCRETE COSINE TRANSFORMATION (DCT)"
INST_CMPRS_RATIO = 7.19478
INST_CMPRS_QUALITY = 0
INST_CMPRS_QUANTZ_TBL_ID = 0
INSTRUMENT_TEMPERATURE = 11.234
LENS_TEMPERATURE = 8.5833
MACROPIXEL_SIZE = 1
MISSING_FRAMES = 2
PIXEL_SUBSAMPLING_FLAG = N
SIGNAL_CHAIN_ID = 0
/* RADIOMETRIC DATA ELEMENTS */
BANDWIDTH = 177.0
CENTER_FILTER_WAVELENGTH = 677.5
RADIANCE_OFFSET = 1.43656
RADIANCE_SCALING_FACTOR = 0.0132702
REFLECTANCE_SCALING_FACTOR = 0.000325003
MEX:REFLECTANCE_OFFSET = 0.0351831
/* IMAGE OBJECT DEFINITIONS */
OBJECT = IMAGE
  INTERCHANGE_FORMAT = BINARY
  LINES = 37465
  LINE_SAMPLES = 8775
  SAMPLE_TYPE = UNSIGNED_INTEGER
  SAMPLE_BITS = 8
  BANDS = 1
  BAND_STORAGE_TYPE = BAND_SEQUENTIAL
  MAXIMUM = 255
  MEAN = 87.4543
  MINIMUM = 1
  STANDARD_DEVIATION = 18.5472
END_OBJECT = IMAGE
/* MAP OBJECT DEFINITIONS */
OBJECT = IMAGE_MAP_PROJECTION
  ^DATA_SET_MAP_PROJECTION_CATALOG= "DSMAP.CAT"
  A_AXIS_RADIUS = 3396.0
  B_AXIS_RADIUS = 3396.0
  C_AXIS_RADIUS = 3396.0
  CENTER_LATITUDE = 0.0
  CENTER_LONGITUDE = 42.0
  COORDINATE_SYSTEM_NAME = PLANETOGRAPHIC
  COORDINATE_SYSTEM_TYPE = "BODY-FIXED ROTATING"
  EASTERNMOST_LONGITUDE = 47.4033
  FIRST_STANDARD_PARALLEL = "N/A"
  LINE_FIRST_PIXEL = 1
  LINE_LAST_PIXEL = 37465
  LINE_PROJECTION_OFFSET = -113376.0
  MAP_PROJECTION_ROTATION = 0.0
  MAP_PROJECTION_TYPE = SINUSOIDAL
  MAP_RESOLUTION = 2370.85521546667
  MAP_SCALE = 0.025
  MAXIMUM_LATITUDE = -47.8235
  MINIMUM_LATITUDE = -63.6263
  POSITIVE_LONGITUDE_DIRECTION = EAST
  REFERENCE_LATITUDE = "N/A"
  REFERENCE_LONGITUDE = "N/A"
  SAMPLE_FIRST_PIXEL = 1
  SAMPLE_LAST_PIXEL = 8775
  SAMPLE_PROJECTION_OFFSET = 3023.0
  SECOND_STANDARD_PARALLEL = "N/A"
  WESTERNMOST_LONGITUDE = 39.5401
END_OBJECT = IMAGE_MAP_PROJECTION
END
