PDS_VERSION_ID = PDS3
/* FILE DATA ELEMENTS */
RECORD_TYPE = UNDEFINED
/* POINTERS TO DATA OBJECTS */
^IMAGE = ("H7022_0000_S24.TIF")
/* IDENTIFICATION DATA ELEMENTS */
DATA_SET_ID = "MEX-M-HRSC-4-REFDR-MAPPROJECT-EXT3-V4.0"
DATA_SET_NAME = "MARS EXPRESS HRSC MAP PROJECTED REFDR EXTENSION3 V4.0"
DETECTOR_ID = MEX_HRSC_S2
EVENT_TYPE = "MARS-REGIONAL-MAPPING-Gl-Pf-La"
INSTRUMENT_HOST_ID = MEX
INSTRUMENT_HOST_NAME = "MARS EXPRESS"
INSTRUMENT_ID = HRSC
INSTRUMENT_NAME = "HIGH RESOLUTION STEREO CAMERA"
MISSION_NAME = "MARS EXPRESS"
MISSION_PHASE_NAME = ME_Phase_17
PROCESSING_LEVEL_ID = 4
PRODUCT_CREATION_TIME = 2023-02-01T06:41:01.000Z
PRODUCT_ID = "H7022_0000_S24.TIF"
RELEASE_ID = 0001
REVISION_ID = 0000
/* QUALITY DATA ELEMENTS */
DATA_QUALITY_ID = 1
DATA_QUALITY_DESC = "Data calculated based on original SPICE kernels"
/* TIME DATA ELEMENTS */
SPACECRAFT_CLOCK_START_COUNT = "1/0193821686.09124"
SPACECRAFT_CLOCK_STOP_COUNT = "1/0193822288.11019"
START_TIME = 2009-06-23T07:24:06.807Z
STOP_TIME = 2009-06-23T07:31:28.533Z
/* ORBITAL DATA ELEMENTS */
ASCENDING_NODE_LONGITUDE = 83.67
MAXIMUM_RESOLUTION = 0.0687
FOOTPRINT_POINT_LATITUDE = (-67.1322,-67.2394,-67.3144,-67.3714, -67.4191,-67.4579,-67.4843,-67.4859, -67.3855,-68.2481,-68.8366,-69.2804, -69.8791,-70.4837,-71.0918,-71.8727, -72.3471,-72.9831,-73.6268,-73.9526, -74.4463,-74.775,-75.1067,-75.4397, -75.7759,-76.1144,-76.4546,-76.797, -77.142,-77.491,-77.8412,-78.1917, -78.5436,-78.8988,-79.2563,-79.6165, -79.9794,-80.3445,-80.712,-81.0818, -81.4558,-81.8294,-82.2062,-82.584, -83.1473,-83.5206,-83.8892,-84.0732, -84.103,-84.0319,-83.9354,-83.8403, -83.7093,-83.5569,-83.3638,-83.1197, -82.9332,-82.676,-82.4635,-82.1442, -81.8754,-81.8424,-81.8298,-81.4519, -81.1889,-80.9145,-80.6314,-80.3434, -80.0503,-79.7542,-79.455,-79.1534, -78.8507,-78.546,-78.2394,-77.9351, -77.6102,-77.3027,-76.8387,-76.541, -76.2275,-75.921,-75.6089,-75.2984, -74.99,-74.5278,-73.9135,-73.3033, -72.6971,-72.096,-71.5045,-70.6119, -70.0271,-69.4481,-68.8739,-68.3047, -67.7412,-67.1848,-67.0459,-67.1322)
FOOTPRINT_POINT_LONGITUDE = (8.47507,6.96924,5.72849,4.61959,3.5061 ,2.38619,1.40091,1.33037,1.20918, 1.22684,1.24431,1.25591,1.27241,1.28823 ,1.3003,1.32861,1.34652,1.36771,1.38894 ,1.40155,1.42287,1.43311,1.44473, 1.45582,1.46831,1.48231,1.49512,1.50919 ,1.52357,1.5416,1.55867,1.5724,1.58479, 1.59957,1.61532,1.63203,1.65,1.66824, 1.68666,1.70598,1.73078,1.74856,1.76909 ,1.78494,1.7994,1.81648,1.82847,1.83838 ,1.84091,6.43924,10.4713,13.5012, 16.8254,19.9935,23.374,26.8752,29.1717, 31.9396,33.9537,36.6395,38.6282,38.8723 ,38.9548,36.3141,34.6708,33.1082, 31.6302,30.2485,28.9561,27.7477,26.6165 ,25.5567,24.5636,23.6306,22.7529, 21.9297,21.1393,20.4073,19.3835,18.7525 ,18.1473,17.577,17.0342,16.519,16.0304, 15.3411,14.4973,13.7296,13.0291,12.3879 ,11.7992,11.0037,10.5237,10.0794, 9.66742,9.28461,8.92826,8.5957,8.51605, 8.47507)
ORBIT_NUMBER = 7022
ORBITAL_ECCENTRICITY = 0.576
ORBITAL_INCLINATION = 86.77
ORBITAL_SEMIMAJOR_AXIS = 8755.88
PERIAPSIS_ALTITUDE = 319.16
PERIAPSIS_ARGUMENT_ANGLE = 206.19
PERIAPSIS_TIME = 2009-06-23T07:11:26.000Z
SPACECRAFT_ORIENTATION = (0.0,-1.0,0.0)
^MEX_ORIENTATION_DESC = "MEX_ORIENTATION_DESC.TXT"
SPACECRAFT_POINTING_MODE = NADIR
^MEX_POINTING_DESC = "MEX_POINTING_DESC.TXT"
RIGHT_ASCENSION = -1e+32
DECLINATION = -1e+32
OFFSET_ANGLE = -1e+32
SPACECRAFT_SOLAR_DISTANCE = 2.10737e+08
TARGET_NAME = MARS
/* CAMERA DATA ELEMENTS */
DETECTOR_TEMPERATURE = 18.9822
FOCAL_PLANE_TEMPERATURE = 8.7872
INST_CMPRS_NAME = "DISCRETE COSINE TRANSFORMATION (DCT)"
INST_CMPRS_RATIO = 11.3559
INST_CMPRS_QUALITY = 0
INST_CMPRS_QUANTZ_TBL_ID = 0
INSTRUMENT_TEMPERATURE = 11.234
LENS_TEMPERATURE = 9.3989
MACROPIXEL_SIZE = 2
MISSING_FRAMES = 0
PIXEL_SUBSAMPLING_FLAG = N
SIGNAL_CHAIN_ID = 1
/* RADIOMETRIC DATA ELEMENTS */
BANDWIDTH = 178.0
CENTER_FILTER_WAVELENGTH = 679.0
RADIANCE_OFFSET = 0.0
RADIANCE_SCALING_FACTOR = 0.0346171
REFLECTANCE_SCALING_FACTOR = 0.000814155
MEX:REFLECTANCE_OFFSET = 0.0
/* IMAGE OBJECT DEFINITIONS */
OBJECT = IMAGE
  INTERCHANGE_FORMAT = BINARY
  LINES = 20028
  LINE_SAMPLES = 7839
  SAMPLE_TYPE = UNSIGNED_INTEGER
  SAMPLE_BITS = 8
  BANDS = 1
  BAND_STORAGE_TYPE = BAND_SEQUENTIAL
  MAXIMUM = 255
  MEAN = 123.879
  MINIMUM = 1
  STANDARD_DEVIATION = 56.0386
END_OBJECT = IMAGE
/* MAP OBJECT DEFINITIONS */
OBJECT = IMAGE_MAP_PROJECTION
  ^DATA_SET_MAP_PROJECTION_CATALOG= "DSMAP.CAT"
  A_AXIS_RADIUS = 3396.0
  B_AXIS_RADIUS = 3396.0
  C_AXIS_RADIUS = 3396.0
  CENTER_LATITUDE = 0.0
  CENTER_LONGITUDE = 9.0
  COORDINATE_SYSTEM_NAME = PLANETOGRAPHIC
  COORDINATE_SYSTEM_TYPE = "BODY-FIXED ROTATING"
  EASTERNMOST_LONGITUDE = 38.9548
  FIRST_STANDARD_PARALLEL = "N/A"
  LINE_FIRST_PIXEL = 1
  LINE_LAST_PIXEL = 20028
  LINE_PROJECTION_OFFSET = -79481.75
  MAP_PROJECTION_ROTATION = 0.0
  MAP_PROJECTION_TYPE = SINUSOIDAL
  MAP_RESOLUTION = 1185.42760773333
  MAP_SCALE = 0.05
  MAXIMUM_LATITUDE = -67.0459
  MINIMUM_LATITUDE = -84.10299999999999
  POSITIVE_LONGITUDE_DIRECTION = EAST
  REFERENCE_LATITUDE = "N/A"
  REFERENCE_LONGITUDE = "N/A"
  SAMPLE_FIRST_PIXEL = 1
  SAMPLE_LAST_PIXEL = 7839
  SAMPLE_PROJECTION_OFFSET = 3297.25
  SECOND_STANDARD_PARALLEL = "N/A"
  WESTERNMOST_LONGITUDE = 1.20918
END_OBJECT = IMAGE_MAP_PROJECTION
END
