PDS_VERSION_ID = PDS3
/* FILE DATA ELEMENTS */
RECORD_TYPE = UNDEFINED
/* POINTERS TO DATA OBJECTS */
^IMAGE = ("H7022_0000_IR4.TIF")
/* IDENTIFICATION DATA ELEMENTS */
DATA_SET_ID = "MEX-M-HRSC-4-REFDR-MAPPROJECT-EXT3-V4.0"
DATA_SET_NAME = "MARS EXPRESS HRSC MAP PROJECTED REFDR EXTENSION3 V4.0"
DETECTOR_ID = MEX_HRSC_IR
EVENT_TYPE = "MARS-REGIONAL-MAPPING-Gl-Pf-La"
INSTRUMENT_HOST_ID = MEX
INSTRUMENT_HOST_NAME = "MARS EXPRESS"
INSTRUMENT_ID = HRSC
INSTRUMENT_NAME = "HIGH RESOLUTION STEREO CAMERA"
MISSION_NAME = "MARS EXPRESS"
MISSION_PHASE_NAME = ME_Phase_17
PROCESSING_LEVEL_ID = 4
PRODUCT_CREATION_TIME = 2023-02-01T06:41:01.000Z
PRODUCT_ID = "H7022_0000_IR4.TIF"
RELEASE_ID = 0001
REVISION_ID = 0000
/* QUALITY DATA ELEMENTS */
DATA_QUALITY_ID = 1
DATA_QUALITY_DESC = "Data calculated based on original SPICE kernels"
/* TIME DATA ELEMENTS */
SPACECRAFT_CLOCK_START_COUNT = "1/0193821686.09124"
SPACECRAFT_CLOCK_STOP_COUNT = "1/0193822288.11019"
START_TIME = 2009-06-23T07:21:39.315Z
STOP_TIME = 2009-06-23T07:26:29.459Z
/* ORBITAL DATA ELEMENTS */
ASCENDING_NODE_LONGITUDE = 83.67
MAXIMUM_RESOLUTION = 0.054
FOOTPRINT_POINT_LATITUDE = (-66.983,-67.0549,-67.11,-67.1473, -67.1917,-67.2238,-67.2253,-67.3072, -67.7223,-68.1423,-68.5651,-69.1357, -69.7134,-70.2999,-70.8953,-71.4973, -71.7988,-72.1056,-72.4122,-72.7228, -73.0347,-73.5076,-73.824,-74.1437, -74.466,-74.7917,-75.1178,-75.449, -75.7824,-76.1161,-76.4527,-76.7918, -77.1332,-77.476,-77.8237,-78.1739, -78.7121,-79.2555,-79.6156,-79.9776, -80.343,-80.7113,-81.0812,-81.4555, -81.8315,-82.2098,-82.7859,-83.172, -83.5601,-83.756,-83.8589,-83.6816, -83.5426,-83.2806,-82.9583,-82.5931, -82.3547,-82.3347,-82.3265,-81.8753, -81.5682,-81.2563,-80.9413,-80.6234, -80.3045,-79.9833,-79.6609,-79.3377, -79.0136,-78.6886,-78.3642,-77.8714, -77.3799,-77.0599,-76.5788,-76.2599, -75.9435,-75.6272,-75.3125,-74.999, -74.6865,-74.3764,-73.913,-73.6069, -73.3013,-72.997,-72.6949,-72.2446, -71.7983,-71.3557,-70.9163,-70.4817, -69.9062,-69.3378,-68.6362,-68.0821, -67.6704,-67.2636,-67.1277,-66.983)
FOOTPRINT_POINT_LONGITUDE = (7.71923,6.41327,5.26545,4.38834, 3.17849,2.12821,2.07282,1.99285,2.03802 ,2.08422,2.13401,2.2053,2.28245,2.3651, 2.45403,2.55204,2.60793,2.66231,2.72161 ,2.78244,2.84626,2.94824,3.02174, 3.09878,3.17913,3.262,3.35287,3.44595, 3.54436,3.65052,3.7634,3.88387,4.01226, 4.15028,4.29528,4.45019,4.71018,5.00206 ,5.21377,5.44461,5.69485,5.96759, 6.26755,6.59471,6.95752,7.36063,8.05114 ,8.58508,9.18987,9.52324,9.70777, 15.3148,18.6814,23.6937,28.5544,32.9871 ,35.4447,35.6496,35.7149,32.9338, 31.2715,29.7374,28.3265,27.0227,25.825, 24.7093,23.6742,22.7115,21.8124,20.9692 ,20.1829,19.0835,18.0849,17.4841, 16.6363,16.1134,15.6221,15.1535,14.7104 ,14.2902,13.8901,13.511,12.9747,12.6399 ,12.3186,12.0117,11.7187,11.3032, 10.9144,10.55,10.2065,9.88506,9.48195, 9.10938,8.68076,8.36411,8.14088,7.92941 ,7.86069,7.71923)
ORBIT_NUMBER = 7022
ORBITAL_ECCENTRICITY = 0.576
ORBITAL_INCLINATION = 86.77
ORBITAL_SEMIMAJOR_AXIS = 8755.88
PERIAPSIS_ALTITUDE = 319.16
PERIAPSIS_ARGUMENT_ANGLE = 206.19
PERIAPSIS_TIME = 2009-06-23T07:11:26.000Z
SPACECRAFT_ORIENTATION = (0.0,-1.0,0.0)
^MEX_ORIENTATION_DESC = "MEX_ORIENTATION_DESC.TXT"
SPACECRAFT_POINTING_MODE = NADIR
^MEX_POINTING_DESC = "MEX_POINTING_DESC.TXT"
RIGHT_ASCENSION = -1e+32
DECLINATION = -1e+32
OFFSET_ANGLE = -1e+32
SPACECRAFT_SOLAR_DISTANCE = 2.10737e+08
TARGET_NAME = MARS
/* CAMERA DATA ELEMENTS */
DETECTOR_TEMPERATURE = 17.5549
FOCAL_PLANE_TEMPERATURE = 8.7872
INST_CMPRS_NAME = "DISCRETE COSINE TRANSFORMATION (DCT)"
INST_CMPRS_RATIO = 5.69742
INST_CMPRS_QUALITY = 0
INST_CMPRS_QUANTZ_TBL_ID = 0
INSTRUMENT_TEMPERATURE = 11.234
LENS_TEMPERATURE = 9.3989
MACROPIXEL_SIZE = 2
PIXEL_SUBSAMPLING_FLAG = N
SIGNAL_CHAIN_ID = 3
/* RADIOMETRIC DATA ELEMENTS */
BANDWIDTH = 81.0
CENTER_FILTER_WAVELENGTH = 955.5
RADIANCE_OFFSET = 0.400729
RADIANCE_SCALING_FACTOR = 0.00675464
REFLECTANCE_SCALING_FACTOR = 0.000647167
MEX:REFLECTANCE_OFFSET = 0.0383942
/* IMAGE OBJECT DEFINITIONS */
OBJECT = IMAGE
  INTERCHANGE_FORMAT = BINARY
  LINES = 20028
  LINE_SAMPLES = 7839
  SAMPLE_TYPE = UNSIGNED_INTEGER
  SAMPLE_BITS = 8
  BANDS = 1
  BAND_STORAGE_TYPE = BAND_SEQUENTIAL
  MAXIMUM = 255
  MEAN = 90.4581
  MINIMUM = 1
  STANDARD_DEVIATION = 65.6858
END_OBJECT = IMAGE
/* MAP OBJECT DEFINITIONS */
OBJECT = IMAGE_MAP_PROJECTION
  ^DATA_SET_MAP_PROJECTION_CATALOG= "DSMAP.CAT"
  A_AXIS_RADIUS = 3396.0
  B_AXIS_RADIUS = 3396.0
  C_AXIS_RADIUS = 3396.0
  CENTER_LATITUDE = 0.0
  CENTER_LONGITUDE = 9.0
  COORDINATE_SYSTEM_NAME = PLANETOGRAPHIC
  COORDINATE_SYSTEM_TYPE = "BODY-FIXED ROTATING"
  EASTERNMOST_LONGITUDE = 35.7149
  FIRST_STANDARD_PARALLEL = "N/A"
  LINE_FIRST_PIXEL = 1
  LINE_LAST_PIXEL = 20028
  LINE_PROJECTION_OFFSET = -79481.75
  MAP_PROJECTION_ROTATION = 0.0
  MAP_PROJECTION_TYPE = SINUSOIDAL
  MAP_RESOLUTION = 1185.42760773333
  MAP_SCALE = 0.05
  MAXIMUM_LATITUDE = -66.983
  MINIMUM_LATITUDE = -83.85890000000001
  POSITIVE_LONGITUDE_DIRECTION = EAST
  REFERENCE_LATITUDE = "N/A"
  REFERENCE_LONGITUDE = "N/A"
  SAMPLE_FIRST_PIXEL = 1
  SAMPLE_LAST_PIXEL = 7839
  SAMPLE_PROJECTION_OFFSET = 3297.25
  SECOND_STANDARD_PARALLEL = "N/A"
  WESTERNMOST_LONGITUDE = 1.99285
END_OBJECT = IMAGE_MAP_PROJECTION
END
