PDS_VERSION_ID = PDS3
/* FILE DATA ELEMENTS */
RECORD_TYPE = UNDEFINED
/* POINTERS TO DATA OBJECTS */
^IMAGE = ("H6984_0000_S14.TIF")
/* IDENTIFICATION DATA ELEMENTS */
DATA_SET_ID = "MEX-M-HRSC-4-REFDR-MAPPROJECT-EXT3-V4.0"
DATA_SET_NAME = "MARS EXPRESS HRSC MAP PROJECTED REFDR EXTENSION3 V4.0"
DETECTOR_ID = MEX_HRSC_S1
EVENT_TYPE = "MARS-REGIONAL-VARIABLE-Gl-La"
INSTRUMENT_HOST_ID = MEX
INSTRUMENT_HOST_NAME = "MARS EXPRESS"
INSTRUMENT_ID = HRSC
INSTRUMENT_NAME = "HIGH RESOLUTION STEREO CAMERA"
MISSION_NAME = "MARS EXPRESS"
MISSION_PHASE_NAME = ME_Phase_17
PROCESSING_LEVEL_ID = 4
PRODUCT_CREATION_TIME = 2023-02-01T06:41:01.000Z
PRODUCT_ID = "H6984_0000_S14.TIF"
RELEASE_ID = 0001
REVISION_ID = 0000
/* QUALITY DATA ELEMENTS */
DATA_QUALITY_ID = 1
DATA_QUALITY_DESC = "Data calculated based on original SPICE kernels"
/* TIME DATA ELEMENTS */
SPACECRAFT_CLOCK_START_COUNT = "1/0192878594.09052"
SPACECRAFT_CLOCK_STOP_COUNT = "1/0192879325.16440"
START_TIME = 2009-06-12T09:23:16.580Z
STOP_TIME = 2009-06-12T09:27:53.559Z
/* ORBITAL DATA ELEMENTS */
ASCENDING_NODE_LONGITUDE = 84.41
MAXIMUM_RESOLUTION = 0.0664
FOOTPRINT_POINT_LATITUDE = (-80.7162,-81.02,-81.2225,-81.4092, -81.579,-81.732,-81.8673,-81.8752, -81.9838,-82.3871,-82.9213,-83.4605, -84.1312,-84.6655,-85.194,-85.7038, -86.0735,-86.308,-86.5341,-86.7463, -86.9411,-87.1952,-87.3846,-87.4935, -87.5168,-87.4992,-87.3988,-87.2198, -87.0633,-86.8826,-86.5686,-86.2317, -85.9906,-85.737,-85.4801,-85.2159, -84.9448,-84.6729,-84.3953,-84.1151, -83.8333,-83.4072,-83.1213,-82.837, -82.548,-82.2591,-81.9715,-81.827, -81.7763,-81.6758,-81.4905,-81.3698, -81.1885,-81.0313,-80.7753,-80.5393, -80.2424,-79.8985,-79.8724,-79.8641, -80.3556,-80.7165,-81.0708,-81.5296, -81.8595,-82.0749,-82.384,-82.5812, -82.8618,-83.0396,-83.2077,-83.3659, -83.5138,-83.7117,-83.8268,-83.9768, -84.0554,-84.1192,-84.1634,-84.1914, -84.2043,-84.1956,-84.1703,-84.127, -84.0295,-83.9459,-83.8472,-83.6744, -83.5437,-83.4022,-83.0894,-82.7435, -82.465,-82.1742,-81.8727,-81.5626, -81.2441,-80.921,-80.8112,-80.7162)
FOOTPRINT_POINT_LONGITUDE = (264.184,261.023,258.619,256.128, 253.555,250.898,248.162,247.989,248.114 ,249.088,250.567,252.324,255.011, 257.697,261.035,265.211,269.108,272.136 ,275.616,279.584,284.099,292.09,301.475 ,311.93,319.243,326.565,337.065,346.435 ,351.966,356.887,363.343,368.441, 371.379,374.015,376.301,378.345,380.184 ,381.805,383.279,384.607,385.807, 387.407,388.359,389.22,390.027,390.768, 391.447,391.769,391.879,389.595,386.148 ,384.249,381.725,379.725,376.979, 374.772,372.296,369.789,369.617,369.552 ,367.553,365.905,364.113,361.475, 359.296,357.73,355.217,353.421,350.539, 348.477,346.303,344.014,341.604,337.784 ,335.104,330.842,327.91,324.877,321.824 ,318.706,315.503,312.369,309.211,306.09 ,301.63,298.712,295.936,291.946,289.446 ,287.079,282.674,278.733,276.032, 273.569,271.313,269.25,267.342,265.608, 265.052,264.184)
ORBIT_NUMBER = 6984
ORBITAL_ECCENTRICITY = 0.576
ORBITAL_INCLINATION = 86.76
ORBITAL_SEMIMAJOR_AXIS = 8749.94
PERIAPSIS_ALTITUDE = 316.44
PERIAPSIS_ARGUMENT_ANGLE = 212.8
PERIAPSIS_TIME = 2009-06-12T09:10:55.000Z
SPACECRAFT_ORIENTATION = (0.0,-1.0,0.0)
^MEX_ORIENTATION_DESC = "MEX_ORIENTATION_DESC.TXT"
SPACECRAFT_POINTING_MODE = ACROSSTRACK
^MEX_POINTING_DESC = "MEX_POINTING_DESC.TXT"
RIGHT_ASCENSION = -1e+32
DECLINATION = -1e+32
OFFSET_ANGLE = 0.9
SPACECRAFT_SOLAR_DISTANCE = 2.09481e+08
TARGET_NAME = MARS
/* CAMERA DATA ELEMENTS */
DETECTOR_TEMPERATURE = 17.7588
FOCAL_PLANE_TEMPERATURE = 9.3989
INST_CMPRS_NAME = "DISCRETE COSINE TRANSFORMATION (DCT)"
INST_CMPRS_RATIO = 11.8134
INST_CMPRS_QUALITY = 0
INST_CMPRS_QUANTZ_TBL_ID = 0
INSTRUMENT_TEMPERATURE = 11.4379
LENS_TEMPERATURE = 9.8067
MACROPIXEL_SIZE = 2
MISSING_FRAMES = 0
PIXEL_SUBSAMPLING_FLAG = N
SIGNAL_CHAIN_ID = 1
/* RADIOMETRIC DATA ELEMENTS */
BANDWIDTH = 180.0
CENTER_FILTER_WAVELENGTH = 677.0
RADIANCE_OFFSET = 3.83929
RADIANCE_SCALING_FACTOR = 0.0335733
REFLECTANCE_SCALING_FACTOR = 0.000768651
MEX:REFLECTANCE_OFFSET = 0.0878996
/* IMAGE OBJECT DEFINITIONS */
OBJECT = IMAGE
  INTERCHANGE_FORMAT = BINARY
  LINES = 15788
  LINE_SAMPLES = 16602
  SAMPLE_TYPE = UNSIGNED_INTEGER
  SAMPLE_BITS = 8
  BANDS = 1
  BAND_STORAGE_TYPE = BAND_SEQUENTIAL
  MAXIMUM = 255
  MEAN = 205.541
  MINIMUM = 1
  STANDARD_DEVIATION = 76.5221
END_OBJECT = IMAGE
/* MAP OBJECT DEFINITIONS */
OBJECT = IMAGE_MAP_PROJECTION
  ^DATA_SET_MAP_PROJECTION_CATALOG= "DSMAP.CAT"
  A_AXIS_RADIUS = 3396.0
  B_AXIS_RADIUS = 3396.0
  C_AXIS_RADIUS = 3396.0
  CENTER_LATITUDE = -90.0
  CENTER_LONGITUDE = 0.0
  COORDINATE_SYSTEM_NAME = PLANETOGRAPHIC
  COORDINATE_SYSTEM_TYPE = "BODY-FIXED ROTATING"
  EASTERNMOST_LONGITUDE = 31.879
  FIRST_STANDARD_PARALLEL = "N/A"
  LINE_FIRST_PIXEL = 1
  LINE_LAST_PIXEL = 15788
  LINE_PROJECTION_OFFSET = 12185.25
  MAP_PROJECTION_ROTATION = 0.0
  MAP_PROJECTION_TYPE = STEREOGRAPHIC
  MAP_RESOLUTION = 1185.42760773333
  MAP_SCALE = 0.05
  MAXIMUM_LATITUDE = -79.86409999999999
  MINIMUM_LATITUDE = -87.5168
  POSITIVE_LONGITUDE_DIRECTION = EAST
  REFERENCE_LATITUDE = "N/A"
  REFERENCE_LONGITUDE = "N/A"
  SAMPLE_FIRST_PIXEL = 1
  SAMPLE_LAST_PIXEL = 16602
  SAMPLE_PROJECTION_OFFSET = 11067.75
  SECOND_STANDARD_PARALLEL = "N/A"
  WESTERNMOST_LONGITUDE = -112.011
END_OBJECT = IMAGE_MAP_PROJECTION
END
