PDS_VERSION_ID = PDS3
/* FILE DATA ELEMENTS */
RECORD_TYPE = UNDEFINED
/* POINTERS TO DATA OBJECTS */
^IMAGE = ("H6980_0000_RE4.TIF")
/* IDENTIFICATION DATA ELEMENTS */
DATA_SET_ID = "MEX-M-HRSC-4-REFDR-MAPPROJECT-EXT3-V4.0"
DATA_SET_NAME = "MARS EXPRESS HRSC MAP PROJECTED REFDR EXTENSION3 V4.0"
DETECTOR_ID = MEX_HRSC_RED
EVENT_TYPE = "MARS-REGIONAL-MAPPING-Gl-Pf-La"
INSTRUMENT_HOST_ID = MEX
INSTRUMENT_HOST_NAME = "MARS EXPRESS"
INSTRUMENT_ID = HRSC
INSTRUMENT_NAME = "HIGH RESOLUTION STEREO CAMERA"
MISSION_NAME = "MARS EXPRESS"
MISSION_PHASE_NAME = ME_Phase_17
PROCESSING_LEVEL_ID = 4
PRODUCT_CREATION_TIME = 2023-02-01T06:41:01.000Z
PRODUCT_ID = "H6980_0000_RE4.TIF"
RELEASE_ID = 0001
REVISION_ID = 0000
/* QUALITY DATA ELEMENTS */
DATA_QUALITY_ID = 1
DATA_QUALITY_DESC = "Data calculated based on original SPICE kernels"
/* TIME DATA ELEMENTS */
SPACECRAFT_CLOCK_START_COUNT = "1/0192779090.09061"
SPACECRAFT_CLOCK_STOP_COUNT = "1/0192779573.52185"
START_TIME = 2009-06-11T05:46:46.888Z
STOP_TIME = 2009-06-11T05:52:24.884Z
/* ORBITAL DATA ELEMENTS */
ASCENDING_NODE_LONGITUDE = 84.49
MAXIMUM_RESOLUTION = 0.1103
FOOTPRINT_POINT_LATITUDE = (-68.9669,-69.0263,-69.0976,-69.1741, -69.2408,-69.2779,-69.2797,-69.1981, -69.5894,-69.9832,-70.5149,-71.1844, -71.7231,-72.1359,-72.691,-73.2563, -73.5467,-73.8317,-74.119,-74.4083, -74.6992,-74.9908,-75.2846,-75.7318, -76.0318,-76.4844,-76.7862,-77.2452, -77.7087,-78.0204,-78.332,-78.6408, -78.956,-79.2829,-79.6033,-79.9255, -80.2508,-80.5771,-80.9086,-81.4043, -81.7395,-82.2429,-82.584,-82.9263, -83.4431,-83.789,-84.138,-84.3127, -84.3538,-84.2565,-84.0678,-83.9408, -83.7851,-83.5024,-83.2048,-82.9478, -82.5586,-82.5341,-82.5248,-82.2723, -82.0157,-81.7541,-81.4879,-81.2174, -80.9446,-80.6692,-80.3916,-80.1059, -79.8284,-79.4032,-79.1196,-78.6941, -78.4046,-78.1208,-77.8422,-77.5573, -77.2726,-76.9886,-76.5654,-76.2811, -75.9993,-75.5759,-75.2922,-75.0168, -74.7375,-74.4627,-74.1869,-73.9132, -73.6355,-73.0947,-72.5463,-72.0096, -71.6115,-71.0896,-70.3018,-69.9235, -69.411,-69.0311,-68.9056,-68.9669)
FOOTPRINT_POINT_LONGITUDE = (283.881,283.016,281.858,280.399, 278.814,277.689,277.629,277.507,277.557 ,277.607,277.68,277.775,277.85,277.917, 278.012,278.119,278.186,278.243,278.303 ,278.366,278.432,278.499,278.57,278.688 ,278.772,278.902,278.99,279.139,279.298 ,279.414,279.531,279.643,279.774, 279.942,280.095,280.26,280.439,280.628, 280.843,281.18,281.437,281.853,282.18, 282.534,283.139,283.596,284.117,284.4, 284.47,288.187,293.323,296.046,298.94, 303.247,306.937,309.653,313.178,313.372 ,313.426,311.583,309.876,308.29,306.815 ,305.439,304.159,302.964,301.846, 300.794,299.819,298.461,297.624,296.46, 295.738,295.059,294.418,293.81,293.234, 292.688,291.919,291.439,290.983,290.338 ,289.934,289.547,289.179,288.826, 288.489,288.166,287.858,287.276,286.744 ,286.25,285.903,285.469,284.878,284.601 ,284.259,284.015,283.937,283.881)
ORBIT_NUMBER = 6980
ORBITAL_ECCENTRICITY = 0.576
ORBITAL_INCLINATION = 86.78
ORBITAL_SEMIMAJOR_AXIS = 8748.11
PERIAPSIS_ALTITUDE = 315.91
PERIAPSIS_ARGUMENT_ANGLE = 213.51
PERIAPSIS_TIME = 2009-06-11T05:36:19.000Z
SPACECRAFT_ORIENTATION = (0.0,-1.0,0.0)
^MEX_ORIENTATION_DESC = "MEX_ORIENTATION_DESC.TXT"
SPACECRAFT_POINTING_MODE = NADIR
^MEX_POINTING_DESC = "MEX_POINTING_DESC.TXT"
RIGHT_ASCENSION = -1e+32
DECLINATION = -1e+32
OFFSET_ANGLE = -1e+32
SPACECRAFT_SOLAR_DISTANCE = 2.09361e+08
TARGET_NAME = MARS
/* CAMERA DATA ELEMENTS */
DETECTOR_TEMPERATURE = 18.5744
FOCAL_PLANE_TEMPERATURE = 8.9911
INST_CMPRS_NAME = "DISCRETE COSINE TRANSFORMATION (DCT)"
INST_CMPRS_RATIO = 15.2397
INST_CMPRS_QUALITY = 0
INST_CMPRS_QUANTZ_TBL_ID = 0
INSTRUMENT_TEMPERATURE = 11.234
LENS_TEMPERATURE = 9.195
MACROPIXEL_SIZE = 4
MISSING_FRAMES = 0
PIXEL_SUBSAMPLING_FLAG = N
SIGNAL_CHAIN_ID = 2
/* RADIOMETRIC DATA ELEMENTS */
BANDWIDTH = 48.0
CENTER_FILTER_WAVELENGTH = 748.0
RADIANCE_OFFSET = 0.568669
RADIANCE_SCALING_FACTOR = 0.00932914
REFLECTANCE_SCALING_FACTOR = 0.000933172
MEX:REFLECTANCE_OFFSET = 0.0568826
/* IMAGE OBJECT DEFINITIONS */
OBJECT = IMAGE
  INTERCHANGE_FORMAT = BINARY
  LINES = 9092
  LINE_SAMPLES = 3565
  SAMPLE_TYPE = UNSIGNED_INTEGER
  SAMPLE_BITS = 8
  BANDS = 1
  BAND_STORAGE_TYPE = BAND_SEQUENTIAL
  MAXIMUM = 255
  MEAN = 67.0598
  MINIMUM = 1
  STANDARD_DEVIATION = 62.8012
END_OBJECT = IMAGE
/* MAP OBJECT DEFINITIONS */
OBJECT = IMAGE_MAP_PROJECTION
  ^DATA_SET_MAP_PROJECTION_CATALOG= "DSMAP.CAT"
  A_AXIS_RADIUS = 3396.0
  B_AXIS_RADIUS = 3396.0
  C_AXIS_RADIUS = 3396.0
  CENTER_LATITUDE = 0.0
  CENTER_LONGITUDE = 285.0
  COORDINATE_SYSTEM_NAME = PLANETOGRAPHIC
  COORDINATE_SYSTEM_TYPE = "BODY-FIXED ROTATING"
  EASTERNMOST_LONGITUDE = 313.426
  FIRST_STANDARD_PARALLEL = "N/A"
  LINE_FIRST_PIXEL = 1
  LINE_LAST_PIXEL = 9092
  LINE_PROJECTION_OFFSET = -40823.875
  MAP_PROJECTION_ROTATION = 0.0
  MAP_PROJECTION_TYPE = SINUSOIDAL
  MAP_RESOLUTION = 592.713803866667
  MAP_SCALE = 0.1
  MAXIMUM_LATITUDE = -68.90560000000001
  MINIMUM_LATITUDE = -84.35380000000001
  POSITIVE_LONGITUDE_DIRECTION = EAST
  REFERENCE_LATITUDE = "N/A"
  REFERENCE_LONGITUDE = "N/A"
  SAMPLE_FIRST_PIXEL = 1
  SAMPLE_LAST_PIXEL = 3565
  SAMPLE_PROJECTION_OFFSET = 1513.625
  SECOND_STANDARD_PARALLEL = "N/A"
  WESTERNMOST_LONGITUDE = 277.507
END_OBJECT = IMAGE_MAP_PROJECTION
END
