PDS_VERSION_ID = PDS3
/* FILE DATA ELEMENTS */
RECORD_TYPE = UNDEFINED
/* POINTERS TO DATA OBJECTS */
^IMAGE = ("H6980_0000_IR4.TIF")
/* IDENTIFICATION DATA ELEMENTS */
DATA_SET_ID = "MEX-M-HRSC-4-REFDR-MAPPROJECT-EXT3-V4.0"
DATA_SET_NAME = "MARS EXPRESS HRSC MAP PROJECTED REFDR EXTENSION3 V4.0"
DETECTOR_ID = MEX_HRSC_IR
EVENT_TYPE = "MARS-REGIONAL-MAPPING-Gl-Pf-La"
INSTRUMENT_HOST_ID = MEX
INSTRUMENT_HOST_NAME = "MARS EXPRESS"
INSTRUMENT_ID = HRSC
INSTRUMENT_NAME = "HIGH RESOLUTION STEREO CAMERA"
MISSION_NAME = "MARS EXPRESS"
MISSION_PHASE_NAME = ME_Phase_17
PROCESSING_LEVEL_ID = 4
PRODUCT_CREATION_TIME = 2023-02-01T06:41:01.000Z
PRODUCT_ID = "H6980_0000_IR4.TIF"
RELEASE_ID = 0001
REVISION_ID = 0000
/* QUALITY DATA ELEMENTS */
DATA_QUALITY_ID = 1
DATA_QUALITY_DESC = "Data calculated based on original SPICE kernels"
/* TIME DATA ELEMENTS */
SPACECRAFT_CLOCK_START_COUNT = "1/0192779090.09061"
SPACECRAFT_CLOCK_STOP_COUNT = "1/0192779573.52185"
START_TIME = 2009-06-11T05:45:01.677Z
STOP_TIME = 2009-06-11T05:49:15.035Z
/* ORBITAL DATA ELEMENTS */
ASCENDING_NODE_LONGITUDE = 84.49
MAXIMUM_RESOLUTION = 0.0936
FOOTPRINT_POINT_LATITUDE = (-68.8006,-68.8479,-68.9061,-68.9513, -68.984,-69.0368,-69.0384,-69.1219, -69.6348,-70.285,-70.6769,-71.2129, -71.4863,-71.7557,-72.0276,-72.2998, -72.5779,-72.851,-73.1325,-73.5439, -73.8271,-74.2555,-74.5441,-74.9775, -75.4165,-75.7104,-76.0081,-76.457, -76.7582,-77.2181,-77.5298,-77.8336, -78.1468,-78.4626,-78.9354,-79.2508, -79.5725,-79.8956,-80.2215,-80.5495, -80.8786,-81.2094,-81.5461,-81.8865, -82.2192,-82.5593,-82.9012,-83.2449, -83.5901,-83.9378,-84.1097,-84.1214, -83.9154,-83.7535,-83.5316,-83.3416, -83.0616,-82.7875,-82.7708,-82.7639, -82.4931,-82.0766,-81.6513,-81.3643, -81.0744,-80.785,-80.3471,-80.0559, -79.6122,-79.166,-78.7265,-78.2881, -77.8477,-77.4151,-76.9766,-76.6859, -76.4021,-76.1147,-75.8285,-75.4016, -75.1245,-74.842,-74.5603,-74.2823, -73.8669,-73.5928,-73.1839,-72.7838, -72.5149,-72.2476,-71.8472,-71.5821, -71.3165,-70.8003,-70.2765,-69.8925, -69.3856,-69.0074,-68.8827,-68.8006)
FOOTPRINT_POINT_LONGITUDE = (283.327,282.502,281.38,280.401,279.616 ,278.135,278.086,278.01,278.103,278.228 ,278.31,278.42,278.477,278.54,278.606, 278.674,278.743,278.82,278.894,279.024, 279.111,279.246,279.342,279.496,279.661 ,279.778,279.901,280.099,280.24,280.463 ,280.62,280.796,280.978,281.169,281.486 ,281.718,281.963,282.227,282.509, 282.815,283.147,283.507,283.896,284.32, 284.796,285.312,285.885,286.523,287.237 ,288.038,288.477,288.508,294.067, 297.487,301.348,304.177,307.775,310.727 ,310.895,310.942,309.148,306.703, 304.531,303.219,301.997,300.877,299.333 ,298.4,297.081,295.875,294.81,293.84, 292.937,292.131,291.361,290.883,290.448 ,290.02,289.614,289.04,288.696,288.352, 288.019,287.709,287.264,286.987,286.593 ,286.233,285.997,285.77,285.442,285.235 ,285.03,284.665,284.301,284.052,283.742 ,283.521,283.45,283.327)
ORBIT_NUMBER = 6980
ORBITAL_ECCENTRICITY = 0.576
ORBITAL_INCLINATION = 86.78
ORBITAL_SEMIMAJOR_AXIS = 8748.11
PERIAPSIS_ALTITUDE = 315.91
PERIAPSIS_ARGUMENT_ANGLE = 213.51
PERIAPSIS_TIME = 2009-06-11T05:36:19.000Z
SPACECRAFT_ORIENTATION = (0.0,-1.0,0.0)
^MEX_ORIENTATION_DESC = "MEX_ORIENTATION_DESC.TXT"
SPACECRAFT_POINTING_MODE = NADIR
^MEX_POINTING_DESC = "MEX_POINTING_DESC.TXT"
RIGHT_ASCENSION = -1e+32
DECLINATION = -1e+32
OFFSET_ANGLE = -1e+32
SPACECRAFT_SOLAR_DISTANCE = 2.09361e+08
TARGET_NAME = MARS
/* CAMERA DATA ELEMENTS */
DETECTOR_TEMPERATURE = 17.5549
FOCAL_PLANE_TEMPERATURE = 8.9911
INST_CMPRS_NAME = "DISCRETE COSINE TRANSFORMATION (DCT)"
INST_CMPRS_RATIO = 12.0525
INST_CMPRS_QUALITY = 0
INST_CMPRS_QUANTZ_TBL_ID = 0
INSTRUMENT_TEMPERATURE = 11.234
LENS_TEMPERATURE = 9.195
MACROPIXEL_SIZE = 4
MISSING_FRAMES = 0
PIXEL_SUBSAMPLING_FLAG = N
SIGNAL_CHAIN_ID = 2
/* RADIOMETRIC DATA ELEMENTS */
BANDWIDTH = 81.0
CENTER_FILTER_WAVELENGTH = 955.5
RADIANCE_OFFSET = 0.50621
RADIANCE_SCALING_FACTOR = 0.00787209
REFLECTANCE_SCALING_FACTOR = 0.00074441
MEX:REFLECTANCE_OFFSET = 0.0478688
/* IMAGE OBJECT DEFINITIONS */
OBJECT = IMAGE
  INTERCHANGE_FORMAT = BINARY
  LINES = 9092
  LINE_SAMPLES = 3565
  SAMPLE_TYPE = UNSIGNED_INTEGER
  SAMPLE_BITS = 8
  BANDS = 1
  BAND_STORAGE_TYPE = BAND_SEQUENTIAL
  MAXIMUM = 255
  MEAN = 73.323
  MINIMUM = 1
  STANDARD_DEVIATION = 63.2903
END_OBJECT = IMAGE
/* MAP OBJECT DEFINITIONS */
OBJECT = IMAGE_MAP_PROJECTION
  ^DATA_SET_MAP_PROJECTION_CATALOG= "DSMAP.CAT"
  A_AXIS_RADIUS = 3396.0
  B_AXIS_RADIUS = 3396.0
  C_AXIS_RADIUS = 3396.0
  CENTER_LATITUDE = 0.0
  CENTER_LONGITUDE = 285.0
  COORDINATE_SYSTEM_NAME = PLANETOGRAPHIC
  COORDINATE_SYSTEM_TYPE = "BODY-FIXED ROTATING"
  EASTERNMOST_LONGITUDE = 310.942
  FIRST_STANDARD_PARALLEL = "N/A"
  LINE_FIRST_PIXEL = 1
  LINE_LAST_PIXEL = 9092
  LINE_PROJECTION_OFFSET = -40823.875
  MAP_PROJECTION_ROTATION = 0.0
  MAP_PROJECTION_TYPE = SINUSOIDAL
  MAP_RESOLUTION = 592.713803866667
  MAP_SCALE = 0.1
  MAXIMUM_LATITUDE = -68.8006
  MINIMUM_LATITUDE = -84.12139999999999
  POSITIVE_LONGITUDE_DIRECTION = EAST
  REFERENCE_LATITUDE = "N/A"
  REFERENCE_LONGITUDE = "N/A"
  SAMPLE_FIRST_PIXEL = 1
  SAMPLE_LAST_PIXEL = 3565
  SAMPLE_PROJECTION_OFFSET = 1513.625
  SECOND_STANDARD_PARALLEL = "N/A"
  WESTERNMOST_LONGITUDE = 278.01
END_OBJECT = IMAGE_MAP_PROJECTION
END
