PDS_VERSION_ID = PDS3
/* FILE DATA ELEMENTS */
RECORD_TYPE = UNDEFINED
/* POINTERS TO DATA OBJECTS */
^IMAGE = ("H6973_0000_S24.TIF")
/* IDENTIFICATION DATA ELEMENTS */
DATA_SET_ID = "MEX-M-HRSC-4-REFDR-MAPPROJECT-EXT3-V4.0"
DATA_SET_NAME = "MARS EXPRESS HRSC MAP PROJECTED REFDR EXTENSION3 V4.0"
DETECTOR_ID = MEX_HRSC_S2
EVENT_TYPE = "MARS-REGIONAL-MAPPING-Gl-Pf-La"
INSTRUMENT_HOST_ID = MEX
INSTRUMENT_HOST_NAME = "MARS EXPRESS"
INSTRUMENT_ID = HRSC
INSTRUMENT_NAME = "HIGH RESOLUTION STEREO CAMERA"
MISSION_NAME = "MARS EXPRESS"
MISSION_PHASE_NAME = ME_Phase_17
PROCESSING_LEVEL_ID = 4
PRODUCT_CREATION_TIME = 2023-02-01T06:41:01.000Z
PRODUCT_ID = "H6973_0000_S24.TIF"
RELEASE_ID = 0001
REVISION_ID = 0000
/* QUALITY DATA ELEMENTS */
DATA_QUALITY_ID = 1
DATA_QUALITY_DESC = "Data calculated based on original SPICE kernels"
/* TIME DATA ELEMENTS */
SPACECRAFT_CLOCK_START_COUNT = "1/0192605357.07297"
SPACECRAFT_CLOCK_STOP_COUNT = "1/0192605794.58597"
START_TIME = 2009-06-09T05:31:32.036Z
STOP_TIME = 2009-06-09T05:36:35.454Z
/* ORBITAL DATA ELEMENTS */
ASCENDING_NODE_LONGITUDE = 84.63
MAXIMUM_RESOLUTION = 0.0592
FOOTPRINT_POINT_LATITUDE = (-71.1336,-71.2195,-71.2923,-71.3648, -71.4207,-71.4687,-71.5154,-71.5175, -71.4168,-71.8759,-72.2239,-72.6919, -73.0452,-73.4013,-73.7604,-74.1223, -74.4872,-74.8549,-75.3483,-75.8469, -76.3511,-76.6052,-76.8609,-77.1171, -77.5055,-77.896,-78.1565,-78.4238, -78.6852,-78.9529,-79.3511,-79.7599, -80.1706,-80.4445,-80.719,-80.9975, -81.2743,-81.555,-81.8361,-82.2607, -82.5454,-82.8312,-83.1184,-83.4073, -83.6973,-83.9885,-84.2803,-84.4264, -84.4744,-84.4012,-84.2727,-84.1661, -84.0463,-83.8637,-83.4963,-83.215, -83.0018,-82.8344,-82.6317,-82.6074, -82.5978,-82.2869,-82.0757,-81.8576, -81.6329,-81.4079,-81.1844,-80.9521, -80.7224,-80.3778,-80.0287,-79.7929, -79.5565,-79.3162,-79.0739,-78.8375, -78.5989,-78.3601,-78.1246,-77.889, -77.6499,-77.2917,-77.0515,-76.8157, -76.5768,-76.3391,-75.8642,-75.3932, -74.9225,-74.4563,-73.9936,-73.4187, -72.9629,-72.6222,-72.1716,-71.836, -71.502,-71.1701,-71.06,-71.1336)
FOOTPRINT_POINT_LONGITUDE = (271.209,270.019,268.89,267.61,266.465, 265.312,263.933,263.86,263.706,263.777, 263.834,263.915,263.978,264.044,264.114 ,264.188,264.267,264.35,264.466,264.592 ,264.729,264.802,264.878,264.957, 265.085,265.22,265.312,265.421,265.519, 265.634,265.802,266.005,266.222,266.374 ,266.533,266.71,266.889,267.089,267.301 ,267.649,267.904,268.18,268.48,268.807, 269.165,269.56,269.993,270.224,270.302, 273.202,277.039,279.725,282.3,285.667, 290.965,294.239,296.318,297.872,299.538 ,299.747,299.815,297.487,296.055, 294.698,293.411,292.206,291.081,290.005 ,288.998,287.596,286.301,285.493, 284.726,283.996,283.301,282.646,282.022 ,281.427,280.862,280.323,279.806, 279.074,278.612,278.172,277.749,277.344 ,276.583,275.881,275.233,274.633, 274.076,273.434,272.959,272.624,272.202 ,271.904,271.619,271.347,271.259, 271.209)
ORBIT_NUMBER = 6973
ORBITAL_ECCENTRICITY = 0.576
ORBITAL_INCLINATION = 86.78
ORBITAL_SEMIMAJOR_AXIS = 8747.78
PERIAPSIS_ALTITUDE = 315.57
PERIAPSIS_ARGUMENT_ANGLE = 214.73
PERIAPSIS_TIME = 2009-06-09T05:20:30.000Z
SPACECRAFT_ORIENTATION = (0.0,-1.0,0.0)
^MEX_ORIENTATION_DESC = "MEX_ORIENTATION_DESC.TXT"
SPACECRAFT_POINTING_MODE = NADIR
^MEX_POINTING_DESC = "MEX_POINTING_DESC.TXT"
RIGHT_ASCENSION = -1e+32
DECLINATION = -1e+32
OFFSET_ANGLE = -1e+32
SPACECRAFT_SOLAR_DISTANCE = 2.09156e+08
TARGET_NAME = MARS
/* CAMERA DATA ELEMENTS */
DETECTOR_TEMPERATURE = 18.9822
FOCAL_PLANE_TEMPERATURE = 8.9911
INST_CMPRS_NAME = "DISCRETE COSINE TRANSFORMATION (DCT)"
INST_CMPRS_RATIO = 10.9865
INST_CMPRS_QUALITY = 0
INST_CMPRS_QUANTZ_TBL_ID = 0
INSTRUMENT_TEMPERATURE = 11.4379
LENS_TEMPERATURE = 9.3989
MACROPIXEL_SIZE = 2
MISSING_FRAMES = 0
PIXEL_SUBSAMPLING_FLAG = N
SIGNAL_CHAIN_ID = 1
/* RADIOMETRIC DATA ELEMENTS */
BANDWIDTH = 178.0
CENTER_FILTER_WAVELENGTH = 679.0
RADIANCE_OFFSET = 2.42903
RADIANCE_SCALING_FACTOR = 0.0324385
REFLECTANCE_SCALING_FACTOR = 0.000751509
MEX:REFLECTANCE_OFFSET = 0.0562737
/* IMAGE OBJECT DEFINITIONS */
OBJECT = IMAGE
  INTERCHANGE_FORMAT = BINARY
  LINES = 15742
  LINE_SAMPLES = 6869
  SAMPLE_TYPE = UNSIGNED_INTEGER
  SAMPLE_BITS = 8
  BANDS = 1
  BAND_STORAGE_TYPE = BAND_SEQUENTIAL
  MAXIMUM = 255
  MEAN = 83.729
  MINIMUM = 1
  STANDARD_DEVIATION = 75.5061
END_OBJECT = IMAGE
/* MAP OBJECT DEFINITIONS */
OBJECT = IMAGE_MAP_PROJECTION
  ^DATA_SET_MAP_PROJECTION_CATALOG= "DSMAP.CAT"
  A_AXIS_RADIUS = 3396.0
  B_AXIS_RADIUS = 3396.0
  C_AXIS_RADIUS = 3396.0
  CENTER_LATITUDE = 0.0
  CENTER_LONGITUDE = 272.0
  COORDINATE_SYSTEM_NAME = PLANETOGRAPHIC
  COORDINATE_SYSTEM_TYPE = "BODY-FIXED ROTATING"
  EASTERNMOST_LONGITUDE = 299.815
  FIRST_STANDARD_PARALLEL = "N/A"
  LINE_FIRST_PIXEL = 1
  LINE_LAST_PIXEL = 15742
  LINE_PROJECTION_OFFSET = -84202.25
  MAP_PROJECTION_ROTATION = 0.0
  MAP_PROJECTION_TYPE = SINUSOIDAL
  MAP_RESOLUTION = 1185.42760773333
  MAP_SCALE = 0.05
  MAXIMUM_LATITUDE = -71.06
  MINIMUM_LATITUDE = -84.4744
  POSITIVE_LONGITUDE_DIRECTION = EAST
  REFERENCE_LATITUDE = "N/A"
  REFERENCE_LONGITUDE = "N/A"
  SAMPLE_FIRST_PIXEL = 1
  SAMPLE_LAST_PIXEL = 6869
  SAMPLE_PROJECTION_OFFSET = 2950.25
  SECOND_STANDARD_PARALLEL = "N/A"
  WESTERNMOST_LONGITUDE = 263.706
END_OBJECT = IMAGE_MAP_PROJECTION
END
