PDS_VERSION_ID = PDS3
/* FILE DATA ELEMENTS */
RECORD_TYPE = UNDEFINED
/* POINTERS TO DATA OBJECTS */
^IMAGE = ("H6973_0000_GR4.TIF")
/* IDENTIFICATION DATA ELEMENTS */
DATA_SET_ID = "MEX-M-HRSC-4-REFDR-MAPPROJECT-EXT3-V4.0"
DATA_SET_NAME = "MARS EXPRESS HRSC MAP PROJECTED REFDR EXTENSION3 V4.0"
DETECTOR_ID = MEX_HRSC_GREEN
EVENT_TYPE = "MARS-REGIONAL-MAPPING-Gl-Pf-La"
INSTRUMENT_HOST_ID = MEX
INSTRUMENT_HOST_NAME = "MARS EXPRESS"
INSTRUMENT_ID = HRSC
INSTRUMENT_NAME = "HIGH RESOLUTION STEREO CAMERA"
MISSION_NAME = "MARS EXPRESS"
MISSION_PHASE_NAME = ME_Phase_17
PROCESSING_LEVEL_ID = 4
PRODUCT_CREATION_TIME = 2023-02-01T06:41:01.000Z
PRODUCT_ID = "H6973_0000_GR4.TIF"
RELEASE_ID = 0001
REVISION_ID = 0000
/* QUALITY DATA ELEMENTS */
DATA_QUALITY_ID = 1
DATA_QUALITY_DESC = "Data calculated based on original SPICE kernels"
/* TIME DATA ELEMENTS */
SPACECRAFT_CLOCK_START_COUNT = "1/0192605357.07297"
SPACECRAFT_CLOCK_STOP_COUNT = "1/0192605794.58597"
START_TIME = 2009-06-09T05:30:07.291Z
STOP_TIME = 2009-06-09T05:34:06.876Z
/* ORBITAL DATA ELEMENTS */
ASCENDING_NODE_LONGITUDE = 84.63
MAXIMUM_RESOLUTION = 0.0971
FOOTPRINT_POINT_LATITUDE = (-71.0308,-71.09,-71.1347,-71.1916, -71.2345,-71.283,-71.3369,-71.3388, -71.358,-71.6971,-72.1506,-72.7248, -73.1883,-73.7758,-74.2514,-74.7321, -75.2182,-75.4627,-75.7221,-75.969, -76.2186,-76.4682,-76.7204,-77.1003, -77.4835,-77.7402,-77.9995,-78.3893, -78.6512,-78.9171,-79.1813,-79.4473, -79.7154,-80.1207,-80.392,-80.6657, -80.9402,-81.2156,-81.4941,-81.7733, -82.0537,-82.3354,-82.619,-82.9038, -83.1899,-83.4769,-83.7654,-84.0549, -84.2003,-84.3012,-84.2228,-84.0684, -83.8642,-83.6601,-83.5278,-83.3403, -83.1419,-82.8424,-82.8241,-82.8166, -82.5963,-82.3721,-82.1444,-81.9141, -81.681,-81.4454,-81.2079,-80.9693, -80.7297,-80.4888,-80.2466,-80.0047, -79.6403,-79.2756,-78.9106,-78.6677, -78.424,-78.1819,-77.9394,-77.6975, -77.4565,-77.2152,-76.9757,-76.736, -76.4974,-76.1406,-75.7855,-75.5492, -75.3148,-74.7188,-74.2554,-73.7956, -73.3396,-72.8873,-72.3275,-71.8837, -71.5526,-71.2248,-71.1153,-71.0308)
FOOTPRINT_POINT_LONGITUDE = (270.7,269.771,269.014,267.959,267.076, 265.953,264.465,264.405,264.305,264.379 ,264.487,264.629,264.756,264.925, 265.072,265.231,265.403,265.494,265.593 ,265.693,265.797,265.904,266.018, 266.199,266.391,266.531,266.672,266.907 ,267.072,267.233,267.419,267.62,267.827 ,268.157,268.396,268.652,268.928, 269.225,269.533,269.872,270.237,270.63, 271.059,271.525,272.034,272.59,273.2, 273.88,274.246,274.511,276.886,280.736, 284.833,288.212,290.137,292.581,294.893 ,297.952,298.124,298.171,296.592, 295.116,293.728,292.441,291.228,290.104 ,289.037,288.041,287.088,286.194, 285.352,284.562,283.455,282.441,281.496 ,280.92,280.342,279.804,279.297,278.814 ,278.353,277.91,277.492,277.089,276.704 ,276.157,275.642,275.316,275.005, 274.259,273.723,273.224,272.76,272.327, 271.826,271.454,271.189,270.937,270.855 ,270.7)
ORBIT_NUMBER = 6973
ORBITAL_ECCENTRICITY = 0.576
ORBITAL_INCLINATION = 86.78
ORBITAL_SEMIMAJOR_AXIS = 8747.78
PERIAPSIS_ALTITUDE = 315.57
PERIAPSIS_ARGUMENT_ANGLE = 214.73
PERIAPSIS_TIME = 2009-06-09T05:20:30.000Z
SPACECRAFT_ORIENTATION = (0.0,-1.0,0.0)
^MEX_ORIENTATION_DESC = "MEX_ORIENTATION_DESC.TXT"
SPACECRAFT_POINTING_MODE = NADIR
^MEX_POINTING_DESC = "MEX_POINTING_DESC.TXT"
RIGHT_ASCENSION = -1e+32
DECLINATION = -1e+32
OFFSET_ANGLE = -1e+32
SPACECRAFT_SOLAR_DISTANCE = 2.09156e+08
TARGET_NAME = MARS
/* CAMERA DATA ELEMENTS */
DETECTOR_TEMPERATURE = 18.5744
FOCAL_PLANE_TEMPERATURE = 8.9911
INST_CMPRS_NAME = "DISCRETE COSINE TRANSFORMATION (DCT)"
INST_CMPRS_RATIO = 11.0743
INST_CMPRS_QUALITY = 0
INST_CMPRS_QUANTZ_TBL_ID = 0
INSTRUMENT_TEMPERATURE = 11.4379
LENS_TEMPERATURE = 9.3989
MACROPIXEL_SIZE = 4
MISSING_FRAMES = 1
PIXEL_SUBSAMPLING_FLAG = N
SIGNAL_CHAIN_ID = 2
/* RADIOMETRIC DATA ELEMENTS */
BANDWIDTH = 88.0
CENTER_FILTER_WAVELENGTH = 538.0
RADIANCE_OFFSET = 0.917373
RADIANCE_SCALING_FACTOR = 0.0180659
REFLECTANCE_SCALING_FACTOR = 0.000680445
MEX:REFLECTANCE_OFFSET = 0.0345525
/* IMAGE OBJECT DEFINITIONS */
OBJECT = IMAGE
  INTERCHANGE_FORMAT = BINARY
  LINES = 7871
  LINE_SAMPLES = 3435
  SAMPLE_TYPE = UNSIGNED_INTEGER
  SAMPLE_BITS = 8
  BANDS = 1
  BAND_STORAGE_TYPE = BAND_SEQUENTIAL
  MAXIMUM = 255
  MEAN = 62.7471
  MINIMUM = 1
  STANDARD_DEVIATION = 74.9451
END_OBJECT = IMAGE
/* MAP OBJECT DEFINITIONS */
OBJECT = IMAGE_MAP_PROJECTION
  ^DATA_SET_MAP_PROJECTION_CATALOG= "DSMAP.CAT"
  A_AXIS_RADIUS = 3396.0
  B_AXIS_RADIUS = 3396.0
  C_AXIS_RADIUS = 3396.0
  CENTER_LATITUDE = 0.0
  CENTER_LONGITUDE = 272.0
  COORDINATE_SYSTEM_NAME = PLANETOGRAPHIC
  COORDINATE_SYSTEM_TYPE = "BODY-FIXED ROTATING"
  EASTERNMOST_LONGITUDE = 298.171
  FIRST_STANDARD_PARALLEL = "N/A"
  LINE_FIRST_PIXEL = 1
  LINE_LAST_PIXEL = 7871
  LINE_PROJECTION_OFFSET = -42101.375
  MAP_PROJECTION_ROTATION = 0.0
  MAP_PROJECTION_TYPE = SINUSOIDAL
  MAP_RESOLUTION = 592.713803866667
  MAP_SCALE = 0.1
  MAXIMUM_LATITUDE = -71.0308
  MINIMUM_LATITUDE = -84.30119999999999
  POSITIVE_LONGITUDE_DIRECTION = EAST
  REFERENCE_LATITUDE = "N/A"
  REFERENCE_LONGITUDE = "N/A"
  SAMPLE_FIRST_PIXEL = 1
  SAMPLE_LAST_PIXEL = 3435
  SAMPLE_PROJECTION_OFFSET = 1474.875
  SECOND_STANDARD_PARALLEL = "N/A"
  WESTERNMOST_LONGITUDE = 264.305
END_OBJECT = IMAGE_MAP_PROJECTION
END
