PDS_VERSION_ID = PDS3
/* FILE DATA ELEMENTS */
RECORD_TYPE = UNDEFINED
/* POINTERS TO DATA OBJECTS */
^IMAGE = ("H6959_0000_P14.TIF")
/* IDENTIFICATION DATA ELEMENTS */
DATA_SET_ID = "MEX-M-HRSC-4-REFDR-MAPPROJECT-EXT3-V4.0"
DATA_SET_NAME = "MARS EXPRESS HRSC MAP PROJECTED REFDR EXTENSION3 V4.0"
DETECTOR_ID = MEX_HRSC_P1
EVENT_TYPE = "MARS-REGIONAL-VARIABLE-Gl-La"
INSTRUMENT_HOST_ID = MEX
INSTRUMENT_HOST_NAME = "MARS EXPRESS"
INSTRUMENT_ID = HRSC
INSTRUMENT_NAME = "HIGH RESOLUTION STEREO CAMERA"
MISSION_NAME = "MARS EXPRESS"
MISSION_PHASE_NAME = ME_Phase_17
PROCESSING_LEVEL_ID = 4
PRODUCT_CREATION_TIME = 2023-02-01T06:41:01.000Z
PRODUCT_ID = "H6959_0000_P14.TIF"
RELEASE_ID = 0001
REVISION_ID = 0000
/* QUALITY DATA ELEMENTS */
DATA_QUALITY_ID = 1
DATA_QUALITY_DESC = "Data calculated based on original SPICE kernels"
/* TIME DATA ELEMENTS */
SPACECRAFT_CLOCK_START_COUNT = "1/0192257984.08250"
SPACECRAFT_CLOCK_STOP_COUNT = "1/0192258626.32571"
START_TIME = 2009-06-05T05:00:11.755Z
STOP_TIME = 2009-06-05T05:05:01.025Z
/* ORBITAL DATA ELEMENTS */
ASCENDING_NODE_LONGITUDE = 84.9
MAXIMUM_RESOLUTION = 0.0598
FOOTPRINT_POINT_LATITUDE = (-82.1708,-82.2979,-82.4095,-82.5043, -82.5811,-82.6383,-82.6827,-82.6837, -82.7538,-83.3465,-83.949,-84.4022, -84.7094,-85.0179,-85.3275,-85.6395, -85.9545,-86.2719,-86.5893,-87.0717, -87.3929,-87.8794,-88.2027,-88.5212, -88.8348,-89.2844,-89.5456,-89.6687, -89.5302,-89.2675,-88.9729,-88.6675, -88.3573,-87.8889,-87.4198,-87.1069, -86.7946,-86.4826,-86.0156,-85.55, -85.241,-84.9295,-84.6233,-84.1616, -83.8536,-83.3977,-82.7895,-82.1832, -81.7324,-81.5827,-81.4971,-81.5293, -81.559,-81.5465,-81.4876,-81.4011, -81.2502,-81.0898,-81.0778,-81.0744, -81.6399,-82.063,-82.6251,-83.181, -83.7324,-84.4126,-84.8088,-85.067, -85.3192,-85.5652,-85.8026,-86.0266, -86.2456,-86.4463,-86.6298,-86.7929, -86.9317,-87.0439,-87.1531,-87.1828, -87.1762,-87.1336,-87.0561,-86.8791, -86.7264,-86.5488,-86.35,-86.0215, -85.6652,-85.2928,-85.0348,-84.7705, -84.5038,-84.2354,-83.5557,-83.0065, -82.458,-82.3202,-82.1708)
FOOTPRINT_POINT_LONGITUDE = (248.076,245.387,242.581,239.659, 236.632,233.507,229.065,228.86,228.13, 227.881,227.555,227.317,227.107,226.874 ,226.613,226.318,225.96,225.524,225.044 ,224.07,223.278,221.558,219.839,217.484 ,213.885,203.083,183.897,138.708, 95.4951,77.4948,69.3759,64.936,62.1788, 59.5731,57.9146,57.1136,56.464,55.9329, 55.2926,54.7861,54.4981,54.2735,54.0349 ,53.7543,53.5983,53.3579,53.1032, 52.8933,52.7445,52.6972,52.6703,50.5898 ,46.1567,42.5432,38.5091,35.0728, 30.8029,27.4038,27.1832,27.1022,25.8682 ,24.8163,23.2091,21.3262,19.0785, 15.5812,13.0377,11.1076,8.96097,6.55374 ,3.86419,0.912249,357.459,353.669, 349.436,344.733,339.58,333.924,324.761, 318.329,311.832,305.449,299.305,290.785 ,285.691,281.065,276.906,271.516,267.02 ,263.283,261.122,259.185,257.454, 255.901,252.632,250.515,248.739,248.34, 248.076)
ORBIT_NUMBER = 6959
ORBITAL_ECCENTRICITY = 0.576
ORBITAL_INCLINATION = 86.76
ORBITAL_SEMIMAJOR_AXIS = 8742.25
PERIAPSIS_ALTITUDE = 315.37
PERIAPSIS_ARGUMENT_ANGLE = 217.13
PERIAPSIS_TIME = 2009-06-05T04:48:35.000Z
SPACECRAFT_ORIENTATION = (0.0,-1.0,0.0)
^MEX_ORIENTATION_DESC = "MEX_ORIENTATION_DESC.TXT"
SPACECRAFT_POINTING_MODE = ACROSSTRACK
^MEX_POINTING_DESC = "MEX_POINTING_DESC.TXT"
RIGHT_ASCENSION = -1e+32
DECLINATION = -1e+32
OFFSET_ANGLE = -1.9
SPACECRAFT_SOLAR_DISTANCE = 2.08769e+08
TARGET_NAME = MARS
/* CAMERA DATA ELEMENTS */
DETECTOR_TEMPERATURE = 17.5549
FOCAL_PLANE_TEMPERATURE = 9.195
INST_CMPRS_NAME = "DISCRETE COSINE TRANSFORMATION (DCT)"
INST_CMPRS_RATIO = 14.8737
INST_CMPRS_QUALITY = 0
INST_CMPRS_QUANTZ_TBL_ID = 0
INSTRUMENT_TEMPERATURE = 11.234
LENS_TEMPERATURE = 10.4184
MACROPIXEL_SIZE = 2
MISSING_FRAMES = 0
PIXEL_SUBSAMPLING_FLAG = N
SIGNAL_CHAIN_ID = 3
/* RADIOMETRIC DATA ELEMENTS */
BANDWIDTH = 174.0
CENTER_FILTER_WAVELENGTH = 675.0
RADIANCE_OFFSET = 3.87667
RADIANCE_SCALING_FACTOR = 0.0298985
REFLECTANCE_SCALING_FACTOR = 0.00070092
MEX:REFLECTANCE_OFFSET = 0.090882
/* IMAGE OBJECT DEFINITIONS */
OBJECT = IMAGE
  INTERCHANGE_FORMAT = BINARY
  LINES = 15537
  LINE_SAMPLES = 16719
  SAMPLE_TYPE = UNSIGNED_INTEGER
  SAMPLE_BITS = 8
  BANDS = 1
  BAND_STORAGE_TYPE = BAND_SEQUENTIAL
  MAXIMUM = 255
  MEAN = 192.603
  MINIMUM = 1
  STANDARD_DEVIATION = 93.7062
END_OBJECT = IMAGE
/* MAP OBJECT DEFINITIONS */
OBJECT = IMAGE_MAP_PROJECTION
  ^DATA_SET_MAP_PROJECTION_CATALOG= "DSMAP.CAT"
  A_AXIS_RADIUS = 3396.0
  B_AXIS_RADIUS = 3396.0
  C_AXIS_RADIUS = 3396.0
  CENTER_LATITUDE = -90.0
  CENTER_LONGITUDE = 0.0
  COORDINATE_SYSTEM_NAME = PLANETOGRAPHIC
  COORDINATE_SYSTEM_TYPE = "BODY-FIXED ROTATING"
  EASTERNMOST_LONGITUDE = 360.0
  FIRST_STANDARD_PARALLEL = "N/A"
  LINE_FIRST_PIXEL = 1
  LINE_LAST_PIXEL = 15537
  LINE_PROJECTION_OFFSET = 9702.25
  MAP_PROJECTION_ROTATION = 0.0
  MAP_PROJECTION_TYPE = STEREOGRAPHIC
  MAP_RESOLUTION = 1185.42760773333
  MAP_SCALE = 0.05
  MAXIMUM_LATITUDE = -81.0744
  MINIMUM_LATITUDE = -90.0
  POSITIVE_LONGITUDE_DIRECTION = EAST
  REFERENCE_LATITUDE = "N/A"
  REFERENCE_LONGITUDE = "N/A"
  SAMPLE_FIRST_PIXEL = 1
  SAMPLE_LAST_PIXEL = 16719
  SAMPLE_PROJECTION_OFFSET = 8577.25
  SECOND_STANDARD_PARALLEL = "N/A"
  WESTERNMOST_LONGITUDE = 0.0
END_OBJECT = IMAGE_MAP_PROJECTION
END
