PDS_VERSION_ID = PDS3
/* FILE DATA ELEMENTS */
RECORD_TYPE = UNDEFINED
/* POINTERS TO DATA OBJECTS */
^IMAGE = ("H6957_0000_S14.TIF")
/* IDENTIFICATION DATA ELEMENTS */
DATA_SET_ID = "MEX-M-HRSC-4-REFDR-MAPPROJECT-EXT3-V4.0"
DATA_SET_NAME = "MARS EXPRESS HRSC MAP PROJECTED REFDR EXTENSION3 V4.0"
DETECTOR_ID = MEX_HRSC_S1
EVENT_TYPE = "MARS-REGIONAL-MAPPING-Gl-La"
INSTRUMENT_HOST_ID = MEX
INSTRUMENT_HOST_NAME = "MARS EXPRESS"
INSTRUMENT_ID = HRSC
INSTRUMENT_NAME = "HIGH RESOLUTION STEREO CAMERA"
MISSION_NAME = "MARS EXPRESS"
MISSION_PHASE_NAME = ME_Phase_17
PROCESSING_LEVEL_ID = 4
PRODUCT_CREATION_TIME = 2023-02-01T06:41:01.000Z
PRODUCT_ID = "H6957_0000_S14.TIF"
RELEASE_ID = 0001
REVISION_ID = 0000
/* QUALITY DATA ELEMENTS */
DATA_QUALITY_ID = 1
DATA_QUALITY_DESC = "Data calculated based on original SPICE kernels"
/* TIME DATA ELEMENTS */
SPACECRAFT_CLOCK_START_COUNT = "1/0192208214.09057"
SPACECRAFT_CLOCK_STOP_COUNT = "1/0192208648.63167"
START_TIME = 2009-06-04T15:10:16.596Z
STOP_TIME = 2009-06-04T15:13:44.381Z
/* ORBITAL DATA ELEMENTS */
ASCENDING_NODE_LONGITUDE = 84.95
MAXIMUM_RESOLUTION = 0.0489
FOOTPRINT_POINT_LATITUDE = (-74.3054,-74.4076,-74.4694,-74.5625, -74.608,-74.6616,-74.6641,-74.7664, -75.4249,-75.863,-76.0966,-76.551, -77.0051,-77.2342,-77.4645,-77.6971, -77.9359,-78.1698,-78.4077,-78.7637, -79.1228,-79.3627,-79.6059,-79.8465, -80.0928,-80.4616,-80.7095,-80.9574, -81.2064,-81.4568,-81.8343,-82.2132, -82.4673,-82.7226,-82.9815,-83.2375, -83.4963,-83.7568,-84.1474,-84.4087, -84.671,-85.0669,-85.3306,-85.5965, -85.9801,-86.3632,-86.6136,-86.8615, -86.9825,-86.9971,-86.6882,-86.4986, -86.3213,-86.0121,-85.5986,-85.2828, -84.8882,-84.8647,-84.8558,-84.7242, -84.5047,-84.2628,-84.002,-83.8192, -83.6309,-83.3394,-83.1379,-82.934, -82.6212,-82.409,-82.1947,-81.977, -81.7587,-81.4289,-81.096,-80.8738, -80.6516,-80.3216,-80.1007,-79.8735, -79.5392,-79.3149,-79.0924,-78.8684, -78.6453,-78.4225,-78.0892,-77.8674, -77.6463,-77.4264,-77.205,-76.8751, -76.5478,-76.0057,-75.5731,-75.1524, -74.8288,-74.5141,-74.4087,-74.3054)
FOOTPRINT_POINT_LONGITUDE = (86.4755,84.827,83.7178,81.8298,80.7718 ,79.3505,79.2792,79.1892,79.4641, 79.6679,79.7691,79.9916,80.2381,80.3688 ,80.5058,80.6461,80.7924,80.9481, 81.1097,81.3695,81.6495,81.8479,82.0577 ,82.2803,82.5131,82.8893,83.16,83.4469, 83.7532,84.0791,84.6116,85.2015,85.6318 ,86.0953,86.5954,87.1397,87.7293, 88.3741,89.4566,90.27,91.1712,92.7171, 93.9032,95.2472,97.5855,100.458,102.746 ,105.432,106.939,107.129,113.863, 117.061,119.667,123.5,127.57,130.131, 132.821,132.969,133.011,130.169,126.194 ,122.576,119.295,117.282,115.407, 112.834,111.236,109.756,107.699,106.433 ,105.244,104.118,103.065,101.603, 100.259,99.4298,98.6499,97.5786,96.9048 ,96.2363,95.3245,94.7493,94.2051, 93.6816,93.1831,92.7074,92.0328,91.6073 ,91.2006,90.8122,90.4351,89.8969, 89.3963,88.6237,88.0497,87.5381,87.1558 ,86.8064,86.6926,86.4755)
ORBIT_NUMBER = 6957
ORBITAL_ECCENTRICITY = 0.576
ORBITAL_INCLINATION = 86.78
ORBITAL_SEMIMAJOR_AXIS = 8740.76
PERIAPSIS_ALTITUDE = 315.02
PERIAPSIS_ARGUMENT_ANGLE = 217.47
PERIAPSIS_TIME = 2009-06-04T15:01:16.000Z
SPACECRAFT_ORIENTATION = (0.0,-1.0,0.0)
^MEX_ORIENTATION_DESC = "MEX_ORIENTATION_DESC.TXT"
SPACECRAFT_POINTING_MODE = NADIR
^MEX_POINTING_DESC = "MEX_POINTING_DESC.TXT"
RIGHT_ASCENSION = -1e+32
DECLINATION = -1e+32
OFFSET_ANGLE = -1e+32
SPACECRAFT_SOLAR_DISTANCE = 2.08716e+08
TARGET_NAME = MARS
/* CAMERA DATA ELEMENTS */
DETECTOR_TEMPERATURE = 17.5549
FOCAL_PLANE_TEMPERATURE = 8.9911
INST_CMPRS_NAME = "DISCRETE COSINE TRANSFORMATION (DCT)"
INST_CMPRS_RATIO = 12.9074
INST_CMPRS_QUALITY = 0
INST_CMPRS_QUANTZ_TBL_ID = 0
INSTRUMENT_TEMPERATURE = 11.234
LENS_TEMPERATURE = 9.195
MACROPIXEL_SIZE = 2
MISSING_FRAMES = 0
PIXEL_SUBSAMPLING_FLAG = N
SIGNAL_CHAIN_ID = 1
/* RADIOMETRIC DATA ELEMENTS */
BANDWIDTH = 180.0
CENTER_FILTER_WAVELENGTH = 677.0
RADIANCE_OFFSET = 3.15288
RADIANCE_SCALING_FACTOR = 0.0127125
REFLECTANCE_SCALING_FACTOR = 0.000288925
MEX:REFLECTANCE_OFFSET = 0.0716575
/* IMAGE OBJECT DEFINITIONS */
OBJECT = IMAGE
  INTERCHANGE_FORMAT = BINARY
  LINES = 15116
  LINE_SAMPLES = 8296
  SAMPLE_TYPE = UNSIGNED_INTEGER
  SAMPLE_BITS = 8
  BANDS = 1
  BAND_STORAGE_TYPE = BAND_SEQUENTIAL
  MAXIMUM = 255
  MEAN = 124.301
  MINIMUM = 1
  STANDARD_DEVIATION = 44.9952
END_OBJECT = IMAGE
/* MAP OBJECT DEFINITIONS */
OBJECT = IMAGE_MAP_PROJECTION
  ^DATA_SET_MAP_PROJECTION_CATALOG= "DSMAP.CAT"
  A_AXIS_RADIUS = 3396.0
  B_AXIS_RADIUS = 3396.0
  C_AXIS_RADIUS = 3396.0
  CENTER_LATITUDE = 0.0
  CENTER_LONGITUDE = 90.0
  COORDINATE_SYSTEM_NAME = PLANETOGRAPHIC
  COORDINATE_SYSTEM_TYPE = "BODY-FIXED ROTATING"
  EASTERNMOST_LONGITUDE = 133.011
  FIRST_STANDARD_PARALLEL = "N/A"
  LINE_FIRST_PIXEL = 1
  LINE_LAST_PIXEL = 15116
  LINE_PROJECTION_OFFSET = -88171.25
  MAP_PROJECTION_ROTATION = 0.0
  MAP_PROJECTION_TYPE = SINUSOIDAL
  MAP_RESOLUTION = 1185.42760773333
  MAP_SCALE = 0.05
  MAXIMUM_LATITUDE = -74.30540000000001
  MINIMUM_LATITUDE = -86.9971
  POSITIVE_LONGITUDE_DIRECTION = EAST
  REFERENCE_LATITUDE = "N/A"
  REFERENCE_LONGITUDE = "N/A"
  SAMPLE_FIRST_PIXEL = 1
  SAMPLE_LAST_PIXEL = 8296
  SAMPLE_PROJECTION_OFFSET = 3446.75
  SECOND_STANDARD_PARALLEL = "N/A"
  WESTERNMOST_LONGITUDE = 79.1892
END_OBJECT = IMAGE_MAP_PROJECTION
END
