PDS_VERSION_ID = PDS3
/* FILE DATA ELEMENTS */
RECORD_TYPE = UNDEFINED
/* POINTERS TO DATA OBJECTS */
^IMAGE = ("H6952_0000_RE4.TIF")
/* IDENTIFICATION DATA ELEMENTS */
DATA_SET_ID = "MEX-M-HRSC-4-REFDR-MAPPROJECT-EXT3-V4.0"
DATA_SET_NAME = "MARS EXPRESS HRSC MAP PROJECTED REFDR EXTENSION3 V4.0"
DETECTOR_ID = MEX_HRSC_RED
EVENT_TYPE = "MARS-REGIONAL-MAPPING-Im-Gl-La"
INSTRUMENT_HOST_ID = MEX
INSTRUMENT_HOST_NAME = "MARS EXPRESS"
INSTRUMENT_ID = HRSC
INSTRUMENT_NAME = "HIGH RESOLUTION STEREO CAMERA"
MISSION_NAME = "MARS EXPRESS"
MISSION_PHASE_NAME = ME_Phase_17
PROCESSING_LEVEL_ID = 4
PRODUCT_CREATION_TIME = 2023-02-01T06:41:01.000Z
PRODUCT_ID = "H6952_0000_RE4.TIF"
RELEASE_ID = 0001
REVISION_ID = 0000
/* QUALITY DATA ELEMENTS */
DATA_QUALITY_ID = 1
DATA_QUALITY_DESC = "Data calculated based on original SPICE kernels"
/* TIME DATA ELEMENTS */
SPACECRAFT_CLOCK_START_COUNT = "1/0192084100.08236"
SPACECRAFT_CLOCK_STOP_COUNT = "1/0192084401.46529"
START_TIME = 2009-06-03T04:43:42.196Z
STOP_TIME = 2009-06-03T04:46:21.201Z
/* ORBITAL DATA ELEMENTS */
ASCENDING_NODE_LONGITUDE = 85.04
MAXIMUM_RESOLUTION = 0.1151
FOOTPRINT_POINT_LATITUDE = (-75.074,-75.1668,-75.2133,-75.2791, -75.3254,-75.3642,-75.4009,-75.4477, -75.4792,-75.5085,-75.5357,-75.5695, -75.5723,-75.4888,-75.8296,-76.103, -76.3794,-76.5865,-76.795,-77.075, -77.4268,-77.8533,-78.1395,-78.4263, -78.7875,-79.0788,-79.2247,-79.3716, -79.5177,-79.7392,-79.887,-80.036, -80.2589,-80.4092,-80.6348,-80.7864, -80.9371,-81.0892,-81.241,-81.3939, -81.5466,-81.7001,-81.8538,-82.0084, -82.2399,-82.3957,-82.6293,-82.7855, -82.8638,-82.8999,-82.8436,-82.7547, -82.682,-82.6029,-82.4839,-82.3901, -82.3031,-82.1984,-82.0598,-81.8678, -81.7432,-81.6464,-81.6301,-81.6233, -81.4317,-81.3035,-81.1753,-80.9815, -80.7859,-80.6543,-80.5245,-80.3938, -80.2621,-80.131,-79.933,-79.8012, -79.6687,-79.4704,-79.3374,-79.205, -79.0719,-78.8733,-78.7404,-78.608, -78.3424,-78.0777,-77.8144,-77.6164, -77.3511,-77.0876,-76.8902,-76.6929, -76.4319,-76.236,-75.9107,-75.5858, -75.328,-75.0705,-75.0066,-75.074)
FOOTPRINT_POINT_LONGITUDE = (232.307,231.076,230.414,229.414, 228.658,227.982,227.303,226.363,225.677 ,224.986,224.292,223.331,223.244, 223.046,223.169,223.272,223.38,223.463, 223.549,223.672,223.833,224.042,224.191 ,224.345,224.552,224.728,224.821, 224.916,225.012,225.165,225.272,225.382 ,225.553,225.674,225.863,225.996, 226.132,226.273,226.419,226.571,226.729 ,226.893,227.064,227.243,227.524, 227.723,228.038,228.26,228.375,228.429, 230.19,232.583,234.28,235.939,238.16, 239.727,241.068,242.562,244.371,246.625 ,247.961,248.937,249.098,249.144, 248.201,247.599,247.018,246.181,245.382 ,244.87,244.376,243.898,243.433,242.984 ,242.333,241.917,241.511,240.927,240.55 ,240.185,239.829,239.316,238.984, 238.663,238.044,237.458,236.903,236.505 ,235.996,235.512,235.165,234.829, 234.401,234.093,233.601,233.137,232.784 ,232.445,232.363,232.307)
ORBIT_NUMBER = 6952
ORBITAL_ECCENTRICITY = 0.576
ORBITAL_INCLINATION = 86.76
ORBITAL_SEMIMAJOR_AXIS = 8737.68
PERIAPSIS_ALTITUDE = 315.34
PERIAPSIS_ARGUMENT_ANGLE = 218.32
PERIAPSIS_TIME = 2009-06-03T04:32:45.000Z
SPACECRAFT_ORIENTATION = (0.0,-1.0,0.0)
^MEX_ORIENTATION_DESC = "MEX_ORIENTATION_DESC.TXT"
SPACECRAFT_POINTING_MODE = NADIR
^MEX_POINTING_DESC = "MEX_POINTING_DESC.TXT"
RIGHT_ASCENSION = -1e+32
DECLINATION = -1e+32
OFFSET_ANGLE = -1e+32
SPACECRAFT_SOLAR_DISTANCE = 2.08586e+08
TARGET_NAME = MARS
/* CAMERA DATA ELEMENTS */
DETECTOR_TEMPERATURE = 18.7783
FOCAL_PLANE_TEMPERATURE = 8.9911
INST_CMPRS_NAME = "DISCRETE COSINE TRANSFORMATION (DCT)"
INST_CMPRS_RATIO = 35.3391
INST_CMPRS_QUALITY = 0
INST_CMPRS_QUANTZ_TBL_ID = 0
INSTRUMENT_TEMPERATURE = 11.234
LENS_TEMPERATURE = 9.3989
MACROPIXEL_SIZE = 4
MISSING_FRAMES = 0
PIXEL_SUBSAMPLING_FLAG = N
SIGNAL_CHAIN_ID = 2
/* RADIOMETRIC DATA ELEMENTS */
BANDWIDTH = 48.0
CENTER_FILTER_WAVELENGTH = 748.0
RADIANCE_OFFSET = 0.630053
RADIANCE_SCALING_FACTOR = 0.00214852
REFLECTANCE_SCALING_FACTOR = 0.000213324
MEX:REFLECTANCE_OFFSET = 0.0625572
/* IMAGE OBJECT DEFINITIONS */
OBJECT = IMAGE
  INTERCHANGE_FORMAT = BINARY
  LINES = 4631
  LINE_SAMPLES = 2651
  SAMPLE_TYPE = UNSIGNED_INTEGER
  SAMPLE_BITS = 8
  BANDS = 1
  BAND_STORAGE_TYPE = BAND_SEQUENTIAL
  MAXIMUM = 255
  MEAN = 146.459
  MINIMUM = 1
  STANDARD_DEVIATION = 47.3177
END_OBJECT = IMAGE
/* MAP OBJECT DEFINITIONS */
OBJECT = IMAGE_MAP_PROJECTION
  ^DATA_SET_MAP_PROJECTION_CATALOG= "DSMAP.CAT"
  A_AXIS_RADIUS = 3396.0
  B_AXIS_RADIUS = 3396.0
  C_AXIS_RADIUS = 3396.0
  CENTER_LATITUDE = 0.0
  CENTER_LONGITUDE = 232.0
  COORDINATE_SYSTEM_NAME = PLANETOGRAPHIC
  COORDINATE_SYSTEM_TYPE = "BODY-FIXED ROTATING"
  EASTERNMOST_LONGITUDE = 249.144
  FIRST_STANDARD_PARALLEL = "N/A"
  LINE_FIRST_PIXEL = 1
  LINE_LAST_PIXEL = 4631
  LINE_PROJECTION_OFFSET = -44459.125
  MAP_PROJECTION_ROTATION = 0.0
  MAP_PROJECTION_TYPE = SINUSOIDAL
  MAP_RESOLUTION = 592.713803866667
  MAP_SCALE = 0.1
  MAXIMUM_LATITUDE = -75.00660000000001
  MINIMUM_LATITUDE = -82.8999
  POSITIVE_LONGITUDE_DIRECTION = EAST
  REFERENCE_LATITUDE = "N/A"
  REFERENCE_LONGITUDE = "N/A"
  SAMPLE_FIRST_PIXEL = 1
  SAMPLE_LAST_PIXEL = 2651
  SAMPLE_PROJECTION_OFFSET = 1259.125
  SECOND_STANDARD_PARALLEL = "N/A"
  WESTERNMOST_LONGITUDE = 223.046
END_OBJECT = IMAGE_MAP_PROJECTION
END
