PDS_VERSION_ID = PDS3
/* FILE DATA ELEMENTS */
RECORD_TYPE = UNDEFINED
/* POINTERS TO DATA OBJECTS */
^IMAGE = ("H6952_0000_P14.TIF")
/* IDENTIFICATION DATA ELEMENTS */
DATA_SET_ID = "MEX-M-HRSC-4-REFDR-MAPPROJECT-EXT3-V4.0"
DATA_SET_NAME = "MARS EXPRESS HRSC MAP PROJECTED REFDR EXTENSION3 V4.0"
DETECTOR_ID = MEX_HRSC_P1
EVENT_TYPE = "MARS-REGIONAL-MAPPING-Im-Gl-La"
INSTRUMENT_HOST_ID = MEX
INSTRUMENT_HOST_NAME = "MARS EXPRESS"
INSTRUMENT_ID = HRSC
INSTRUMENT_NAME = "HIGH RESOLUTION STEREO CAMERA"
MISSION_NAME = "MARS EXPRESS"
MISSION_PHASE_NAME = ME_Phase_17
PROCESSING_LEVEL_ID = 4
PRODUCT_CREATION_TIME = 2023-02-01T06:41:01.000Z
PRODUCT_ID = "H6952_0000_P14.TIF"
RELEASE_ID = 0001
REVISION_ID = 0000
/* QUALITY DATA ELEMENTS */
DATA_QUALITY_ID = 1
DATA_QUALITY_DESC = "Data calculated based on original SPICE kernels"
/* TIME DATA ELEMENTS */
SPACECRAFT_CLOCK_START_COUNT = "1/0192084100.08236"
SPACECRAFT_CLOCK_STOP_COUNT = "1/0192084401.46529"
START_TIME = 2009-06-03T04:42:01.442Z
STOP_TIME = 2009-06-03T04:44:06.723Z
/* ORBITAL DATA ELEMENTS */
ASCENDING_NODE_LONGITUDE = 85.04
MAXIMUM_RESOLUTION = 0.0484
FOOTPRINT_POINT_LATITUDE = (-74.9589,-75.0171,-75.0541,-75.0897, -75.1322,-75.1803,-75.2359,-75.2635, -75.3114,-75.3515,-75.3542,-75.4254, -75.6954,-75.9674,-76.3784,-76.7237, -76.9326,-77.2117,-77.4218,-77.7047, -77.9172,-78.2033,-78.3466,-78.5623, -78.7075,-78.8528,-78.9982,-79.1444, -79.2916,-79.4382,-79.6597,-79.808, -79.9561,-80.1042,-80.2545,-80.4041, -80.5534,-80.7795,-80.9308,-81.0819, -81.2344,-81.3872,-81.5398,-81.6933, -81.8475,-82.0013,-82.2338,-82.3892, -82.6223,-82.7008,-82.7699,-82.7232, -82.6656,-82.571,-82.5027,-82.4209, -82.294,-82.2107,-82.1238,-81.9984, -81.9152,-81.779,-81.7663,-81.761, -81.6282,-81.4289,-81.295,-81.1602, -81.0264,-80.8242,-80.6216,-80.4863, -80.2824,-80.1472,-80.0114,-79.8748, -79.7397,-79.536,-79.3996,-79.2645, -79.0609,-78.8571,-78.7222,-78.5868, -78.4499,-78.3149,-78.1803,-77.9131, -77.644,-77.441,-77.175,-76.8413, -76.577,-76.3116,-76.0492,-75.7858, -75.3963,-75.1361,-75.0718,-74.9589)
FOOTPRINT_POINT_LONGITUDE = (231.52,230.649,230.065,229.479,228.743 ,227.854,226.736,226.137,225.007, 223.945,223.869,223.758,223.879,224.008 ,224.211,224.392,224.506,224.666, 224.792,224.968,225.104,225.298,225.398 ,225.554,225.663,225.774,225.887, 226.006,226.128,226.254,226.45,226.587, 226.729,226.874,227.026,227.183,227.346 ,227.602,227.78,227.964,228.157,228.357 ,228.564,228.781,229.007,229.243, 229.616,229.878,230.295,230.441,230.572 ,231.856,233.31,235.447,236.838,238.374 ,240.533,241.829,243.098,244.797, 245.851,247.467,247.611,247.66,247.044, 246.162,245.598,245.049,244.526,243.773 ,243.053,242.594,241.93,241.508,241.097 ,240.697,240.313,239.757,239.399, 239.054,238.552,238.071,237.764,237.464 ,237.165,236.881,236.605,236.088,235.58 ,235.212,234.756,234.211,233.801, 233.406,233.033,232.673,232.17,231.849, 231.772,231.52)
ORBIT_NUMBER = 6952
ORBITAL_ECCENTRICITY = 0.576
ORBITAL_INCLINATION = 86.76
ORBITAL_SEMIMAJOR_AXIS = 8737.68
PERIAPSIS_ALTITUDE = 315.34
PERIAPSIS_ARGUMENT_ANGLE = 218.32
PERIAPSIS_TIME = 2009-06-03T04:32:45.000Z
SPACECRAFT_ORIENTATION = (0.0,-1.0,0.0)
^MEX_ORIENTATION_DESC = "MEX_ORIENTATION_DESC.TXT"
SPACECRAFT_POINTING_MODE = NADIR
^MEX_POINTING_DESC = "MEX_POINTING_DESC.TXT"
RIGHT_ASCENSION = -1e+32
DECLINATION = -1e+32
OFFSET_ANGLE = -1e+32
SPACECRAFT_SOLAR_DISTANCE = 2.08586e+08
TARGET_NAME = MARS
/* CAMERA DATA ELEMENTS */
DETECTOR_TEMPERATURE = 17.5549
FOCAL_PLANE_TEMPERATURE = 8.9911
INST_CMPRS_NAME = "DISCRETE COSINE TRANSFORMATION (DCT)"
INST_CMPRS_RATIO = 21.4788
INST_CMPRS_QUALITY = 0
INST_CMPRS_QUANTZ_TBL_ID = 0
INSTRUMENT_TEMPERATURE = 11.234
LENS_TEMPERATURE = 9.3989
MACROPIXEL_SIZE = 2
MISSING_FRAMES = 0
PIXEL_SUBSAMPLING_FLAG = N
SIGNAL_CHAIN_ID = 3
/* RADIOMETRIC DATA ELEMENTS */
BANDWIDTH = 174.0
CENTER_FILTER_WAVELENGTH = 675.0
RADIANCE_OFFSET = 2.63165
RADIANCE_SCALING_FACTOR = 0.00739356
REFLECTANCE_SCALING_FACTOR = 0.000173027
MEX:REFLECTANCE_OFFSET = 0.0615867
/* IMAGE OBJECT DEFINITIONS */
OBJECT = IMAGE
  INTERCHANGE_FORMAT = BINARY
  LINES = 9262
  LINE_SAMPLES = 5302
  SAMPLE_TYPE = UNSIGNED_INTEGER
  SAMPLE_BITS = 8
  BANDS = 1
  BAND_STORAGE_TYPE = BAND_SEQUENTIAL
  MAXIMUM = 255
  MEAN = 140.498
  MINIMUM = 1
  STANDARD_DEVIATION = 45.2222
END_OBJECT = IMAGE
/* MAP OBJECT DEFINITIONS */
OBJECT = IMAGE_MAP_PROJECTION
  ^DATA_SET_MAP_PROJECTION_CATALOG= "DSMAP.CAT"
  A_AXIS_RADIUS = 3396.0
  B_AXIS_RADIUS = 3396.0
  C_AXIS_RADIUS = 3396.0
  CENTER_LATITUDE = 0.0
  CENTER_LONGITUDE = 232.0
  COORDINATE_SYSTEM_NAME = PLANETOGRAPHIC
  COORDINATE_SYSTEM_TYPE = "BODY-FIXED ROTATING"
  EASTERNMOST_LONGITUDE = 247.66
  FIRST_STANDARD_PARALLEL = "N/A"
  LINE_FIRST_PIXEL = 1
  LINE_LAST_PIXEL = 9262
  LINE_PROJECTION_OFFSET = -88917.75
  MAP_PROJECTION_ROTATION = 0.0
  MAP_PROJECTION_TYPE = SINUSOIDAL
  MAP_RESOLUTION = 1185.42760773333
  MAP_SCALE = 0.05
  MAXIMUM_LATITUDE = -74.9589
  MINIMUM_LATITUDE = -82.76990000000001
  POSITIVE_LONGITUDE_DIRECTION = EAST
  REFERENCE_LATITUDE = "N/A"
  REFERENCE_LONGITUDE = "N/A"
  SAMPLE_FIRST_PIXEL = 1
  SAMPLE_LAST_PIXEL = 5302
  SAMPLE_PROJECTION_OFFSET = 2518.75
  SECOND_STANDARD_PARALLEL = "N/A"
  WESTERNMOST_LONGITUDE = 223.758
END_OBJECT = IMAGE_MAP_PROJECTION
END
