PDS_VERSION_ID = PDS3
/* FILE DATA ELEMENTS */
RECORD_TYPE = UNDEFINED
/* POINTERS TO DATA OBJECTS */
^IMAGE = ("H6950_0000_P14.TIF")
/* IDENTIFICATION DATA ELEMENTS */
DATA_SET_ID = "MEX-M-HRSC-4-REFDR-MAPPROJECT-EXT3-V4.0"
DATA_SET_NAME = "MARS EXPRESS HRSC MAP PROJECTED REFDR EXTENSION3 V4.0"
DETECTOR_ID = MEX_HRSC_P1
EVENT_TYPE = "MARS-REGIONAL-MAPPING-Gl-La"
INSTRUMENT_HOST_ID = MEX
INSTRUMENT_HOST_NAME = "MARS EXPRESS"
INSTRUMENT_ID = HRSC
INSTRUMENT_NAME = "HIGH RESOLUTION STEREO CAMERA"
MISSION_NAME = "MARS EXPRESS"
MISSION_PHASE_NAME = ME_Phase_17
PROCESSING_LEVEL_ID = 4
PRODUCT_CREATION_TIME = 2023-02-01T06:41:01.000Z
PRODUCT_ID = "H6950_0000_P14.TIF"
RELEASE_ID = 0001
REVISION_ID = 0000
/* QUALITY DATA ELEMENTS */
DATA_QUALITY_ID = 1
DATA_QUALITY_DESC = "Data calculated based on original SPICE kernels"
/* TIME DATA ELEMENTS */
SPACECRAFT_CLOCK_START_COUNT = "1/0192034452.08251"
SPACECRAFT_CLOCK_STOP_COUNT = "1/0192034788.09704"
START_TIME = 2009-06-02T14:54:33.221Z
STOP_TIME = 2009-06-02T14:57:06.912Z
/* ORBITAL DATA ELEMENTS */
ASCENDING_NODE_LONGITUDE = 85.08
MAXIMUM_RESOLUTION = 0.0474
FOOTPRINT_POINT_LATITUDE = (-74.7256,-74.7812,-74.8506,-74.8913, -74.9373,-75.017,-75.063,-75.1015, -75.1041,-75.1736,-75.5806,-75.825, -76.3243,-76.6578,-76.9968,-77.3401, -77.7702,-78.0305,-78.3769,-78.5526, -78.7282,-78.9036,-79.081,-79.2587, -79.4361,-79.6154,-79.7951,-79.9742, -80.1551,-80.3366,-80.5175,-80.7039, -80.9755,-81.1599,-81.3443,-81.5288, -81.7152,-81.9019,-82.088,-82.2762, -82.4635,-82.7478,-82.937,-83.127, -83.3185,-83.5087,-83.7012,-83.9893, -84.0859,-84.1451,-84.0065,-83.9186, -83.758,-83.6533,-83.5555,-83.4273, -83.2249,-83.1106,-82.9307,-82.9154, -82.9092,-82.7556,-82.5237,-82.3665, -82.2093,-82.05,-81.89,-81.7294, -81.5672,-81.3242,-81.1603,-80.9973, -80.7508,-80.5868,-80.4222,-80.2568, -80.0925,-79.927,-79.6791,-79.5146, -79.3487,-79.1846,-79.0197,-78.7723, -78.6085,-78.3608,-78.1155,-77.951, -77.6246,-77.3805,-77.1381,-76.8117, -76.5684,-76.2488,-75.8521,-75.534, -75.2244,-74.9084,-74.8283,-74.7256)
FOOTPRINT_POINT_LONGITUDE = (72.7892,71.945,70.812,70.0988,69.2387, 67.578,66.485,65.4584,65.3849,65.2772, 65.4575,65.5746,65.8147,65.9876,66.1722 ,66.3625,66.6235,66.7919,67.0309, 67.1573,67.288,67.423,67.564,67.7103, 67.8615,68.0193,68.1838,68.3545,68.5336 ,68.7198,68.9135,69.1121,69.4381, 69.6647,69.9044,70.1536,70.4171,70.693, 70.9836,71.2913,71.6149,72.1355,72.5073 ,72.9034,73.3226,73.7696,74.2471,75.023 ,75.3013,75.4767,79.074,81.0262,84.1476 ,85.9436,87.4911,89.3648,92.0628, 93.4347,95.3972,95.5567,95.6091,94.5671 ,93.1068,92.1849,91.3114,90.4705, 89.6682,88.9035,88.1674,87.1286,86.4665 ,85.8372,84.938,84.3697,83.8229,83.2955 ,82.7916,82.3033,81.6049,81.1659, 80.7364,80.3275,79.93,79.3587,78.9967, 78.4693,77.9715,77.6492,77.0409,76.6107 ,76.2014,75.6695,75.2902,74.8272, 74.2823,73.8665,73.4936,73.1154,73.0185 ,72.7892)
ORBIT_NUMBER = 6950
ORBITAL_ECCENTRICITY = 0.576
ORBITAL_INCLINATION = 86.78
ORBITAL_SEMIMAJOR_AXIS = 8738.16
PERIAPSIS_ALTITUDE = 314.53
PERIAPSIS_ARGUMENT_ANGLE = 218.7
PERIAPSIS_TIME = 2009-06-02T14:45:27.000Z
SPACECRAFT_ORIENTATION = (0.0,-1.0,0.0)
^MEX_ORIENTATION_DESC = "MEX_ORIENTATION_DESC.TXT"
SPACECRAFT_POINTING_MODE = NADIR
^MEX_POINTING_DESC = "MEX_POINTING_DESC.TXT"
RIGHT_ASCENSION = -1e+32
DECLINATION = -1e+32
OFFSET_ANGLE = -1e+32
SPACECRAFT_SOLAR_DISTANCE = 2.08536e+08
TARGET_NAME = MARS
/* CAMERA DATA ELEMENTS */
DETECTOR_TEMPERATURE = 17.351
FOCAL_PLANE_TEMPERATURE = 8.7872
INST_CMPRS_NAME = "DISCRETE COSINE TRANSFORMATION (DCT)"
INST_CMPRS_RATIO = 20.487
INST_CMPRS_QUALITY = 0
INST_CMPRS_QUANTZ_TBL_ID = 0
INSTRUMENT_TEMPERATURE = 11.234
LENS_TEMPERATURE = 8.9911
MACROPIXEL_SIZE = 2
MISSING_FRAMES = 0
PIXEL_SUBSAMPLING_FLAG = N
SIGNAL_CHAIN_ID = 3
/* RADIOMETRIC DATA ELEMENTS */
BANDWIDTH = 174.0
CENTER_FILTER_WAVELENGTH = 675.0
RADIANCE_OFFSET = 2.95834
RADIANCE_SCALING_FACTOR = 0.0152565
REFLECTANCE_SCALING_FACTOR = 0.000356865
MEX:REFLECTANCE_OFFSET = 0.0691984
/* IMAGE OBJECT DEFINITIONS */
OBJECT = IMAGE
  INTERCHANGE_FORMAT = BINARY
  LINES = 11168
  LINE_SAMPLES = 5993
  SAMPLE_TYPE = UNSIGNED_INTEGER
  SAMPLE_BITS = 8
  BANDS = 1
  BAND_STORAGE_TYPE = BAND_SEQUENTIAL
  MAXIMUM = 255
  MEAN = 66.2878
  MINIMUM = 1
  STANDARD_DEVIATION = 23.9516
END_OBJECT = IMAGE
/* MAP OBJECT DEFINITIONS */
OBJECT = IMAGE_MAP_PROJECTION
  ^DATA_SET_MAP_PROJECTION_CATALOG= "DSMAP.CAT"
  A_AXIS_RADIUS = 3396.0
  B_AXIS_RADIUS = 3396.0
  C_AXIS_RADIUS = 3396.0
  CENTER_LATITUDE = 0.0
  CENTER_LONGITUDE = 74.0
  COORDINATE_SYSTEM_NAME = PLANETOGRAPHIC
  COORDINATE_SYSTEM_TYPE = "BODY-FIXED ROTATING"
  EASTERNMOST_LONGITUDE = 95.6091
  FIRST_STANDARD_PARALLEL = "N/A"
  LINE_FIRST_PIXEL = 1
  LINE_LAST_PIXEL = 11168
  LINE_PROJECTION_OFFSET = -88635.25
  MAP_PROJECTION_ROTATION = 0.0
  MAP_PROJECTION_TYPE = SINUSOIDAL
  MAP_RESOLUTION = 1185.42760773333
  MAP_SCALE = 0.05
  MAXIMUM_LATITUDE = -74.7256
  MINIMUM_LATITUDE = -84.1451
  POSITIVE_LONGITUDE_DIRECTION = EAST
  REFERENCE_LATITUDE = "N/A"
  REFERENCE_LONGITUDE = "N/A"
  SAMPLE_FIRST_PIXEL = 1
  SAMPLE_LAST_PIXEL = 5993
  SAMPLE_PROJECTION_OFFSET = 2705.25
  SECOND_STANDARD_PARALLEL = "N/A"
  WESTERNMOST_LONGITUDE = 65.27719999999999
END_OBJECT = IMAGE_MAP_PROJECTION
END
