PDS_VERSION_ID = PDS3
/* FILE DATA ELEMENTS */
RECORD_TYPE = UNDEFINED
/* POINTERS TO DATA OBJECTS */
^IMAGE = ("H6941_0000_RE4.TIF")
/* IDENTIFICATION DATA ELEMENTS */
DATA_SET_ID = "MEX-M-HRSC-4-REFDR-MAPPROJECT-EXT3-V4.0"
DATA_SET_NAME = "MARS EXPRESS HRSC MAP PROJECTED REFDR EXTENSION3 V4.0"
DETECTOR_ID = MEX_HRSC_RED
EVENT_TYPE = "MARS-REGIONAL-MAPPING-Im-Gl-Pf"
INSTRUMENT_HOST_ID = MEX
INSTRUMENT_HOST_NAME = "MARS EXPRESS"
INSTRUMENT_ID = HRSC
INSTRUMENT_NAME = "HIGH RESOLUTION STEREO CAMERA"
MISSION_NAME = "MARS EXPRESS"
MISSION_PHASE_NAME = ME_Phase_17
PROCESSING_LEVEL_ID = 4
PRODUCT_CREATION_TIME = 2023-02-01T06:41:01.000Z
PRODUCT_ID = "H6941_0000_RE4.TIF"
RELEASE_ID = 0001
REVISION_ID = 0000
/* QUALITY DATA ELEMENTS */
DATA_QUALITY_ID = 1
DATA_QUALITY_DESC = "Data calculated based on original SPICE kernels"
/* TIME DATA ELEMENTS */
SPACECRAFT_CLOCK_START_COUNT = "1/0191811470.09117"
SPACECRAFT_CLOCK_STOP_COUNT = "1/0191812344.14578"
START_TIME = 2009-05-31T01:03:04.866Z
STOP_TIME = 2009-05-31T01:10:18.384Z
/* ORBITAL DATA ELEMENTS */
ASCENDING_NODE_LONGITUDE = 85.25
MAXIMUM_RESOLUTION = 0.1228
FOOTPRINT_POINT_LATITUDE = (-77.1857,-77.3932,-77.5321,-77.6608, -77.7934,-77.9,-77.9958,-78.0807, -78.1544,-78.2168,-78.2676,-78.3068, -78.339,-78.3412,-78.4597,-78.189, -77.7828,-77.5115,-77.2459,-76.9834, -76.7234,-76.3338,-76.0772,-75.8215, -75.5678,-75.3145,-75.0622,-74.8176, -74.3276,-73.8419,-73.5945,-73.1245, -72.5427,-72.0816,-71.6227,-71.1763, -70.7335,-70.294,-69.8625,-69.4368, -69.0173,-68.6016,-68.1918,-67.7867, -67.3868,-66.991,-66.8931,-66.8807, -66.9182,-66.936,-66.9507,-66.966, -66.974,-66.9784,-66.9817,-66.9807, -66.9706,-66.9591,-66.9369,-66.9045, -66.8815,-66.8567,-66.8214,-66.7666, -66.7136,-66.6426,-66.5752,-66.5634, -66.5596,-66.9222,-67.2911,-67.6634, -67.9467,-68.3291,-68.7156,-69.1083, -69.5065,-69.911,-70.426,-70.8422, -71.264,-71.7997,-72.2315,-72.6721, -73.1196,-73.5751,-74.0331,-74.497, -74.9662,-75.2022,-75.4391,-75.6781, -75.918,-76.1585,-76.4001,-76.6439, -76.8881,-77.1331,-77.2559,-77.1857)
FOOTPRINT_POINT_LONGITUDE = (35.3243,37.6265,39.3384,41.0796, 43.0767,44.8828,46.7157,48.5717,50.4513 ,52.3504,54.2703,56.2072,58.6503, 58.8957,59.1497,59.3404,59.6043,59.7659 ,59.9259,60.0807,60.23,60.4385,60.5719, 60.6991,60.8218,60.9383,61.0496,61.1651 ,61.3772,61.5729,61.657,61.8433,62.058, 62.2161,62.3613,62.5075,62.6443,62.772, 62.8971,63.0174,63.134,63.2446,63.3519, 63.4551,63.555,63.6509,63.6748,63.6778, 62.3643,61.6103,60.8568,59.9164,59.1637 ,58.4114,57.4731,56.7225,55.4093, 54.4728,53.162,51.8527,51.1061,50.3598, 49.4287,48.1272,47.0115,45.7125,44.6, 44.4147,44.3479,44.2114,44.0641,43.9099 ,43.7863,43.6116,43.4272,43.2283, 43.0153,42.7853,42.471,42.203,41.9148, 41.5221,41.1879,40.8186,40.416,39.9725, 39.5005,38.9854,38.4242,38.1267,37.8169 ,37.4895,37.1482,36.7927,36.4204, 36.0253,35.6138,35.1821,34.9582, 35.3243)
ORBIT_NUMBER = 6941
ORBITAL_ECCENTRICITY = 0.576
ORBITAL_INCLINATION = 86.77
ORBITAL_SEMIMAJOR_AXIS = 8737.46
PERIAPSIS_ALTITUDE = 314.43
PERIAPSIS_ARGUMENT_ANGLE = 220.26
PERIAPSIS_TIME = 2009-05-31T00:42:11.000Z
SPACECRAFT_ORIENTATION = (0.0,-1.0,0.0)
^MEX_ORIENTATION_DESC = "MEX_ORIENTATION_DESC.TXT"
SPACECRAFT_POINTING_MODE = ACROSSTRACK
^MEX_POINTING_DESC = "MEX_POINTING_DESC.TXT"
RIGHT_ASCENSION = -1e+32
DECLINATION = -1e+32
OFFSET_ANGLE = 0.2
SPACECRAFT_SOLAR_DISTANCE = 2.08315e+08
TARGET_NAME = MARS
/* CAMERA DATA ELEMENTS */
DETECTOR_TEMPERATURE = 18.9822
FOCAL_PLANE_TEMPERATURE = 8.9911
INST_CMPRS_NAME = "DISCRETE COSINE TRANSFORMATION (DCT)"
INST_CMPRS_RATIO = 10.2468
INST_CMPRS_QUALITY = 0
INST_CMPRS_QUANTZ_TBL_ID = 0
INSTRUMENT_TEMPERATURE = 11.4379
LENS_TEMPERATURE = 9.3989
MACROPIXEL_SIZE = 2
MISSING_FRAMES = 0
PIXEL_SUBSAMPLING_FLAG = N
SIGNAL_CHAIN_ID = 3
/* RADIOMETRIC DATA ELEMENTS */
BANDWIDTH = 48.0
CENTER_FILTER_WAVELENGTH = 748.0
RADIANCE_OFFSET = 1.08396
RADIANCE_SCALING_FACTOR = 0.00602197
REFLECTANCE_SCALING_FACTOR = 0.000596368
MEX:REFLECTANCE_OFFSET = 0.107346
/* IMAGE OBJECT DEFINITIONS */
OBJECT = IMAGE
  INTERCHANGE_FORMAT = BINARY
  LINES = 7128
  LINE_SAMPLES = 4038
  SAMPLE_TYPE = UNSIGNED_INTEGER
  SAMPLE_BITS = 8
  BANDS = 1
  BAND_STORAGE_TYPE = BAND_SEQUENTIAL
  MAXIMUM = 255
  MEAN = 99.8708
  MINIMUM = 1
  STANDARD_DEVIATION = 31.6914
END_OBJECT = IMAGE
/* MAP OBJECT DEFINITIONS */
OBJECT = IMAGE_MAP_PROJECTION
  ^DATA_SET_MAP_PROJECTION_CATALOG= "DSMAP.CAT"
  A_AXIS_RADIUS = 3396.0
  B_AXIS_RADIUS = 3396.0
  C_AXIS_RADIUS = 3396.0
  CENTER_LATITUDE = 0.0
  CENTER_LONGITUDE = 51.0
  COORDINATE_SYSTEM_NAME = PLANETOGRAPHIC
  COORDINATE_SYSTEM_TYPE = "BODY-FIXED ROTATING"
  EASTERNMOST_LONGITUDE = 63.6778
  FIRST_STANDARD_PARALLEL = "N/A"
  LINE_FIRST_PIXEL = 1
  LINE_LAST_PIXEL = 7128
  LINE_PROJECTION_OFFSET = -39408.75
  MAP_PROJECTION_ROTATION = 0.0
  MAP_PROJECTION_TYPE = SINUSOIDAL
  MAP_RESOLUTION = 592.713803866667
  MAP_SCALE = 0.1
  MAXIMUM_LATITUDE = -66.5596
  MINIMUM_LATITUDE = -78.4597
  POSITIVE_LONGITUDE_DIRECTION = EAST
  REFERENCE_LATITUDE = "N/A"
  REFERENCE_LONGITUDE = "N/A"
  SAMPLE_FIRST_PIXEL = 1
  SAMPLE_LAST_PIXEL = 4038
  SAMPLE_PROJECTION_OFFSET = 1859.25
  SECOND_STANDARD_PARALLEL = "N/A"
  WESTERNMOST_LONGITUDE = 34.9582
END_OBJECT = IMAGE_MAP_PROJECTION
END
